Workbook

Sheet 내역서
A1: 내역서
K2: 태현개발주식회사. http://taehyeon.co.kr
A3: 공 종 명 | B3: 규 격 | C3: 수량 | D3: 단위 | E3: 재 료 비 | G3: 노 무 비 | I3: 경 비 | K3: 합 계 | M3: 비 고
E4: 단 가 | F4: 금 액 | G4: 단 가 | H4: 금 액 | I4: 단 가 | J4: 금 액 | K4: 단 가 | L4: 금 액 | S4: 할 증 | T4: 화폐변환 | U4: OP값 | V4: EQ | W4: LA | X4: MA | Y4: 금액계상
A5: 2015년도 상반기 적용 중기사용료 | C5: 1 | F5: =TRUNC(SUM(Z5:Z28),0) -> 33411763 | H5: =TRUNC(SUM(AA5:AA28),0) -> 14418068 | J5: =TRUNC(SUM(AB5:AB28),0) -> 33404183 | L5: =F5+H5+J5 -> 81234014 | O5: A0 | Z5: =F6+F7+F8+F9+F10+F11+F12+F13+F14+F15+F16+F17+F18+F19+F20+F21+F22+F23+F24+F25+F26+F27+F28+F29+F30+F31+F32+F33+F34+F35+F36+F37+F38+F39+F40+F41+F42+F43 -> 655981 | AA5: =H6+H7+H8+H9+H10+H11+H12+H13+H14+H15+H16+H17+H18+H19+H20+H21+H22+H23+H24+H25+H26+H27+H28+H29+H30+H31+H32+H33+H34+H35+H36+H37+H38+H39+H40+H41+H42+H43 -> 643950 | AB5: =J6+J7+J8+J9+J10+J11+J12+J13+J14+J15+J16+J17+J18+J19+J20+J21+J22+J23+J24+J25+J26+J27+J28+J29+J30+J31+J32+J33+J34+J35+J36+J37+J38+J39+J40+J41+J42+J43 -> 610342
A6: 불도저(무한궤도) | B6: 7 TON | C6: 1 | D6: HR | E6: =중기사용료목록!E4 -> 12768 | F6: =TRUNC(E6*C6,0) -> 12768 | G6: =중기사용료목록!F4 -> 25758 | H6: =TRUNC(G6*C6,0) -> 25758 | I6: =중기사용료목록!G4 -> 9958 | J6: =TRUNC(I6*C6,0) -> 9958 | K6: =E6+G6+I6 -> 48484 | L6: =F6+H6+J6 -> 48484 | P6: 10 | R6: E0001010007 | Z6: =F44+F45+F46+F47+F48+F49+F50+F51+F52+F53+F54+F55+F56+F57+F58+F59+F60+F61+F62+F63+F64+F65+F66+F67+F68+F69+F70+F71+F72+F73+F74+F75+F76+F77+F78+F79+F80 -> 741897 | AA6: =H44+H45+H46+H47+H48+H49+H50+H51+H52+H53+H54+H55+H56+H57+H58+H59+H60+H61+H62+H63+H64+H65+H66+H67+H68+H69+H70+H71+H72+H73+H74+H75+H76+H77+H78+H79+H80 -> 738767 | AB6: =J44+J45+J46+J47+J48+J49+J50+J51+J52+J53+J54+J55+J56+J57+J58+J59+J60+J61+J62+J63+J64+J65+J66+J67+J68+J69+J70+J71+J72+J73+J74+J75+J76+J77+J78+J79+J80 -> 833851
A7: 불도저(무한궤도) | B7: 10 TON | C7: 1 | D7: HR | E7: =중기사용료목록!E5 -> 17733 | F7: =TRUNC(E7*C7,0) -> 17733 | G7: =중기사용료목록!F5 -> 25758 | H7: =TRUNC(G7*C7,0) -> 25758 | I7: =중기사용료목록!G5 -> 21235 | J7: =TRUNC(I7*C7,0) -> 21235 | K7: =E7+G7+I7 -> 64726 | L7: =F7+H7+J7 -> 64726 | P7: 20 | R7: E0001010010 | Z7: =F81+F82+F83+F84+F85+F86+F87+F88+F89+F90+F91+F92+F93+F94+F95+F96+F97+F98+F99+F100+F101+F102+F103+F104+F105+F106+F107+F108+F109+F110+F111+F112+F113+F114 -> 354559 | AA7: =H81+H82+H83+H84+H85+H86+H87+H88+H89+H90+H91+H92+H93+H94+H95+H96+H97+H98+H99+H100+H101+H102+H103+H104+H105+H106+H107+H108+H109+H110+H111+H112+H113+H114 -> 566676 | AB7: =J81+J82+J83+J84+J85+J86+J87+J88+J89+J90+J91+J92+J93+J94+J95+J96+J97+J98+J99+J100+J101+J102+J103+J104+J105+J106+J107+J108+J109+J110+J111+J112+J113+J114 -> 360590
A8: 불도저(무한궤도) | B8: 12 TON | C8: 1 | D8: HR | E8: =중기사용료목록!E6 -> 20712 | F8: =TRUNC(E8*C8,0) -> 20712 | G8: =중기사용료목록!F6 -> 25758 | H8: =TRUNC(G8*C8,0) -> 25758 | I8: =중기사용료목록!G6 -> 25050 | J8: =TRUNC(I8*C8,0) -> 25050 | K8: =E8+G8+I8 -> 71520 | L8: =F8+H8+J8 -> 71520 | P8: 30 | R8: E0001010012 | Z8: =F115+F116+F117+F118+F119+F120+F121+F122+F123+F124+F125+F126+F127+F128+F129+F130+F131+F132+F133+F134+F135+F136+F137+F138+F139+F140+F141+F142+F143+F144 -> 344769 | AA8: =H115+H116+H117+H118+H119+H120+H121+H122+H123+H124+H125+H126+H127+H128+H129+H130+H131+H132+H133+H134+H135+H136+H137+H138+H139+H140+H141+H142+H143+H144 -> 283338 | AB8: =J115+J116+J117+J118+J119+J120+J121+J122+J123+J124+J125+J126+J127+J128+J129+J130+J131+J132+J133+J134+J135+J136+J137+J138+J139+J140+J141+J142+J143+J144 -> 518485
A9: 불도저(무한궤도) | B9: 19 TON | C9: 1 | D9: HR | E9: =중기사용료목록!E7 -> 35467 | F9: =TRUNC(E9*C9,0) -> 35467 | G9: =중기사용료목록!F7 -> 25758 | H9: =TRUNC(G9*C9,0) -> 25758 | I9: =중기사용료목록!G7 -> 25599 | J9: =TRUNC(I9*C9,0) -> 25599 | K9: =E9+G9+I9 -> 86824 | L9: =F9+H9+J9 -> 86824 | P9: 40 | R9: E0001010019 | Z9: =F145+F146+F147+F148+F149+F150+F151+F152+F153+F154+F155+F156+F157+F158+F159+F160+F161+F162+F163+F164+F165+F166+F167+F168+F169+F170+F171+F172+F173+F174 -> 493690 | AA9: =H145+H146+H147+H148+H149+H150+H151+H152+H153+H154+H155+H156+H157+H158+H159+H160+H161+H162+H163+H164+H165+H166+H167+H168+H169+H170+H171+H172+H173+H174 -> 629258 | AB9: =J145+J146+J147+J148+J149+J150+J151+J152+J153+J154+J155+J156+J157+J158+J159+J160+J161+J162+J163+J164+J165+J166+J167+J168+J169+J170+J171+J172+J173+J174 -> 2156839
A10: 불도저(무한궤도) | B10: 32 TON | C10: 1 | D10: HR | E10: =중기사용료목록!E8 -> 59017 | F10: =TRUNC(E10*C10,0) -> 59017 | G10: =중기사용료목록!F8 -> 25758 | H10: =TRUNC(G10*C10,0) -> 25758 | I10: =중기사용료목록!G8 -> 33999 | J10: =TRUNC(I10*C10,0) -> 33999 | K10: =E10+G10+I10 -> 118774 | L10: =F10+H10+J10 -> 118774 | P10: 50 | R10: E0001010032 | Z10: =F175+F176+F177+F178+F179+F180+F181+F182+F183+F184+F185+F186+F187+F188+F189+F190+F191+F192+F193+F194+F195+F196+F197+F198+F199+F200+F201+F202+F203+F204 -> 393876 | AA10: =H175+H176+H177+H178+H179+H180+H181+H182+H183+H184+H185+H186+H187+H188+H189+H190+H191+H192+H193+H194+H195+H196+H197+H198+H199+H200+H201+H202+H203+H204 -> 402270 | AB10: =J175+J176+J177+J178+J179+J180+J181+J182+J183+J184+J185+J186+J187+J188+J189+J190+J191+J192+J193+J194+J195+J196+J197+J198+J199+J200+J201+J202+J203+J204 -> 2203968
A11: 불도저(타이어) | B11: 15 TON | C11: 1 | D11: HR | E11: =중기사용료목록!E9 -> 35222 | F11: =TRUNC(E11*C11,0) -> 35222 | G11: =중기사용료목록!F9 -> 25758 | H11: =TRUNC(G11*C11,0) -> 25758 | I11: =중기사용료목록!G9 -> 20222 | J11: =TRUNC(I11*C11,0) -> 20222 | K11: =E11+G11+I11 -> 81202 | L11: =F11+H11+J11 -> 81202 | P11: 60 | R11: E0001020015 | Z11: =F205+F206+F207+F208+F209+F210+F211+F212+F213+F214+F215+F216+F217+F218+F219+F220+F221+F222+F223+F224+F225+F226+F227+F228+F229+F230+F231+F232+F233+F234 -> 3791 | AA11: =H205+H206+H207+H208+H209+H210+H211+H212+H213+H214+H215+H216+H217+H218+H219+H220+H221+H222+H223+H224+H225+H226+H227+H228+H229+H230+H231+H232+H233+H234 -> 103032 | AB11: =J205+J206+J207+J208+J209+J210+J211+J212+J213+J214+J215+J216+J217+J218+J219+J220+J221+J222+J223+J224+J225+J226+J227+J228+J229+J230+J231+J232+J233+J234 -> 277258
A12: 불도저(타이어) | B12: 28 TON | C12: 1 | D12: HR | E12: =중기사용료목록!E10 -> 66042 | F12: =TRUNC(E12*C12,0) -> 66042 | G12: =중기사용료목록!F10 -> 25758 | H12: =TRUNC(G12*C12,0) -> 25758 | I12: =중기사용료목록!G10 -> 37367 | J12: =TRUNC(I12*C12,0) -> 37367 | K12: =E12+G12+I12 -> 129167 | L12: =F12+H12+J12 -> 129167 | P12: 70 | R12: E0001020028 | Z12: =F235+F236+F237+F238+F239+F240+F241+F242+F243+F244+F245+F246+F247+F248+F249+F250+F251+F252+F253+F254+F255+F256+F257+F258+F259+F260+F261+F262+F263+F264 -> 3049108 | AA12: =H235+H236+H237+H238+H239+H240+H241+H242+H243+H244+H245+H246+H247+H248+H249+H250+H251+H252+H253+H254+H255+H256+H257+H258+H259+H260+H261+H262+H263+H264 -> 1042169 | AB12: =J235+J236+J237+J238+J239+J240+J241+J242+J243+J244+J245+J246+J247+J248+J249+J250+J251+J252+J253+J254+J255+J256+J257+J258+J259+J260+J261+J262+J263+J264 -> 1989250
A13: 불도저(타이어) | B13: 33 TON | C13: 1 | D13: HR | E13: =중기사용료목록!E11 -> 77782 | F13: =TRUNC(E13*C13,0) -> 77782 | G13: =중기사용료목록!F11 -> 25758 | H13: =TRUNC(G13*C13,0) -> 25758 | I13: =중기사용료목록!G11 -> 47369 | J13: =TRUNC(I13*C13,0) -> 47369 | K13: =E13+G13+I13 -> 150909 | L13: =F13+H13+J13 -> 150909 | P13: 80 | R13: E0001020033 | Z13: =F265+F266+F267+F268+F269+F270+F271+F272+F273+F274+F275+F276+F277+F278+F279+F280+F281+F282+F283+F284+F285+F286+F287+F288+F289+F290+F291+F292+F293+F294 -> 348431 | AA13: =H265+H266+H267+H268+H269+H270+H271+H272+H273+H274+H275+H276+H277+H278+H279+H280+H281+H282+H283+H284+H285+H286+H287+H288+H289+H290+H291+H292+H293+H294 -> 613357 | AB13: =J265+J266+J267+J268+J269+J270+J271+J272+J273+J274+J275+J276+J277+J278+J279+J280+J281+J282+J283+J284+J285+J286+J287+J288+J289+J290+J291+J292+J293+J294 -> 1037116
A14: 유압식 리퍼 | B14: 16 TON | C14: 1 | D14: HR | E14: =중기사용료목록!E12 -> 0 | F14: =TRUNC(E14*C14,0) -> 0 | G14: =중기사용료목록!F12 -> 0 | H14: =TRUNC(G14*C14,0) -> 0 | I14: =중기사용료목록!G12 -> 850 | J14: =TRUNC(I14*C14,0) -> 850 | K14: =E14+G14+I14 -> 850 | L14: =F14+H14+J14 -> 850 | P14: 90 | R14: E0001030016 | Z14: =F295+F296+F297+F298+F299+F300+F301+F302+F303+F304+F305+F306+F307+F308+F309+F310+F311+F312+F313+F314+F315+F316+F317+F318+F319+F320+F321+F322+F323+F324 -> 326916 | AA14: =H295+H296+H297+H298+H299+H300+H301+H302+H303+H304+H305+H306+H307+H308+H309+H310+H311+H312+H313+H314+H315+H316+H317+H318+H319+H320+H321+H322+H323+H324 -> 327508 | AB14: =J295+J296+J297+J298+J299+J300+J301+J302+J303+J304+J305+J306+J307+J308+J309+J310+J311+J312+J313+J314+J315+J316+J317+J318+J319+J320+J321+J322+J323+J324 -> 1069107
A15: 유압식 리퍼 | B15: 19 TON | C15: 1 | D15: HR | E15: =중기사용료목록!E13 -> 0 | F15: =TRUNC(E15*C15,0) -> 0 | G15: =중기사용료목록!F13 -> 0 | H15: =TRUNC(G15*C15,0) -> 0 | I15: =중기사용료목록!G13 -> 1075 | J15: =TRUNC(I15*C15,0) -> 1075 | K15: =E15+G15+I15 -> 1075 | L15: =F15+H15+J15 -> 1075 | P15: 100 | R15: E0001030019 | Z15: =F325+F326+F327+F328+F329+F330+F331+F332+F333+F334+F335+F336+F337+F338+F339+F340+F341+F342+F343+F344+F345+F346+F347+F348+F349+F350+F351+F352+F353+F354 -> 0 | AA15: =H325+H326+H327+H328+H329+H330+H331+H332+H333+H334+H335+H336+H337+H338+H339+H340+H341+H342+H343+H344+H345+H346+H347+H348+H349+H350+H351+H352+H353+H354 -> 0 | AB15: =J325+J326+J327+J328+J329+J330+J331+J332+J333+J334+J335+J336+J337+J338+J339+J340+J341+J342+J343+J344+J345+J346+J347+J348+J349+J350+J351+J352+J353+J354 -> 408971
A16: 유압식 리퍼 | B16: 23 TON | C16: 1 | D16: HR | E16: =중기사용료목록!E14 -> 0 | F16: =TRUNC(E16*C16,0) -> 0 | G16: =중기사용료목록!F14 -> 0 | H16: =TRUNC(G16*C16,0) -> 0 | I16: =중기사용료목록!G14 -> 1191 | J16: =TRUNC(I16*C16,0) -> 1191 | K16: =E16+G16+I16 -> 1191 | L16: =F16+H16+J16 -> 1191 | P16: 110 | R16: E0001030023 | Z16: =F355+F356+F357+F358+F359+F360+F361+F362+F363+F364+F365+F366+F367+F368+F369+F370+F371+F372+F373+F374+F375+F376+F377+F378+F379+F380+F381+F382+F383+F384 -> 8795 | AA16: =H355+H356+H357+H358+H359+H360+H361+H362+H363+H364+H365+H366+H367+H368+H369+H370+H371+H372+H373+H374+H375+H376+H377+H378+H379+H380+H381+H382+H383+H384 -> 51516 | AB16: =J355+J356+J357+J358+J359+J360+J361+J362+J363+J364+J365+J366+J367+J368+J369+J370+J371+J372+J373+J374+J375+J376+J377+J378+J379+J380+J381+J382+J383+J384 -> 708404
A17: 유압식 리퍼 | B17: 27 TON | C17: 1 | D17: HR | E17: =중기사용료목록!E15 -> 0 | F17: =TRUNC(E17*C17,0) -> 0 | G17: =중기사용료목록!F15 -> 0 | H17: =TRUNC(G17*C17,0) -> 0 | I17: =중기사용료목록!G15 -> 1387 | J17: =TRUNC(I17*C17,0) -> 1387 | K17: =E17+G17+I17 -> 1387 | L17: =F17+H17+J17 -> 1387 | P17: 120 | R17: E0001030027 | Z17: =F385+F386+F387+F388+F389+F390+F391+F392+F393+F394+F395+F396+F397+F398+F399+F400+F401+F402+F403+F404+F405+F406+F407+F408+F409+F410+F411+F412+F413+F414 -> 313769 | AA17: =H385+H386+H387+H388+H389+H390+H391+H392+H393+H394+H395+H396+H397+H398+H399+H400+H401+H402+H403+H404+H405+H406+H407+H408+H409+H410+H411+H412+H413+H414 -> 334854 | AB17: =J385+J386+J387+J388+J389+J390+J391+J392+J393+J394+J395+J396+J397+J398+J399+J400+J401+J402+J403+J404+J405+J406+J407+J408+J409+J410+J411+J412+J413+J414 -> 711371
A18: 유압식 리퍼 | B18: 32 TON | C18: 1 | D18: HR | E18: =중기사용료목록!E16 -> 0 | F18: =TRUNC(E18*C18,0) -> 0 | G18: =중기사용료목록!F16 -> 0 | H18: =TRUNC(G18*C18,0) -> 0 | I18: =중기사용료목록!G16 -> 1685 | J18: =TRUNC(I18*C18,0) -> 1685 | K18: =E18+G18+I18 -> 1685 | L18: =F18+H18+J18 -> 1685 | P18: 130 | R18: E0001030032 | Z18: =F415+F416+F417+F418+F419+F420+F421+F422+F423+F424+F425+F426+F427+F428+F429+F430+F431+F432+F433+F434+F435+F436+F437+F438+F439+F440+F441+F442+F443+F444 -> 101635 | AA18: =H415+H416+H417+H418+H419+H420+H421+H422+H423+H424+H425+H426+H427+H428+H429+H430+H431+H432+H433+H434+H435+H436+H437+H438+H439+H440+H441+H442+H443+H444 -> 128790 | AB18: =J415+J416+J417+J418+J419+J420+J421+J422+J423+J424+J425+J426+J427+J428+J429+J430+J431+J432+J433+J434+J435+J436+J437+J438+J439+J440+J441+J442+J443+J444 -> 765422
A19: 습지 불도저 | B19: 4 TON | C19: 1 | D19: HR | E19: =중기사용료목록!E17 -> 8123 | F19: =TRUNC(E19*C19,0) -> 8123 | G19: =중기사용료목록!F17 -> 25758 | H19: =TRUNC(G19*C19,0) -> 25758 | I19: =중기사용료목록!G17 -> 5311 | J19: =TRUNC(I19*C19,0) -> 5311 | K19: =E19+G19+I19 -> 39192 | L19: =F19+H19+J19 -> 39192 | P19: 140 | R19: E0001210004 | Z19: =F445+F446+F447+F448+F449+F450+F451+F452+F453+F454+F455+F456+F457+F458+F459+F460+F461+F462+F463+F464+F465+F466+F467+F468+F469+F470+F471+F472+F473+F474 -> 444171 | AA19: =H445+H446+H447+H448+H449+H450+H451+H452+H453+H454+H455+H456+H457+H458+H459+H460+H461+H462+H463+H464+H465+H466+H467+H468+H469+H470+H471+H472+H473+H474 -> 128790 | AB19: =J445+J446+J447+J448+J449+J450+J451+J452+J453+J454+J455+J456+J457+J458+J459+J460+J461+J462+J463+J464+J465+J466+J467+J468+J469+J470+J471+J472+J473+J474 -> 3604645
A20: 습지 불도저 | B20: 13 TON | C20: 1 | D20: HR | E20: =중기사용료목록!E18 -> 21962 | F20: =TRUNC(E20*C20,0) -> 21962 | G20: =중기사용료목록!F18 -> 25758 | H20: =TRUNC(G20*C20,0) -> 25758 | I20: =중기사용료목록!G18 -> 20559 | J20: =TRUNC(I20*C20,0) -> 20559 | K20: =E20+G20+I20 -> 68279 | L20: =F20+H20+J20 -> 68279 | P20: 150 | R20: E0001210013 | Z20: =F475+F476+F477+F478+F479+F480+F481+F482+F483+F484+F485+F486+F487+F488+F489+F490+F491+F492+F493+F494+F495+F496+F497+F498+F499+F500+F501+F502+F503+F504 -> 629830 | AA20: =H475+H476+H477+H478+H479+H480+H481+H482+H483+H484+H485+H486+H487+H488+H489+H490+H491+H492+H493+H494+H495+H496+H497+H498+H499+H500+H501+H502+H503+H504 -> 394924 | AB20: =J475+J476+J477+J478+J479+J480+J481+J482+J483+J484+J485+J486+J487+J488+J489+J490+J491+J492+J493+J494+J495+J496+J497+J498+J499+J500+J501+J502+J503+J504 -> 1181219
A21: 굴삭기(무한궤도) | B21: 0.12 M3 | C21: 1 | D21: HR | E21: =중기사용료목록!E19 -> 4735 | F21: =TRUNC(E21*C21,0) -> 4735 | G21: =중기사용료목록!F19 -> 25758 | H21: =TRUNC(G21*C21,0) -> 25758 | I21: =중기사용료목록!G19 -> 7231 | J21: =TRUNC(I21*C21,0) -> 7231 | K21: =E21+G21+I21 -> 37724 | L21: =F21+H21+J21 -> 37724 | P21: 160 | R21: E0002010012 | Z21: =F505+F506+F507+F508+F509+F510+F511+F512+F513+F514+F515+F516+F517+F518+F519+F520+F521+F522+F523+F524+F525+F526+F527+F528+F529+F530+F531+F532+F533+F534 -> 679547 | AA21: =H505+H506+H507+H508+H509+H510+H511+H512+H513+H514+H515+H516+H517+H518+H519+H520+H521+H522+H523+H524+H525+H526+H527+H528+H529+H530+H531+H532+H533+H534 -> 202532 | AB21: =J505+J506+J507+J508+J509+J510+J511+J512+J513+J514+J515+J516+J517+J518+J519+J520+J521+J522+J523+J524+J525+J526+J527+J528+J529+J530+J531+J532+J533+J534 -> 145147
A22: 굴삭기(무한궤도) | B22: 0.2 M3 | C22: 1 | D22: HR | E22: =중기사용료목록!E20 -> 7399 | F22: =TRUNC(E22*C22,0) -> 7399 | G22: =중기사용료목록!F20 -> 25758 | H22: =TRUNC(G22*C22,0) -> 25758 | I22: =중기사용료목록!G20 -> 11251 | J22: =TRUNC(I22*C22,0) -> 11251 | K22: =E22+G22+I22 -> 44408 | L22: =F22+H22+J22 -> 44408 | P22: 170 | R22: E0002010020 | Z22: =F535+F536+F537+F538+F539+F540+F541+F542+F543+F544+F545+F546+F547+F548+F549+F550+F551+F552+F553+F554+F555+F556+F557+F558+F559+F560+F561+F562+F563+F564 -> 107967 | AA22: =H535+H536+H537+H538+H539+H540+H541+H542+H543+H544+H545+H546+H547+H548+H549+H550+H551+H552+H553+H554+H555+H556+H557+H558+H559+H560+H561+H562+H563+H564 -> 0 | AB22: =J535+J536+J537+J538+J539+J540+J541+J542+J543+J544+J545+J546+J547+J548+J549+J550+J551+J552+J553+J554+J555+J556+J557+J558+J559+J560+J561+J562+J563+J564 -> 66623
A23: 굴삭기(무한궤도) | B23: 0.4 M3 | C23: 1 | D23: HR | E23: =중기사용료목록!E21 -> 14771 | F23: =TRUNC(E23*C23,0) -> 14771 | G23: =중기사용료목록!F21 -> 25758 | H23: =TRUNC(G23*C23,0) -> 25758 | I23: =중기사용료목록!G21 -> 12514 | J23: =TRUNC(I23*C23,0) -> 12514 | K23: =E23+G23+I23 -> 53043 | L23: =F23+H23+J23 -> 53043 | P23: 180 | R23: E0002010040 | Z23: =F565+F566+F567+F568+F569+F570+F571+F572+F573+F574+F575+F576+F577+F578+F579+F580+F581+F582+F583+F584+F585+F586+F587+F588+F589+F590+F591+F592+F593+F594 -> 5662 | AA23: =H565+H566+H567+H568+H569+H570+H571+H572+H573+H574+H575+H576+H577+H578+H579+H580+H581+H582+H583+H584+H585+H586+H587+H588+H589+H590+H591+H592+H593+H594 -> 25758 | AB23: =J565+J566+J567+J568+J569+J570+J571+J572+J573+J574+J575+J576+J577+J578+J579+J580+J581+J582+J583+J584+J585+J586+J587+J588+J589+J590+J591+J592+J593+J594 -> 83667
A24: 굴삭기(무한궤도) | B24: 0.6 M3 | C24: 1 | D24: HR | E24: =중기사용료목록!E22 -> 15219 | F24: =TRUNC(E24*C24,0) -> 15219 | G24: =중기사용료목록!F22 -> 25758 | H24: =TRUNC(G24*C24,0) -> 25758 | I24: =중기사용료목록!G22 -> 18070 | J24: =TRUNC(I24*C24,0) -> 18070 | K24: =E24+G24+I24 -> 59047 | L24: =F24+H24+J24 -> 59047 | P24: 190 | R24: E0002010060 | Z24: =F595+F596+F597+F598+F599+F600+F601+F602+F603+F604+F605+F606+F607+F608+F609+F610+F611+F612+F613+F614+F615+F616+F617+F618+F619+F620+F621+F622+F623+F624 -> 0 | AA24: =H595+H596+H597+H598+H599+H600+H601+H602+H603+H604+H605+H606+H607+H608+H609+H610+H611+H612+H613+H614+H615+H616+H617+H618+H619+H620+H621+H622+H623+H624 -> 0 | AB24: =J595+J596+J597+J598+J599+J600+J601+J602+J603+J604+J605+J606+J607+J608+J609+J610+J611+J612+J613+J614+J615+J616+J617+J618+J619+J620+J621+J622+J623+J624 -> 2699
A25: 굴삭기(무한궤도) | B25: 0.7 M3 | C25: 1 | D25: HR | E25: =중기사용료목록!E23 -> 17307 | F25: =TRUNC(E25*C25,0) -> 17307 | G25: =중기사용료목록!F23 -> 25758 | H25: =TRUNC(G25*C25,0) -> 25758 | I25: =중기사용료목록!G23 -> 19708 | J25: =TRUNC(I25*C25,0) -> 19708 | K25: =E25+G25+I25 -> 62773 | L25: =F25+H25+J25 -> 62773 | P25: 200 | R25: E0002010070 | Z25: =F625+F626+F627+F628+F629+F630+F631+F632+F633+F634+F635+F636+F637+F638+F639+F640+F641+F642+F643+F644+F645+F646+F647+F648+F649+F650+F651+F652+F653+F654 -> 6873786 | AA25: =H625+H626+H627+H628+H629+H630+H631+H632+H633+H634+H635+H636+H637+H638+H639+H640+H641+H642+H643+H644+H645+H646+H647+H648+H649+H650+H651+H652+H653+H654 -> 2292477 | AB25: =J625+J626+J627+J628+J629+J630+J631+J632+J633+J634+J635+J636+J637+J638+J639+J640+J641+J642+J643+J644+J645+J646+J647+J648+J649+J650+J651+J652+J653+J654 -> 4012436
A26: 굴삭기(무한궤도) | B26: 0.8 M3 | C26: 1 | D26: HR | E26: =중기사용료목록!E24 -> 22828 | F26: =TRUNC(E26*C26,0) -> 22828 | G26: =중기사용료목록!F24 -> 25758 | H26: =TRUNC(G26*C26,0) -> 25758 | I26: =중기사용료목록!G24 -> 21117 | J26: =TRUNC(I26*C26,0) -> 21117 | K26: =E26+G26+I26 -> 69703 | L26: =F26+H26+J26 -> 69703 | P26: 210 | R26: E0002010080 | Z26: =F655+F656+F657+F658+F659+F660+F661+F662+F663+F664+F665+F666+F667+F668+F669+F670+F671+F672+F673+F674+F675+F676+F677+F678+F679+F680+F681+F682+F683+F684 -> 14323590 | AA26: =H655+H656+H657+H658+H659+H660+H661+H662+H663+H664+H665+H666+H667+H668+H669+H670+H671+H672+H673+H674+H675+H676+H677+H678+H679+H680+H681+H682+H683+H684 -> 3446836 | AB26: =J655+J656+J657+J658+J659+J660+J661+J662+J663+J664+J665+J666+J667+J668+J669+J670+J671+J672+J673+J674+J675+J676+J677+J678+J679+J680+J681+J682+J683+J684 -> 9143474
A27: 굴삭기(무한궤도) | B27: 1.0 M3 | C27: 1 | D27: HR | E27: =중기사용료목록!E25 -> 29095 | F27: =TRUNC(E27*C27,0) -> 29095 | G27: =중기사용료목록!F25 -> 25758 | H27: =TRUNC(G27*C27,0) -> 25758 | I27: =중기사용료목록!G25 -> 23559 | J27: =TRUNC(I27*C27,0) -> 23559 | K27: =E27+G27+I27 -> 78412 | L27: =F27+H27+J27 -> 78412 | P27: 220 | R27: E0002010100 | Z27: =F685+F686+F687+F688+F689+F690+F691+F692+F693+F694+F695+F696+F697+F698+F699+F700+F701+F702+F703+F704+F705+F706+F707+F708+F709+F710+F711+F712+F713+F714 -> 919871 | AA27: =H685+H686+H687+H688+H689+H690+H691+H692+H693+H694+H695+H696+H697+H698+H699+H700+H701+H702+H703+H704+H705+H706+H707+H708+H709+H710+H711+H712+H713+H714 -> 1491807 | AB27: =J685+J686+J687+J688+J689+J690+J691+J692+J693+J694+J695+J696+J697+J698+J699+J700+J701+J702+J703+J704+J705+J706+J707+J708+J709+J710+J711+J712+J713+J714 -> 921418
A28: 굴삭기(무한궤도) | B28: 1.2 M3 | C28: 1 | D28: HR | E28: =중기사용료목록!E26 -> 30139 | F28: =TRUNC(E28*C28,0) -> 30139 | G28: =중기사용료목록!F26 -> 25758 | H28: =TRUNC(G28*C28,0) -> 25758 | I28: =중기사용료목록!G26 -> 26935 | J28: =TRUNC(I28*C28,0) -> 26935 | K28: =E28+G28+I28 -> 82832 | L28: =F28+H28+J28 -> 82832 | P28: 230 | R28: E0002010120 | Z28: =F715+F716+F717+F718+F719+F720+F721+F722+F723 -> 2290122 | AA28: =H715+H716+H717+H718+H719+H720+H721+H722+H723 -> 569459 | AB28: =J715+J716+J717+J718+J719+J720+J721+J722+J723 -> 591881
A29: 굴삭기(무한궤도) | B29: 2.0 M3 | C29: 1 | D29: HR | E29: =중기사용료목록!E27 -> 48939 | F29: =TRUNC(E29*C29,0) -> 48939 | G29: =중기사용료목록!F27 -> 25758 | H29: =TRUNC(G29*C29,0) -> 25758 | I29: =중기사용료목록!G27 -> 48552 | J29: =TRUNC(I29*C29,0) -> 48552 | K29: =E29+G29+I29 -> 123249 | L29: =F29+H29+J29 -> 123249 | P29: 240 | R29: E0002010200
A30: 굴삭기(타이어) | B30: 0.18 M3 | C30: 1 | D30: HR | E30: =중기사용료목록!E28 -> 8492 | F30: =TRUNC(E30*C30,0) -> 8492 | G30: =중기사용료목록!F28 -> 25758 | H30: =TRUNC(G30*C30,0) -> 25758 | I30: =중기사용료목록!G28 -> 12947 | J30: =TRUNC(I30*C30,0) -> 12947 | K30: =E30+G30+I30 -> 47197 | L30: =F30+H30+J30 -> 47197 | P30: 250 | R30: E0002110018
A31: 굴삭기(타이어) | B31: 0.6 M3 | C31: 1 | D31: HR | E31: =중기사용료목록!E29 -> 17591 | F31: =TRUNC(E31*C31,0) -> 17591 | G31: =중기사용료목록!F29 -> 25758 | H31: =TRUNC(G31*C31,0) -> 25758 | I31: =중기사용료목록!G29 -> 21622 | J31: =TRUNC(I31*C31,0) -> 21622 | K31: =E31+G31+I31 -> 64971 | L31: =F31+H31+J31 -> 64971 | P31: 260 | R31: E0002110060
A32: 굴삭기(타이어) | B32: 0.8 M3 | C32: 1 | D32: HR | E32: =중기사용료목록!E30 -> 24719 | F32: =TRUNC(E32*C32,0) -> 24719 | G32: =중기사용료목록!F30 -> 25758 | H32: =TRUNC(G32*C32,0) -> 25758 | I32: =중기사용료목록!G30 -> 25531 | J32: =TRUNC(I32*C32,0) -> 25531 | K32: =E32+G32+I32 -> 76008 | L32: =F32+H32+J32 -> 76008 | P32: 270 | R32: E0002110080
A33: 굴삭기(타이어) | B33: 1.0 M3 | C33: 1 | D33: HR | E33: =중기사용료목록!E31 -> 31088 | F33: =TRUNC(E33*C33,0) -> 31088 | G33: =중기사용료목록!F31 -> 25758 | H33: =TRUNC(G33*C33,0) -> 25758 | I33: =중기사용료목록!G31 -> 26935 | J33: =TRUNC(I33*C33,0) -> 26935 | K33: =E33+G33+I33 -> 83781 | L33: =F33+H33+J33 -> 83781 | P33: 280 | R33: E0002110100
A34: 습지 굴삭기 (유압식백호우) | B34: 0.4 M3 | C34: 1 | D34: HR | E34: =중기사용료목록!E32 -> 13361 | F34: =TRUNC(E34*C34,0) -> 13361 | G34: =중기사용료목록!F32 -> 25758 | H34: =TRUNC(G34*C34,0) -> 25758 | I34: =중기사용료목록!G32 -> 15031 | J34: =TRUNC(I34*C34,0) -> 15031 | K34: =E34+G34+I34 -> 54150 | L34: =F34+H34+J34 -> 54150 | P34: 290 | R34: E0002210040
A35: 습지 굴삭기 (유압식백호우) | B35: 0.7 M3 | C35: 1 | D35: HR | E35: =중기사용료목록!E33 -> 15470 | F35: =TRUNC(E35*C35,0) -> 15470 | G35: =중기사용료목록!F33 -> 25758 | H35: =TRUNC(G35*C35,0) -> 25758 | I35: =중기사용료목록!G33 -> 19682 | J35: =TRUNC(I35*C35,0) -> 19682 | K35: =E35+G35+I35 -> 60910 | L35: =F35+H35+J35 -> 60910 | P35: 300 | R35: E0002210070
A36: 대형 브레이카 | B36: 0.2 M3용 | C36: 1 | D36: HR | E36: =중기사용료목록!E34 -> 0 | F36: =TRUNC(E36*C36,0) -> 0 | G36: =중기사용료목록!F34 -> 0 | H36: =TRUNC(G36*C36,0) -> 0 | I36: =중기사용료목록!G34 -> 2155 | J36: =TRUNC(I36*C36,0) -> 2155 | K36: =E36+G36+I36 -> 2155 | L36: =F36+H36+J36 -> 2155 | P36: 310 | R36: E0002300002
A37: 대형 브레이카 | B37: 0.4 M3용 | C37: 1 | D37: HR | E37: =중기사용료목록!E35 -> 0 | F37: =TRUNC(E37*C37,0) -> 0 | G37: =중기사용료목록!F35 -> 0 | H37: =TRUNC(G37*C37,0) -> 0 | I37: =중기사용료목록!G35 -> 3952 | J37: =TRUNC(I37*C37,0) -> 3952 | K37: =E37+G37+I37 -> 3952 | L37: =F37+H37+J37 -> 3952 | P37: 320 | R37: E0002300004
A38: 대형 브레이카 | B38: 0.6 M3용 | C38: 1 | D38: HR | E38: =중기사용료목록!E36 -> 0 | F38: =TRUNC(E38*C38,0) -> 0 | G38: =중기사용료목록!F36 -> 0 | H38: =TRUNC(G38*C38,0) -> 0 | I38: =중기사용료목록!G36 -> 7225 | J38: =TRUNC(I38*C38,0) -> 7225 | K38: =E38+G38+I38 -> 7225 | L38: =F38+H38+J38 -> 7225 | P38: 330 | R38: E0002300006
A39: 대형 브레이카 | B39: 0.7 M3용 | C39: 1 | D39: HR | E39: =중기사용료목록!E37 -> 0 | F39: =TRUNC(E39*C39,0) -> 0 | G39: =중기사용료목록!F37 -> 0 | H39: =TRUNC(G39*C39,0) -> 0 | I39: =중기사용료목록!G37 -> 8982 | J39: =TRUNC(I39*C39,0) -> 8982 | K39: =E39+G39+I39 -> 8982 | L39: =F39+H39+J39 -> 8982 | P39: 340 | R39: E0002300007
A40: 대형 브레이카 | B40: 0.8 M3용 | C40: 1 | D40: HR | E40: =중기사용료목록!E38 -> 0 | F40: =TRUNC(E40*C40,0) -> 0 | G40: =중기사용료목록!F38 -> 0 | H40: =TRUNC(G40*C40,0) -> 0 | I40: =중기사용료목록!G38 -> 9799 | J40: =TRUNC(I40*C40,0) -> 9799 | K40: =E40+G40+I40 -> 9799 | L40: =F40+H40+J40 -> 9799 | P40: 350 | R40: E0002300008
...

Sheet 일위대가목록
A1: 일위대가목록
K2: 태현개발주식회사. http://taehyeon.co.kr
A3: 공 종 명 | B3: 규 격 | C3: 수 량 | D3: 단 위 | E3: 재 료 비 | F3: 노 무 비 | G3: 경 비 | H3: 합 계 | I3: 비 고 | T3: 재료비 | U3: 노무비 | V3: 경 비 | W3: 합 계 | Y3: 비교검토

Sheet 일위대가_호표
A1: 일위대가_호표
K2: 태현개발주식회사. http://taehyeon.co.kr
A3: 공 종 명 | B3: 규 격 | C3: 수량 | D3: 단위 | E3: 재 료 비 | G3: 노 무 비 | I3: 경 비 | K3: 합 계 | M3: 비 고
E4: 단 가 | F4: 금 액 | G4: 단 가 | H4: 금 액 | I4: 단 가 | J4: 금 액 | K4: 단 가 | L4: 금 액 | S4: 할 증 | T4: 화폐변환 | U4: OP값 | V4: EQ | W4: LA | X4: MA | Y4: 금액계상

Sheet 일위대가_산근
A1: 일위대가_산근
K2: 태현개발주식회사. http://taehyeon.co.kr
A3: 산 출 근 거 | B3: 재 료 비 | C3: 노 무 비 | D3: 경 비 | E3: 합 계 | F3: 비 고

Sheet 중기사용료목록
A1: 중기사용료목록
A2: 태현개발주식회사. http://taehyeon.co.kr
A3: 공 종 명 | B3: 규 격 | C3: 수 량 | D3: 단 위 | E3: 재 료 비 | F3: 노 무 비 | G3: 경 비 | H3: 합 계 | I3: 비 고
A4: 불도저(무한궤도) | B4: 7 TON | C4: 1 | D4: HR | E4: =중기사용료!G11 -> 12768 | F4: =중기사용료!G13 -> 25758 | G4: =중기사용료!G8 -> 9958 | H4: =E4+F4+G4 -> 48484 | K4: E0001010007
A5: 불도저(무한궤도) | C5: 1 | D5: HR | E5: =중기사용료!G23 -> 17733 | F5: =중기사용료!G25 -> 25758 | G5: =중기사용료!G20 -> 21235 | H5: =E5+F5+G5 -> 64726 | K5: E0001010010
A6: 불도저(무한궤도) | B6: 12 TON | C6: 1 | D6: HR | E6: =중기사용료!G35 -> 20712 | F6: =중기사용료!G37 -> 25758 | G6: =중기사용료!G32 -> 25050 | H6: =E6+F6+G6 -> 71520 | K6: E0001010012
A7: 불도저(무한궤도) | B7: 19 TON | C7: 1 | D7: HR | E7: =중기사용료!G47 -> 35467 | F7: =중기사용료!G49 -> 25758 | G7: =중기사용료!G44 -> 25599 | H7: =E7+F7+G7 -> 86824 | K7: E0001010019
A8: 불도저(무한궤도) | B8: 32 TON | C8: 1 | D8: HR | E8: =중기사용료!G59 -> 59017 | F8: =중기사용료!G61 -> 25758 | G8: =중기사용료!G56 -> 33999 | H8: =E8+F8+G8 -> 118774 | K8: E0001010032
A9: 불도저(타이어) | B9: 15 TON | C9: 1 | D9: HR | E9: =중기사용료!G71 -> 35222 | F9: =중기사용료!G73 -> 25758 | G9: =중기사용료!G68 -> 20222 | H9: =E9+F9+G9 -> 81202 | K9: E0001020015
A10: 불도저(타이어) | B10: 28 TON | C10: 1 | D10: HR | E10: =중기사용료!G83 -> 66042 | F10: =중기사용료!G85 -> 25758 | G10: =중기사용료!G80 -> 37367 | H10: =E10+F10+G10 -> 129167 | K10: E0001020028
A11: 불도저(타이어) | B11: 33 TON | C11: 1 | D11: HR | E11: =중기사용료!G95 -> 77782 | F11: =중기사용료!G97 -> 25758 | G11: =중기사용료!G92 -> 47369 | H11: =E11+F11+G11 -> 150909 | K11: E0001020033
A12: 유압식 리퍼 | B12: 16 TON | C12: 1 | D12: HR | E12: 0 | F12: 0 | G12: =중기사용료!G104 -> 850 | H12: =E12+F12+G12 -> 850 | K12: E0001030016
A13: 유압식 리퍼 | B13: 19 TON | C13: 1 | D13: HR | E13: 0 | F13: 0 | G13: =중기사용료!G115 -> 1075 | H13: =E13+F13+G13 -> 1075 | K13: E0001030019
A14: 유압식 리퍼 | B14: 23 TON | C14: 1 | D14: HR | E14: 0 | F14: 0 | G14: =중기사용료!G126 -> 1191 | H14: =E14+F14+G14 -> 1191 | K14: E0001030023
A15: 유압식 리퍼 | B15: 27 TON | C15: 1 | D15: HR | E15: 0 | F15: 0 | G15: =중기사용료!G137 -> 1387 | H15: =E15+F15+G15 -> 1387 | K15: E0001030027
A16: 유압식 리퍼 | B16: 32 TON | C16: 1 | D16: HR | E16: 0 | F16: 0 | G16: =중기사용료!G148 -> 1685 | H16: =E16+F16+G16 -> 1685 | K16: E0001030032
A17: 습지 불도저 | B17: 4 TON | C17: 1 | D17: HR | E17: =중기사용료!G162 -> 8123 | F17: =중기사용료!G164 -> 25758 | G17: =중기사용료!G159 -> 5311 | H17: =E17+F17+G17 -> 39192 | K17: E0001210004
A18: 습지 불도저 | B18: 13 TON | C18: 1 | D18: HR | E18: =중기사용료!G174 -> 21962 | F18: =중기사용료!G176 -> 25758 | G18: =중기사용료!G171 -> 20559 | H18: =E18+F18+G18 -> 68279 | K18: E0001210013
A19: 굴삭기(무한궤도) | B19: 0.12 M3 | C19: 1 | D19: HR | E19: =중기사용료!G186 -> 4735 | F19: =중기사용료!G188 -> 25758 | G19: =중기사용료!G183 -> 7231 | H19: =E19+F19+G19 -> 37724 | K19: E0002010012
A20: 굴삭기(무한궤도) | B20: 0.2 M3 | C20: 1 | D20: HR | E20: =중기사용료!G198 -> 7399 | F20: =중기사용료!G200 -> 25758 | G20: =중기사용료!G195 -> 11251 | H20: =E20+F20+G20 -> 44408 | K20: E0002010020
A21: 굴삭기(무한궤도) | B21: 0.4 M3 | C21: 1 | D21: HR | E21: =중기사용료!G210 -> 14771 | F21: =중기사용료!G212 -> 25758 | G21: =중기사용료!G207 -> 12514 | H21: =E21+F21+G21 -> 53043 | K21: E0002010040
A22: 굴삭기(무한궤도) | B22: 0.6 M3 | C22: 1 | D22: HR | E22: =중기사용료!G222 -> 15219 | F22: =중기사용료!G224 -> 25758 | G22: =중기사용료!G219 -> 18070 | H22: =E22+F22+G22 -> 59047 | K22: E0002010060
A23: 굴삭기(무한궤도) | B23: 0.7 M3 | C23: 1 | D23: HR | E23: =중기사용료!G234 -> 17307 | F23: =중기사용료!G236 -> 25758 | G23: =중기사용료!G231 -> 19708 | H23: =E23+F23+G23 -> 62773 | K23: E0002010070
A24: 굴삭기(무한궤도) | B24: 0.8 M3 | C24: 1 | D24: HR | E24: =중기사용료!G246 -> 22828 | F24: =중기사용료!G248 -> 25758 | G24: =중기사용료!G243 -> 21117 | H24: =E24+F24+G24 -> 69703 | K24: E0002010080
A25: 굴삭기(무한궤도) | B25: 1.0 M3 | C25: 1 | D25: HR | E25: =중기사용료!G258 -> 29095 | F25: =중기사용료!G260 -> 25758 | G25: =중기사용료!G255 -> 23559 | H25: =E25+F25+G25 -> 78412 | K25: E0002010100
A26: 굴삭기(무한궤도) | B26: 1.2 M3 | C26: 1 | D26: HR | E26: =중기사용료!G270 -> 30139 | F26: =중기사용료!G272 -> 25758 | G26: =중기사용료!G267 -> 26935 | H26: =E26+F26+G26 -> 82832 | K26: E0002010120
A27: 굴삭기(무한궤도) | B27: 2.0 M3 | C27: 1 | D27: HR | E27: =중기사용료!G282 -> 48939 | F27: =중기사용료!G284 -> 25758 | G27: =중기사용료!G279 -> 48552 | H27: =E27+F27+G27 -> 123249 | K27: E0002010200
A28: 굴삭기(타이어) | B28: 0.18 M3 | C28: 1 | D28: HR | E28: =중기사용료!G294 -> 8492 | F28: =중기사용료!G296 -> 25758 | G28: =중기사용료!G291 -> 12947 | H28: =E28+F28+G28 -> 47197 | K28: E0002110018
A29: 굴삭기(타이어) | B29: 0.6 M3 | C29: 1 | D29: HR | E29: =중기사용료!G306 -> 17591 | F29: =중기사용료!G308 -> 25758 | G29: =중기사용료!G303 -> 21622 | H29: =E29+F29+G29 -> 64971 | K29: E0002110060
A30: 굴삭기(타이어) | B30: 0.8 M3 | C30: 1 | D30: HR | E30: =중기사용료!G318 -> 24719 | F30: =중기사용료!G320 -> 25758 | G30: =중기사용료!G315 -> 25531 | H30: =E30+F30+G30 -> 76008 | K30: E0002110080
A31: 굴삭기(타이어) | B31: 1.0 M3 | C31: 1 | D31: HR | E31: =중기사용료!G330 -> 31088 | F31: =중기사용료!G332 -> 25758 | G31: =중기사용료!G327 -> 26935 | H31: =E31+F31+G31 -> 83781 | K31: E0002110100
A32: 습지 굴삭기 (유압식백호우) | B32: 0.4 M3 | C32: 1 | D32: HR | E32: =중기사용료!G342 -> 13361 | F32: =중기사용료!G344 -> 25758 | G32: =중기사용료!G339 -> 15031 | H32: =E32+F32+G32 -> 54150 | K32: E0002210040
A33: 습지 굴삭기 (유압식백호우) | B33: 0.7 M3 | C33: 1 | D33: HR | E33: =중기사용료!G354 -> 15470 | F33: =중기사용료!G356 -> 25758 | G33: =중기사용료!G351 -> 19682 | H33: =E33+F33+G33 -> 60910 | K33: E0002210070
A34: 대형 브레이카 | B34: 0.2 M3용 | C34: 1 | D34: HR | E34: 0 | F34: 0 | G34: =중기사용료!G363 -> 2155 | H34: =E34+F34+G34 -> 2155 | K34: E0002300002
A35: 대형 브레이카 | B35: 0.4 M3용 | C35: 1 | D35: HR | E35: 0 | F35: 0 | G35: =중기사용료!G374 -> 3952 | H35: =E35+F35+G35 -> 3952 | K35: E0002300004
A36: 대형 브레이카 | B36: 0.6 M3용 | C36: 1 | D36: HR | E36: 0 | F36: 0 | G36: =중기사용료!G385 -> 7225 | H36: =E36+F36+G36 -> 7225 | K36: E0002300006
A37: 대형 브레이카 | B37: 0.7 M3용 | C37: 1 | D37: HR | E37: 0 | F37: 0 | G37: =중기사용료!G396 -> 8982 | H37: =E37+F37+G37 -> 8982 | K37: E0002300007
A38: 대형 브레이카 | B38: 0.8 M3용 | C38: 1 | D38: HR | E38: 0 | F38: 0 | G38: =중기사용료!G407 -> 9799 | H38: =E38+F38+G38 -> 9799 | K38: E0002300008
A39: 대형 브레이카 | B39: 1 0 M3용 | C39: 1 | D39: HR | E39: 0 | F39: 0 | G39: =중기사용료!G418 -> 14372 | H39: =E39+F39+G39 -> 14372 | I39: 2015년 신설 | K39: E0002300010
A40: 대형브레이카용 치즐 | B40: 0.4 M3용 | C40: 1 | D40: HR | E40: 0 | F40: 0 | G40: =중기사용료!G429 -> 63 | H40: =E40+F40+G40 -> 63 | K40: E0002310004
...

Sheet 중기사용료
A1: 중기사용료
K2: 태현개발주식회사. http://taehyeon.co.kr
A4: 중 기 명 | B4: 불도저(무한궤도) 7 TON | J4: E0001010007
A5: 중기가격
A6: 명 칭 | C6: 규 격 | D6: 수 량 | E6: 단 위 | F6: 단 가 | G6: 금 액 | H6: 비 고
A7: 경 비 | B7: 불도저(무한궤도) | C7: 7 TON | D7: =(750 + 583 + 430)*10^-4 -> 0.1763 | E7: $ | F7: =중기기초자료!F9 -> 56484 | G7: =TRUNC(F7*D7, 1) -> 9958.1 | K7: 10 | M7: G01010007 | N7: .sang=750, jung=583, kwan=430_x000D_ _x000D_
B8: 소 계 | G8: =TRUNC(G7, 0) -> 9958
A9: 재 료 비 | B9: 경 유 | D9: 9 | E9: L | F9: =중기기초자료!D731 -> 1223 | G9: =TRUNC(F9*D9, 1) -> 11007 | K9: 50 | M9: M9366005
B10: 잡 품 | D10: 16 | E10: % | F10: 0 | G10: =TRUNC((G9) * D10/100, 1) -> 1761.1 | K10: 60 | M10: F/M1
B11: 소 계 | G11: =TRUNC(G9+G10, 0) -> 12768
A12: 노 무 비 | B12: 건설기계운전사 | C12: 구)건설기계운전기사 | D12: 1 | E12: 인 | F12: =TRUNC(중기기초자료!E721 * 중기전역변수!C19, 1) -> 25758.7 | G12: =TRUNC(F12*D12, 1) -> 25758.7 | I12: 56900017002 | K12: 20 | M12: L086
B13: 소 계 | G13: =TRUNC(G12, 0) -> 25758
B14: 총 계 | G14: =TRUNC(G8+G11+G13, 0) -> 48484
A16: 중 기 명 | B16: 불도저(무한궤도) 10 TON | J16: E0001010010
A17: 중기가격 | B17: 109,599 $
A18: 명 칭 | C18: 규 격 | D18: 수 량 | E18: 단 위 | F18: 단 가 | G18: 금 액 | H18: 비 고
A19: 경 비 | B19: 불도저(무한궤도) | C19: 10 TON | D19: =(750 + 583 + 430)*10^-4 -> 0.1763 | E19: $ | F19: =TRUNC(중기기초자료!F10 * 중기전역변수!C5/1000,0) -> 120449 | G19: =TRUNC(F19*D19, 1) -> 21235.1 | K19: 10 | M19: G01010010 | N19: .sang=750, jung=583, kwan=430
B20: 소 계 | G20: =TRUNC(G19, 0) -> 21235
A21: 재 료 비 | B21: 경 유 | D21: 12.5 | E21: L | F21: =중기기초자료!D731 -> 1223 | G21: =TRUNC(F21*D21, 1) -> 15287.5 | K21: 40 | M21: M9366005
B22: 잡 품 | D22: 16 | E22: % | F22: 0 | G22: =TRUNC((G21) * D22/100, 1) -> 2446 | K22: 50 | M22: F/M1
B23: 소 계 | G23: =TRUNC(G21+G22, 0) -> 17733
A24: 노 무 비 | B24: 건설기계운전사 | C24: 구)건설기계운전기사 | D24: 1 | E24: 인 | F24: =TRUNC(중기기초자료!E721 * 중기전역변수!C19, 1) -> 25758.7 | G24: =TRUNC(F24*D24, 1) -> 25758.7 | K24: 15 | M24: L086
B25: 소 계 | G25: =TRUNC(G24, 0) -> 25758
B26: 총 계 | G26: =TRUNC(G20+G23+G25, 0) -> 64726
A28: 중 기 명 | B28: 불도저(무한궤도) 12 TON | J28: E0001010012
A29: 중기가격 | B29: 129,289 $
A30: 명 칭 | C30: 규 격 | D30: 수 량 | E30: 단 위 | F30: 단 가 | G30: 금 액 | H30: 비 고
A31: 경 비 | B31: 불도저(무한궤도) | C31: 12 TON | D31: =(750 + 583 + 430)*10^-4 -> 0.1763 | E31: $ | F31: =TRUNC(중기기초자료!F11 * 중기전역변수!C5/1000,0) -> 142088 | G31: =TRUNC(F31*D31, 1) -> 25050.1 | K31: 10 | M31: G01010012 | N31: .sang=750, jung=583, kwan=430_x000D_
B32: 소 계 | G32: =TRUNC(G31, 0) -> 25050
A33: 재 료 비 | B33: 경 유 | D33: 14.6 | E33: L | F33: =중기기초자료!D731 -> 1223 | G33: =TRUNC(F33*D33, 1) -> 17855.8 | K33: 40 | M33: M9366005
B34: 잡 품 | D34: 16 | E34: % | F34: 0 | G34: =TRUNC((G33) * D34/100, 1) -> 2856.9 | K34: 50 | M34: F/M1
B35: 소 계 | G35: =TRUNC(G33+G34, 0) -> 20712
A36: 노 무 비 | B36: 건설기계운전사 | C36: 구)건설기계운전기사 | D36: 1 | E36: 인 | F36: =TRUNC(중기기초자료!E721 * 중기전역변수!C19, 1) -> 25758.7 | G36: =TRUNC(F36*D36, 1) -> 25758.7 | K36: 15 | M36: L086
B37: 소 계 | G37: =TRUNC(G36, 0) -> 25758
B38: 총 계 | G38: =TRUNC(G32+G35+G37, 0) -> 71520
A40: 중 기 명 | B40: 불도저(무한궤도) 19 TON | J40: E0001010019
A41: 중기가격 | B41: 145,207 천원
A42: 명 칭 | C42: 규 격 | D42: 수 량 | E42: 단 위 | F42: 단 가 | G42: 금 액 | H42: 비 고
A43: 경 비 | B43: 불도저(무한궤도) | C43: 19 TON | D43: =(750 + 583 + 430)*10^-4 -> 0.1763 | E43: 천원 | F43: =중기기초자료!F12 -> 145207 | G43: =TRUNC(F43*D43, 1) -> 25599.9 | K43: 10 | M43: G01010019 | N43: .sang=750, jung=583, kwan=430_x000D_
B44: 소 계 | G44: =TRUNC(G43, 0) -> 25599
...

Sheet 중기기초자료
A1: 중기기초자료
G2: 태현개발주식회사. http://taehyeon.co.kr
A3: 명 칭 | B3: 규 격 | C3: 단 위 | D3: 재 료 비 | E3: 노 무 비 | F3: 경 비 | G3: 합 계 | H3: 비 고
A4: 레일천공기 | B4: 1.49 KW | C4: 천원 | D4: 0 | E4: 0 | F4: 2500 | G4: 2500 | J4: G0079500149
A5: 파워렌치 | C5: 천원 | D5: 0 | E5: 0 | F5: 6000 | G5: 6000 | J5: G0079510066
A6: 침목천공기 | B6: 2.46 KW | C6: 천원 | D6: 0 | E6: 0 | F6: 797 | G6: 797 | J6: G0079520246
A7: 타이탬퍼 | B7: 3400(진동수/min) | C7: 천원 | D7: 0 | E7: 0 | F7: 15000 | G7: 15000 | J7: G0079533400
A8: 양로기 | B8: 11.19kW | C8: 천원 | D8: 0 | E8: 0 | F8: 26400 | G8: 26400 | J8: G0079541119
A9: 불도저(무한궤도) | B9: 7 TON | C9: 천원 | D9: 0 | E9: 0 | F9: 56484 | G9: 56484 | J9: G01010007
A10: 불도저(무한궤도) | B10: 10 TON | C10: $ | D10: 0 | E10: 0 | F10: 109599 | G10: 109599 | J10: G01010010
A11: 불도저(무한궤도) | B11: 12 TON | C11: $ | D11: 0 | E11: 0 | F11: 129289 | G11: 129289 | J11: G01010012
A12: 불도저(무한궤도) | B12: 19 TON | C12: 천원 | D12: 0 | E12: 0 | F12: 145207 | G12: 145207 | J12: G01010019
A13: 불도저(무한궤도) | B13: 32 TON | C13: 천원 | D13: 0 | E13: 0 | F13: 192853 | G13: 192853 | J13: G01010032
A14: 불도저(타이어) | B14: 15 TON | C14: $ | D14: 0 | E14: 0 | F14: 109531 | G14: 109531 | J14: G01020015
A15: 불도저(타이어) | B15: 28 TON | C15: $ | D15: 0 | E15: 0 | F15: 202390 | G15: 202390 | J15: G01020028
A16: 불도저(타이어) | B16: 33 TON | C16: $ | D16: 0 | E16: 0 | F16: 256562 | G16: 256562 | J16: G01020033
A17: 유압식 리퍼 | B17: 16 TON | C17: $ | D17: 0 | E17: 0 | F17: 9737 | G17: 9737 | J17: G01030016
... A404: 노면파쇄기 | B404: 2 M | C404: $ | D404: 0 | E404: 0 | F404: 360000 | G404: 360000 | J404: G57010020
A405: 터널전단면굴착기(TBM) | B405: 3.0m | D405: 0 | E405: 0 | F405: 0 | G405: 0 | J405: G58010030
A406: 터널전단면굴착기 | B406: 3.5m | D406: 0 | E406: 0 | F406: 0 | G406: 0 | J406: G58010035
A407: 터널전단면굴착기 | B407: 4.5m | D407: 0 | E407: 0 | F407: 0 | G407: 0 | J407: G58010045
A408: 터널전단면굴착기 | B408: 7.0m | D408: 0 | E408: 0 | F408: 0 | G408: 0 | J408: G58010070
A409: 점보드릴 | B409: 2붐 | C409: 천원 | D409: 0 | E409: 0 | F409: 444039 | G409: 444039 | J409: G58050002
A410: 점보드릴 | B410: 3붐 | C410: 천원 | D410: 0 | E410: 0 | F410: 883964 | G410: 883964 | J410: G58050003
A411: 코어드릴 | B411: 15.24cm | C411: 천원 | D411: 0 | E411: 0 | F411: 713 | G411: 713 | J411: G59010006
A412: 코어드릴 | B412: 25.40cm | C412: 천원 | D412: 0 | E412: 0 | F412: 1007 | G412: 1007 | J412: G59010010
A413: 코어드릴 | B413: 40.64cm | C413: 천원 | D413: 0 | E413: 0 | F413: 1800 | G413: 1800 | J413: G59010016
A414: 그라우팅믹서 | B414: 190L X 2 (2KW) | C414: $ | D414: 0 | E414: 0 | F414: 1498 | G414: 1498 | J414: G61050190
A415: 그라우팅믹서 | B415: 390L X 2 (5KW) | C415: $ | D415: 0 | E415: 0 | F415: 3117 | G415: 3117 | J415: G61050390
A416: 안정액믹서(밴토나이트믹서) | B416: 1.5KW | C416: 천원 | D416: 0 | E416: 0 | F416: 26800 | G416: 26800 | J416: G61070015
A417: 그라우팅 펌프 | B417: 30-60 L/MIN(3.7kw) | C417: $ | D417: 0 | E417: 0 | F417: 3386 | G417: 3386 | J417: G62020060
A418: 그라우팅 펌프 | B418: 40-125 L/MIN(7.5kw) | C418: $ | D418: 0 | E418: 0 | F418: 4930 | G418: 4930 | J418: G62020125
A419: 그라우팅 펌프 | B419: 50-200 L/MIN(11kw) | C419: $ | D419: 0 | E419: 0 | F419: 7119 | G419: 7119 | J419: G62020200
A420: 이수분리기 | B420: 56.7KW | D420: 0 | E420: 0 | F420: 0 | G420: 0 | J420: G62030076
A421: 디이젤 파일햄머 | B421: 1.5 TON | C421: $ | D421: 0 | E421: 0 | F421: 23047 | G421: 23047 | J421: G63300015
A422: 디이젤 파일햄머 | B422: 2.2 TON | C422: $ | D422: 0 | E422: 0 | F422: 34790 | G422: 34790 | J422: G63300022
A423: 디이젤 파일햄머 | B423: 3.2 TON | C423: $ | D423: 0 | E423: 0 | F423: 52182 | G423: 52182 | J423: G63300032
A424: 디이젤 파일햄머 | B424: 4.0 TON | C424: $ | D424: 0 | E424: 0 | F424: 67153 | G424: 67153 | J424: G63300040
A425: 보오링기계 | B425: 40.5MM X 150M (7.46KW) | C425: $ | D425: 0 | E425: 0 | F425: 5063 | G425: 5063 | J425: G64080015
A426: 보오링기계 | B426: 50MM X 200M (11.19KW) | C426: $ | D426: 0 | E426: 0 | F426: 5690 | G426: 5690 | J426: G64080020
...

Sheet 중기전역변수
A1: 중기전역변수
C2: 태현개발주식회사. http://taehyeon.co.kr | K2: 태현개발주식회사. http://taehyeon.co.kr
A3: 변 수 명 | B3: 형 식 | C3: 값 | D3: 비 고
A4: QCODE | B4: 문자 | C4: 100000000001
A5: QUS2WON | C5: 1099 | D5: 환율(장비가격10만불이하)
A6: QUS2WON1 | B6: 숫자 | C6: 1099 | D6: 환율(장비가격10만불이상)
A7: QYEN2WON | B7: 숫자 | C7: 0 | D7: 환율(엔화)
A8: QDM2WON | B8: 숫자 | C8: 0 | D8: 환율(마르크화)
A9: QSDR2WON | B9: 숫자 | C9: 0 | D9: 환율(IMF특별인출권)
A10: QECU2WON | B10: 숫자 | C10: 0 | D10: 환율(유로화)
A11: QEQTY1 | B11: 문자 | C11: (SANG + JUNG + KWAN)*10^-4 | D11: 중기주간경비산출계수
A12: QEQTY2 | B12: 문자 | C12: (SANG + JUNG + KWAN)*10^-4 | D12: 중기야간경비산출계수
A13: QEQTY3 | B13: 문자 | C13: (SANG + JUNG + int(KWAN/3))*10^-4 | D13: 중기주야간경비산출계수
A14: QEINC2 | B14: 숫자 | C14: 1.25 | D14: 중기야간할증계수
A15: QEINC3 | B15: 숫자 | C15: 1.071 | D15: 중기주야간할증계수
A16: QDECPEQ | B16: 문자 | C16: 0 | D16: 경비단가소숫점
A17: QDECCEQ | B17: 문자 | C17: 1 | D17: 경비금액소숫점
A18: QDECEQ | B18: 문자 | C18: 0 | D18: 경비계금액소숫점
A19: QH1 | B19: 문자 | C19: =25/20 * 16/12 * 1/8 -> 0.20833333 | D19: 시간당노임산출계수(일반구간)
A20: QH2 | B20: 문자 | C20: =25/20 * 16/12 * 1/8 -> 0.20833333 | D20: 시간당노임산출계수(터널구간)
A21: QH21 | B21: 문자 | C21: =25/20 * 16/12 * 1/8 -> 0.20833333 | D21: 시간당노임산출계수(장대터널)
A22: QH31 | B22: 문자 | C22: =25/20 * 16/12 * 1/8 -> 0.20833333 | D22: 시간당노임산출계수(해상장비:펌프준설선)
A23: QH32 | B23: 문자 | C23: =25/20 * 16/12 * 1/8 -> 0.20833333 | D23: 시간당노임산출계수(해상장비:GRAB준설선)
A24: QH33 | B24: 문자 | C24: =25/20 * 16/12 * 1/8 -> 0.20833333 | D24: 시간당노임산출계수(해상장비:버켓준설선)
A25: QLINC1 | B25: 숫자 | C25: 1 | D25: 노임할증계수(일반구간:주간)
A26: QLINC2 | B26: 숫자 | C26: 1.5 | D26: 노임할증계수(일반구간:야간)
A27: QLINC3 | B27: 숫자 | C27: 1.16 | D27: 노임할증계수(일반구간:주야간)
A28: QLINCA | B28: 숫자 | C28: 1.6 | D28: 노임할증계수(터널구간:주간)
A29: QLINCB | B29: 숫자 | C29: 1.6 | D29: 노임할증계수(터널구간:야간)
A30: QLINCC | B30: 숫자 | C30: 1.6 | D30: 노임할증계수(터널구간:주야간)
A31: QLINCD | B31: 숫자 | C31: 1.94 | D31: 노임할증계수(장대터널:주간)
A32: QLINCE | B32: 숫자 | C32: 1.94 | D32: 노임할증계수(장대터널:야간)
A33: QLINCF | B33: 숫자 | C33: 1.94 | D33: 노임할증계수(장대터널:주야간)
A34: QLINCX | B34: 숫자 | C34: 1 | D34: 노임할증계수(해상장비:주간)
A35: QLINCY | B35: 숫자 | C35: 1 | D35: 노임할증계수(해상장비:야간)
A36: QLINCZ | B36: 숫자 | C36: 1 | D36: 노임할증계수(해상장비:주야간)
A37: QDECPLA | B37: 문자 | C37: 1 | D37: 노임단가소숫점
A38: QDECCLA | B38: 문자 | C38: 1 | D38: 노임금액소숫점
A39: QDECLA | B39: 문자 | C39: 0 | D39: 노임계금액소숫점
A40: QMINC2 | B40: 숫자 | C40: 1.11 | D40: 재료비할증계수(야간)
...

Sheet 자재
A1: 자재
K2: 태현개발주식회사. http://taehyeon.co.kr
A3: 명 칭 | B3: 규 격 | C3: 단 위 | D3: 단 가 | E3: 비 고

Sheet 노임
A1: 노임
K2: 태현개발주식회사. http://taehyeon.co.kr
A3: 명 칭 | B3: 규 격 | C3: 단 위 | D3: 단 가 | E3: 비 고

Sheet 경비
A1: 경비
K2: 태현개발주식회사. http://taehyeon.co.kr
A3: 명 칭 | B3: 규 격 | C3: 단 위 | D3: 재 료 비 | E3: 노 무 비 | F3: 경 비 | G3: 합 계 | H3: 비 고

Sheet 전역변수
A1: 전역변수
K2: 태현개발주식회사. http://taehyeon.co.kr
A3: 변 수 명 | B3: 형 식 | C3: 값 | D3: 비 고 | E3: 적용단위
