Workbook

Sheet 내역서
A1: 내역서
K2: 태현개발주식회사. http://taehyeon.co.kr
A3: 공 종 명 | B3: 규 격 | C3: 수량 | D3: 단위 | E3: 재 료 비 | G3: 노 무 비 | I3: 경 비 | K3: 합 계 | M3: 비 고
E4: 단 가 | F4: 금 액 | G4: 단 가 | H4: 금 액 | I4: 단 가 | J4: 금 액 | K4: 단 가 | L4: 금 액 | S4: 할 증 | T4: 화폐변환 | U4: OP값 | V4: EQ | W4: LA | X4: MA | Y4: 금액계상
A5: 2015년도 상반기 적용 중기사용료 | C5: 1 | F5: =TRUNC(SUM(Z5:Z28),0) -> 33411763 | H5: =TRUNC(SUM(AA5:AA28),0) -> 14418068 | J5: =TRUNC(SUM(AB5:AB28),0) -> 33404183 | L5: =F5+H5+J5 -> 81234014 | O5: A0 | Z5: =F6+F7+F8+F9+F10+F11+F12+F13+F14+F15+F16+F17+F18+F19+F20+F21+F22+F23+F24+F25+F26+F27+F28+F29+F30+F31+F32+F33+F34+F35+F36+F37+F38+F39+F40+F41+F42+F43 -> 655981 | AA5: =H6+H7+H8+H9+H10+H11+H12+H13+H14+H15+H16+H17+H18+H19+H20+H21+H22+H23+H24+H25+H26+H27+H28+H29+H30+H31+H32+H33+H34+H35+H36+H37+H38+H39+H40+H41+H42+H43 -> 643950 | AB5: =J6+J7+J8+J9+J10+J11+J12+J13+J14+J15+J16+J17+J18+J19+J20+J21+J22+J23+J24+J25+J26+J27+J28+J29+J30+J31+J32+J33+J34+J35+J36+J37+J38+J39+J40+J41+J42+J43 -> 610342
A6: 불도저(무한궤도) | B6: 7 TON | C6: 1 | D6: HR | E6: =중기사용료목록!E4 -> 12768 | F6: =TRUNC(E6*C6,0) -> 12768 | G6: =중기사용료목록!F4 -> 25758 | H6: =TRUNC(G6*C6,0) -> 25758 | I6: =중기사용료목록!G4 -> 9958 | J6: =TRUNC(I6*C6,0) -> 9958 | K6: =E6+G6+I6 -> 48484 | L6: =F6+H6+J6 -> 48484 | P6: 10 | R6: E0001010007 | Z6: =F44+F45+F46+F47+F48+F49+F50+F51+F52+F53+F54+F55+F56+F57+F58+F59+F60+F61+F62+F63+F64+F65+F66+F67+F68+F69+F70+F71+F72+F73+F74+F75+F76+F77+F78+F79+F80 -> 741897 | AA6: =H44+H45+H46+H47+H48+H49+H50+H51+H52+H53+H54+H55+H56+H57+H58+H59+H60+H61+H62+H63+H64+H65+H66+H67+H68+H69+H70+H71+H72+H73+H74+H75+H76+H77+H78+H79+H80 -> 738767 | AB6: =J44+J45+J46+J47+J48+J49+J50+J51+J52+J53+J54+J55+J56+J57+J58+J59+J60+J61+J62+J63+J64+J65+J66+J67+J68+J69+J70+J71+J72+J73+J74+J75+J76+J77+J78+J79+J80 -> 833851
A7: 불도저(무한궤도) | B7: 10 TON | C7: 1 | D7: HR | E7: =중기사용료목록!E5 -> 17733 | F7: =TRUNC(E7*C7,0) -> 17733 | G7: =중기사용료목록!F5 -> 25758 | H7: =TRUNC(G7*C7,0) -> 25758 | I7: =중기사용료목록!G5 -> 21235 | J7: =TRUNC(I7*C7,0) -> 21235 | K7: =E7+G7+I7 -> 64726 | L7: =F7+H7+J7 -> 64726 | P7: 20 | R7: E0001010010 | Z7: =F81+F82+F83+F84+F85+F86+F87+F88+F89+F90+F91+F92+F93+F94+F95+F96+F97+F98+F99+F100+F101+F102+F103+F104+F105+F106+F107+F108+F109+F110+F111+F112+F113+F114 -> 354559 | AA7: =H81+H82+H83+H84+H85+H86+H87+H88+H89+H90+H91+H92+H93+H94+H95+H96+H97+H98+H99+H100+H101+H102+H103+H104+H105+H106+H107+H108+H109+H110+H111+H112+H113+H114 -> 566676 | AB7: =J81+J82+J83+J84+J85+J86+J87+J88+J89+J90+J91+J92+J93+J94+J95+J96+J97+J98+J99+J100+J101+J102+J103+J104+J105+J106+J107+J108+J109+J110+J111+J112+J113+J114 -> 360590
A8: 불도저(무한궤도) | B8: 12 TON | C8: 1 | D8: HR | E8: =중기사용료목록!E6 -> 20712 | F8: =TRUNC(E8*C8,0) -> 20712 | G8: =중기사용료목록!F6 -> 25758 | H8: =TRUNC(G8*C8,0) -> 25758 | I8: =중기사용료목록!G6 -> 25050 | J8: =TRUNC(I8*C8,0) -> 25050 | K8: =E8+G8+I8 -> 71520 | L8: =F8+H8+J8 -> 71520 | P8: 30 | R8: E0001010012 | Z8: =F115+F116+F117+F118+F119+F120+F121+F122+F123+F124+F125+F126+F127+F128+F129+F130+F131+F132+F133+F134+F135+F136+F137+F138+F139+F140+F141+F142+F143+F144 -> 344769 | AA8: =H115+H116+H117+H118+H119+H120+H121+H122+H123+H124+H125+H126+H127+H128+H129+H130+H131+H132+H133+H134+H135+H136+H137+H138+H139+H140+H141+H142+H143+H144 -> 283338 | AB8: =J115+J116+J117+J118+J119+J120+J121+J122+J123+J124+J125+J126+J127+J128+J129+J130+J131+J132+J133+J134+J135+J136+J137+J138+J139+J140+J141+J142+J143+J144 -> 518485
A9: 불도저(무한궤도) | B9: 19 TON | C9: 1 | D9: HR | E9: =중기사용료목록!E7 -> 35467 | F9: =TRUNC(E9*C9,0) -> 35467 | G9: =중기사용료목록!F7 -> 25758 | H9: =TRUNC(G9*C9,0) -> 25758 | I9: =중기사용료목록!G7 -> 25599 | J9: =TRUNC(I9*C9,0) -> 25599 | K9: =E9+G9+I9 -> 86824 | L9: =F9+H9+J9 -> 86824 | P9: 40 | R9: E0001010019 | Z9: =F145+F146+F147+F148+F149+F150+F151+F152+F153+F154+F155+F156+F157+F158+F159+F160+F161+F162+F163+F164+F165+F166+F167+F168+F169+F170+F171+F172+F173+F174 -> 493690 | AA9: =H145+H146+H147+H148+H149+H150+H151+H152+H153+H154+H155+H156+H157+H158+H159+H160+H161+H162+H163+H164+H165+H166+H167+H168+H169+H170+H171+H172+H173+H174 -> 629258 | AB9: =J145+J146+J147+J148+J149+J150+J151+J152+J153+J154+J155+J156+J157+J158+J159+J160+J161+J162+J163+J164+J165+J166+J167+J168+J169+J170+J171+J172+J173+J174 -> 2156839
A10: 불도저(무한궤도) | B10: 32 TON | C10: 1 | D10: HR | E10: =중기사용료목록!E8 -> 59017 | F10: =TRUNC(E10*C10,0) -> 59017 | G10: =중기사용료목록!F8 -> 25758 | H10: =TRUNC(G10*C10,0) -> 25758 | I10: =중기사용료목록!G8 -> 33999 | J10: =TRUNC(I10*C10,0) -> 33999 | K10: =E10+G10+I10 -> 118774 | L10: =F10+H10+J10 -> 118774 | P10: 50 | R10: E0001010032 | Z10: =F175+F176+F177+F178+F179+F180+F181+F182+F183+F184+F185+F186+F187+F188+F189+F190+F191+F192+F193+F194+F195+F196+F197+F198+F199+F200+F201+F202+F203+F204 -> 393876 | AA10: =H175+H176+H177+H178+H179+H180+H181+H182+H183+H184+H185+H186+H187+H188+H189+H190+H191+H192+H193+H194+H195+H196+H197+H198+H199+H200+H201+H202+H203+H204 -> 402270 | AB10: =J175+J176+J177+J178+J179+J180+J181+J182+J183+J184+J185+J186+J187+J188+J189+J190+J191+J192+J193+J194+J195+J196+J197+J198+J199+J200+J201+J202+J203+J204 -> 2203968
A11: 불도저(타이어) | B11: 15 TON | C11: 1 | D11: HR | E11: =중기사용료목록!E9 -> 35222 | F11: =TRUNC(E11*C11,0) -> 35222 | G11: =중기사용료목록!F9 -> 25758 | H11: =TRUNC(G11*C11,0) -> 25758 | I11: =중기사용료목록!G9 -> 20222 | J11: =TRUNC(I11*C11,0) -> 20222 | K11: =E11+G11+I11 -> 81202 | L11: =F11+H11+J11 -> 81202 | P11: 60 | R11: E0001020015 | Z11: =F205+F206+F207+F208+F209+F210+F211+F212+F213+F214+F215+F216+F217+F218+F219+F220+F221+F222+F223+F224+F225+F226+F227+F228+F229+F230+F231+F232+F233+F234 -> 3791 | AA11: =H205+H206+H207+H208+H209+H210+H211+H212+H213+H214+H215+H216+H217+H218+H219+H220+H221+H222+H223+H224+H225+H226+H227+H228+H229+H230+H231+H232+H233+H234 -> 103032 | AB11: =J205+J206+J207+J208+J209+J210+J211+J212+J213+J214+J215+J216+J217+J218+J219+J220+J221+J222+J223+J224+J225+J226+J227+J228+J229+J230+J231+J232+J233+J234 -> 277258
A12: 불도저(타이어) | B12: 28 TON | C12: 1 | D12: HR | E12: =중기사용료목록!E10 -> 66042 | F12: =TRUNC(E12*C12,0) -> 66042 | G12: =중기사용료목록!F10 -> 25758 | H12: =TRUNC(G12*C12,0) -> 25758 | I12: =중기사용료목록!G10 -> 37367 | J12: =TRUNC(I12*C12,0) -> 37367 | K12: =E12+G12+I12 -> 129167 | L12: =F12+H12+J12 -> 129167 | P12: 70 | R12: E0001020028 | Z12: =F235+F236+F237+F238+F239+F240+F241+F242+F243+F244+F245+F246+F247+F248+F249+F250+F251+F252+F253+F254+F255+F256+F257+F258+F259+F260+F261+F262+F263+F264 -> 3049108 | AA12: =H235+H236+H237+H238+H239+H240+H241+H242+H243+H244+H245+H246+H247+H248+H249+H250+H251+H252+H253+H254+H255+H256+H257+H258+H259+H260+H261+H262+H263+H264 -> 1042169 | AB12: =J235+J236+J237+J238+J239+J240+J241+J242+J243+J244+J245+J246+J247+J248+J249+J250+J251+J252+J253+J254+J255+J256+J257+J258+J259+J260+J261+J262+J263+J264 -> 1989250
A13: 불도저(타이어) | B13: 33 TON | C13: 1 | D13: HR | E13: =중기사용료목록!E11 -> 77782 | F13: =TRUNC(E13*C13,0) -> 77782 | G13: =중기사용료목록!F11 -> 25758 | H13: =TRUNC(G13*C13,0) -> 25758 | I13: =중기사용료목록!G11 -> 47369 | J13: =TRUNC(I13*C13,0) -> 47369 | K13: =E13+G13+I13 -> 150909 | L13: =F13+H13+J13 -> 150909 | P13: 80 | R13: E0001020033 | Z13: =F265+F266+F267+F268+F269+F270+F271+F272+F273+F274+F275+F276+F277+F278+F279+F280+F281+F282+F283+F284+F285+F286+F287+F288+F289+F290+F291+F292+F293+F294 -> 348431 | AA13: =H265+H266+H267+H268+H269+H270+H271+H272+H273+H274+H275+H276+H277+H278+H279+H280+H281+H282+H283+H284+H285+H286+H287+H288+H289+H290+H291+H292+H293+H294 -> 613357 | AB13: =J265+J266+J267+J268+J269+J270+J271+J272+J273+J274+J275+J276+J277+J278+J279+J280+J281+J282+J283+J284+J285+J286+J287+J288+J289+J290+J291+J292+J293+J294 -> 1037116
A14: 유압식 리퍼 | B14: 16 TON | C14: 1 | D14: HR | E14: =중기사용료목록!E12 -> 0 | F14: =TRUNC(E14*C14,0) -> 0 | G14: =중기사용료목록!F12 -> 0 | H14: =TRUNC(G14*C14,0) -> 0 | I14: =중기사용료목록!G12 -> 850 | J14: =TRUNC(I14*C14,0) -> 850 | K14: =E14+G14+I14 -> 850 | L14: =F14+H14+J14 -> 850 | P14: 90 | R14: E0001030016 | Z14: =F295+F296+F297+F298+F299+F300+F301+F302+F303+F304+F305+F306+F307+F308+F309+F310+F311+F312+F313+F314+F315+F316+F317+F318+F319+F320+F321+F322+F323+F324 -> 326916 | AA14: =H295+H296+H297+H298+H299+H300+H301+H302+H303+H304+H305+H306+H307+H308+H309+H310+H311+H312+H313+H314+H315+H316+H317+H318+H319+H320+H321+H322+H323+H324 -> 327508 | AB14: =J295+J296+J297+J298+J299+J300+J301+J302+J303+J304+J305+J306+J307+J308+J309+J310+J311+J312+J313+J314+J315+J316+J317+J318+J319+J320+J321+J322+J323+J324 -> 1069107
A15: 유압식 리퍼 | B15: 19 TON | C15: 1 | D15: HR | E15: =중기사용료목록!E13 -> 0 | F15: =TRUNC(E15*C15,0) -> 0 | G15: =중기사용료목록!F13 -> 0 | H15: =TRUNC(G15*C15,0) -> 0 | I15: =중기사용료목록!G13 -> 1075 | J15: =TRUNC(I15*C15,0) -> 1075 | K15: =E15+G15+I15 -> 1075 | L15: =F15+H15+J15 -> 1075 | P15: 100 | R15: E0001030019 | Z15: =F325+F326+F327+F328+F329+F330+F331+F332+F333+F334+F335+F336+F337+F338+F339+F340+F341+F342+F343+F344+F345+F346+F347+F348+F349+F350+F351+F352+F353+F354 -> 0 | AA15: =H325+H326+H327+H328+H329+H330+H331+H332+H333+H334+H335+H336+H337+H338+H339+H340+H341+H342+H343+H344+H345+H346+H347+H348+H349+H350+H351+H352+H353+H354 -> 0 | AB15: =J325+J326+J327+J328+J329+J330+J331+J332+J333+J334+J335+J336+J337+J338+J339+J340+J341+J342+J343+J344+J345+J346+J347+J348+J349+J350+J351+J352+J353+J354 -> 408971
A16: 유압식 리퍼 | B16: 23 TON | C16: 1 | D16: HR | E16: =중기사용료목록!E14 -> 0 | F16: =TRUNC(E16*C16,0) -> 0 | G16: =중기사용료목록!F14 -> 0 | H16: =TRUNC(G16*C16,0) -> 0 | I16: =중기사용료목록!G14 -> 1191 | J16: =TRUNC(I16*C16,0) -> 1191 | K16: =E16+G16+I16 -> 1191 | L16: =F16+H16+J16 -> 1191 | P16: 110 | R16: E0001030023 | Z16: =F355+F356+F357+F358+F359+F360+F361+F362+F363+F364+F365+F366+F367+F368+F369+F370+F371+F372+F373+F374+F375+F376+F377+F378+F379+F380+F381+F382+F383+F384 -> 8795 | AA16: =H355+H356+H357+H358+H359+H360+H361+H362+H363+H364+H365+H366+H367+H368+H369+H370+H371+H372+H373+H374+H375+H376+H377+H378+H379+H380+H381+H382+H383+H384 -> 51516 | AB16: =J355+J356+J357+J358+J359+J360+J361+J362+J363+J364+J365+J366+J367+J368+J369+J370+J371+J372+J373+J374+J375+J376+J377+J378+J379+J380+J381+J382+J383+J384 -> 708404
A17: 유압식 리퍼 | B17: 27 TON | C17: 1 | D17: HR | E17: =중기사용료목록!E15 -> 0 | F17: =TRUNC(E17*C17,0) -> 0 | G17: =중기사용료목록!F15 -> 0 | H17: =TRUNC(G17*C17,0) -> 0 | I17: =중기사용료목록!G15 -> 1387 | J17: =TRUNC(I17*C17,0) -> 1387 | K17: =E17+G17+I17 -> 1387 | L17: =F17+H17+J17 -> 1387 | P17: 120 | R17: E0001030027 | Z17: =F385+F386+F387+F388+F389+F390+F391+F392+F393+F394+F395+F396+F397+F398+F399+F400+F401+F402+F403+F404+F405+F406+F407+F408+F409+F410+F411+F412+F413+F414 -> 313769 | AA17: =H385+H386+H387+H388+H389+H390+H391+H392+H393+H394+H395+H396+H397+H398+H399+H400+H401+H402+H403+H404+H405+H406+H407+H408+H409+H410+H411+H412+H413+H414 -> 334854 | AB17: =J385+J386+J387+J388+J389+J390+J391+J392+J393+J394+J395+J396+J397+J398+J399+J400+J401+J402+J403+J404+J405+J406+J407+J408+J409+J410+J411+J412+J413+J414 -> 711371
A18: 유압식 리퍼 | B18: 32 TON | C18: 1 | D18: HR | E18: =중기사용료목록!E16 -> 0 | F18: =TRUNC(E18*C18,0) -> 0 | G18: =중기사용료목록!F16 -> 0 | H18: =TRUNC(G18*C18,0) -> 0 | I18: =중기사용료목록!G16 -> 1685 | J18: =TRUNC(I18*C18,0) -> 1685 | K18: =E18+G18+I18 -> 1685 | L18: =F18+H18+J18 -> 1685 | P18: 130 | R18: E0001030032 | Z18: =F415+F416+F417+F418+F419+F420+F421+F422+F423+F424+F425+F426+F427+F428+F429+F430+F431+F432+F433+F434+F435+F436+F437+F438+F439+F440+F441+F442+F443+F444 -> 101635 | AA18: =H415+H416+H417+H418+H419+H420+H421+H422+H423+H424+H425+H426+H427+H428+H429+H430+H431+H432+H433+H434+H435+H436+H437+H438+H439+H440+H441+H442+H443+H444 -> 128790 | AB18: =J415+J416+J417+J418+J419+J420+J421+J422+J423+J424+J425+J426+J427+J428+J429+J430+J431+J432+J433+J434+J435+J436+J437+J438+J439+J440+J441+J442+J443+J444 -> 765422
A19: 습지 불도저 | B19: 4 TON | C19: 1 | D19: HR | E19: =중기사용료목록!E17 -> 8123 | F19: =TRUNC(E19*C19,0) -> 8123 | G19: =중기사용료목록!F17 -> 25758 | H19: =TRUNC(G19*C19,0) -> 25758 | I19: =중기사용료목록!G17 -> 5311 | J19: =TRUNC(I19*C19,0) -> 5311 | K19: =E19+G19+I19 -> 39192 | L19: =F19+H19+J19 -> 39192 | P19: 140 | R19: E0001210004 | Z19: =F445+F446+F447+F448+F449+F450+F451+F452+F453+F454+F455+F456+F457+F458+F459+F460+F461+F462+F463+F464+F465+F466+F467+F468+F469+F470+F471+F472+F473+F474 -> 444171 | AA19: =H445+H446+H447+H448+H449+H450+H451+H452+H453+H454+H455+H456+H457+H458+H459+H460+H461+H462+H463+H464+H465+H466+H467+H468+H469+H470+H471+H472+H473+H474 -> 128790 | AB19: =J445+J446+J447+J448+J449+J450+J451+J452+J453+J454+J455+J456+J457+J458+J459+J460+J461+J462+J463+J464+J465+J466+J467+J468+J469+J470+J471+J472+J473+J474 -> 3604645
A20: 습지 불도저 | B20: 13 TON | C20: 1 | D20: HR | E20: =중기사용료목록!E18 -> 21962 | F20: =TRUNC(E20*C20,0) -> 21962 | G20: =중기사용료목록!F18 -> 25758 | H20: =TRUNC(G20*C20,0) -> 25758 | I20: =중기사용료목록!G18 -> 20559 | J20: =TRUNC(I20*C20,0) -> 20559 | K20: =E20+G20+I20 -> 68279 | L20: =F20+H20+J20 -> 68279 | P20: 150 | R20: E0001210013 | Z20: =F475+F476+F477+F478+F479+F480+F481+F482+F483+F484+F485+F486+F487+F488+F489+F490+F491+F492+F493+F494+F495+F496+F497+F498+F499+F500+F501+F502+F503+F504 -> 629830 | AA20: =H475+H476+H477+H478+H479+H480+H481+H482+H483+H484+H485+H486+H487+H488+H489+H490+H491+H492+H493+H494+H495+H496+H497+H498+H499+H500+H501+H502+H503+H504 -> 394924 | AB20: =J475+J476+J477+J478+J479+J480+J481+J482+J483+J484+J485+J486+J487+J488+J489+J490+J491+J492+J493+J494+J495+J496+J497+J498+J499+J500+J501+J502+J503+J504 -> 1181219
A21: 굴삭기(무한궤도) | B21: 0.12 M3 | C21: 1 | D21: HR | E21: =중기사용료목록!E19 -> 4735 | F21: =TRUNC(E21*C21,0) -> 4735 | G21: =중기사용료목록!F19 -> 25758 | H21: =TRUNC(G21*C21,0) -> 25758 | I21: =중기사용료목록!G19 -> 7231 | J21: =TRUNC(I21*C21,0) -> 7231 | K21: =E21+G21+I21 -> 37724 | L21: =F21+H21+J21 -> 37724 | P21: 160 | R21: E0002010012 | Z21: =F505+F506+F507+F508+F509+F510+F511+F512+F513+F514+F515+F516+F517+F518+F519+F520+F521+F522+F523+F524+F525+F526+F527+F528+F529+F530+F531+F532+F533+F534 -> 679547 | AA21: =H505+H506+H507+H508+H509+H510+H511+H512+H513+H514+H515+H516+H517+H518+H519+H520+H521+H522+H523+H524+H525+H526+H527+H528+H529+H530+H531+H532+H533+H534 -> 202532 | AB21: =J505+J506+J507+J508+J509+J510+J511+J512+J513+J514+J515+J516+J517+J518+J519+J520+J521+J522+J523+J524+J525+J526+J527+J528+J529+J530+J531+J532+J533+J534 -> 145147
A22: 굴삭기(무한궤도) | B22: 0.2 M3 | C22: 1 | D22: HR | E22: =중기사용료목록!E20 -> 7399 | F22: =TRUNC(E22*C22,0) -> 7399 | G22: =중기사용료목록!F20 -> 25758 | H22: =TRUNC(G22*C22,0) -> 25758 | I22: =중기사용료목록!G20 -> 11251 | J22: =TRUNC(I22*C22,0) -> 11251 | K22: =E22+G22+I22 -> 44408 | L22: =F22+H22+J22 -> 44408 | P22: 170 | R22: E0002010020 | Z22: =F535+F536+F537+F538+F539+F540+F541+F542+F543+F544+F545+F546+F547+F548+F549+F550+F551+F552+F553+F554+F555+F556+F557+F558+F559+F560+F561+F562+F563+F564 -> 107967 | AA22: =H535+H536+H537+H538+H539+H540+H541+H542+H543+H544+H545+H546+H547+H548+H549+H550+H551+H552+H553+H554+H555+H556+H557+H558+H559+H560+H561+H562+H563+H564 -> 0 | AB22: =J535+J536+J537+J538+J539+J540+J541+J542+J543+J544+J545+J546+J547+J548+J549+J550+J551+J552+J553+J554+J555+J556+J557+J558+J559+J560+J561+J562+J563+J564 -> 66623
A23: 굴삭기(무한궤도) | B23: 0.4 M3 | C23: 1 | D23: HR | E23: =중기사용료목록!E21 -> 14771 | F23: =TRUNC(E23*C23,0) -> 14771 | G23: =중기사용료목록!F21 -> 25758 | H23: =TRUNC(G23*C23,0) -> 25758 | I23: =중기사용료목록!G21 -> 12514 | J23: =TRUNC(I23*C23,0) -> 12514 | K23: =E23+G23+I23 -> 53043 | L23: =F23+H23+J23 -> 53043 | P23: 180 | R23: E0002010040 | Z23: =F565+F566+F567+F568+F569+F570+F571+F572+F573+F574+F575+F576+F577+F578+F579+F580+F581+F582+F583+F584+F585+F586+F587+F588+F589+F590+F591+F592+F593+F594 -> 5662 | AA23: =H565+H566+H567+H568+H569+H570+H571+H572+H573+H574+H575+H576+H577+H578+H579+H580+H581+H582+H583+H584+H585+H586+H587+H588+H589+H590+H591+H592+H593+H594 -> 25758 | AB23: =J565+J566+J567+J568+J569+J570+J571+J572+J573+J574+J575+J576+J577+J578+J579+J580+J581+J582+J583+J584+J585+J586+J587+J588+J589+J590+J591+J592+J593+J594 -> 83667
A24: 굴삭기(무한궤도) | B24: 0.6 M3 | C24: 1 | D24: HR | E24: =중기사용료목록!E22 -> 15219 | F24: =TRUNC(E24*C24,0) -> 15219 | G24: =중기사용료목록!F22 -> 25758 | H24: =TRUNC(G24*C24,0) -> 25758 | I24: =중기사용료목록!G22 -> 18070 | J24: =TRUNC(I24*C24,0) -> 18070 | K24: =E24+G24+I24 -> 59047 | L24: =F24+H24+J24 -> 59047 | P24: 190 | R24: E0002010060 | Z24: =F595+F596+F597+F598+F599+F600+F601+F602+F603+F604+F605+F606+F607+F608+F609+F610+F611+F612+F613+F614+F615+F616+F617+F618+F619+F620+F621+F622+F623+F624 -> 0 | AA24: =H595+H596+H597+H598+H599+H600+H601+H602+H603+H604+H605+H606+H607+H608+H609+H610+H611+H612+H613+H614+H615+H616+H617+H618+H619+H620+H621+H622+H623+H624 -> 0 | AB24: =J595+J596+J597+J598+J599+J600+J601+J602+J603+J604+J605+J606+J607+J608+J609+J610+J611+J612+J613+J614+J615+J616+J617+J618+J619+J620+J621+J622+J623+J624 -> 2699
A25: 굴삭기(무한궤도) | B25: 0.7 M3 | C25: 1 | D25: HR | E25: =중기사용료목록!E23 -> 17307 | F25: =TRUNC(E25*C25,0) -> 17307 | G25: =중기사용료목록!F23 -> 25758 | H25: =TRUNC(G25*C25,0) -> 25758 | I25: =중기사용료목록!G23 -> 19708 | J25: =TRUNC(I25*C25,0) -> 19708 | K25: =E25+G25+I25 -> 62773 | L25: =F25+H25+J25 -> 62773 | P25: 200 | R25: E0002010070 | Z25: =F625+F626+F627+F628+F629+F630+F631+F632+F633+F634+F635+F636+F637+F638+F639+F640+F641+F642+F643+F644+F645+F646+F647+F648+F649+F650+F651+F652+F653+F654 -> 6873786 | AA25: =H625+H626+H627+H628+H629+H630+H631+H632+H633+H634+H635+H636+H637+H638+H639+H640+H641+H642+H643+H644+H645+H646+H647+H648+H649+H650+H651+H652+H653+H654 -> 2292477 | AB25: =J625+J626+J627+J628+J629+J630+J631+J632+J633+J634+J635+J636+J637+J638+J639+J640+J641+J642+J643+J644+J645+J646+J647+J648+J649+J650+J651+J652+J653+J654 -> 4012436
A26: 굴삭기(무한궤도) | B26: 0.8 M3 | C26: 1 | D26: HR | E26: =중기사용료목록!E24 -> 22828 | F26: =TRUNC(E26*C26,0) -> 22828 | G26: =중기사용료목록!F24 -> 25758 | H26: =TRUNC(G26*C26,0) -> 25758 | I26: =중기사용료목록!G24 -> 21117 | J26: =TRUNC(I26*C26,0) -> 21117 | K26: =E26+G26+I26 -> 69703 | L26: =F26+H26+J26 -> 69703 | P26: 210 | R26: E0002010080 | Z26: =F655+F656+F657+F658+F659+F660+F661+F662+F663+F664+F665+F666+F667+F668+F669+F670+F671+F672+F673+F674+F675+F676+F677+F678+F679+F680+F681+F682+F683+F684 -> 14323590 | AA26: =H655+H656+H657+H658+H659+H660+H661+H662+H663+H664+H665+H666+H667+H668+H669+H670+H671+H672+H673+H674+H675+H676+H677+H678+H679+H680+H681+H682+H683+H684 -> 3446836 | AB26: =J655+J656+J657+J658+J659+J660+J661+J662+J663+J664+J665+J666+J667+J668+J669+J670+J671+J672+J673+J674+J675+J676+J677+J678+J679+J680+J681+J682+J683+J684 -> 9143474
A27: 굴삭기(무한궤도) | B27: 1.0 M3 | C27: 1 | D27: HR | E27: =중기사용료목록!E25 -> 29095 | F27: =TRUNC(E27*C27,0) -> 29095 | G27: =중기사용료목록!F25 -> 25758 | H27: =TRUNC(G27*C27,0) -> 25758 | I27: =중기사용료목록!G25 -> 23559 | J27: =TRUNC(I27*C27,0) -> 23559 | K27: =E27+G27+I27 -> 78412 | L27: =F27+H27+J27 -> 78412 | P27: 220 | R27: E0002010100 | Z27: =F685+F686+F687+F688+F689+F690+F691+F692+F693+F694+F695+F696+F697+F698+F699+F700+F701+F702+F703+F704+F705+F706+F707+F708+F709+F710+F711+F712+F713+F714 -> 919871 | AA27: =H685+H686+H687+H688+H689+H690+H691+H692+H693+H694+H695+H696+H697+H698+H699+H700+H701+H702+H703+H704+H705+H706+H707+H708+H709+H710+H711+H712+H713+H714 -> 1491807 | AB27: =J685+J686+J687+J688+J689+J690+J691+J692+J693+J694+J695+J696+J697+J698+J699+J700+J701+J702+J703+J704+J705+J706+J707+J708+J709+J710+J711+J712+J713+J714 -> 921418
A28: 굴삭기(무한궤도) | B28: 1.2 M3 | C28: 1 | D28: HR | E28: =중기사용료목록!E26 -> 30139 | F28: =TRUNC(E28*C28,0) -> 30139 | G28: =중기사용료목록!F26 -> 25758 | H28: =TRUNC(G28*C28,0) -> 25758 | I28: =중기사용료목록!G26 -> 26935 | J28: =TRUNC(I28*C28,0) -> 26935 | K28: =E28+G28+I28 -> 82832 | L28: =F28+H28+J28 -> 82832 | P28: 230 | R28: E0002010120 | Z28: =F715+F716+F717+F718+F719+F720+F721+F722+F723 -> 2290122 | AA28: =H715+H716+H717+H718+H719+H720+H721+H722+H723 -> 569459 | AB28: =J715+J716+J717+J718+J719+J720+J721+J722+J723 -> 591881
A29: 굴삭기(무한궤도) | B29: 2.0 M3 | C29: 1 | D29: HR | E29: =중기사용료목록!E27 -> 48939 | F29: =TRUNC(E29*C29,0) -> 48939 | G29: =중기사용료목록!F27 -> 25758 | H29: =TRUNC(G29*C29,0) -> 25758 | I29: =중기사용료목록!G27 -> 48552 | J29: =TRUNC(I29*C29,0) -> 48552 | K29: =E29+G29+I29 -> 123249 | L29: =F29+H29+J29 -> 123249 | P29: 240 | R29: E0002010200
A30: 굴삭기(타이어) | B30: 0.18 M3 | C30: 1 | D30: HR | E30: =중기사용료목록!E28 -> 8492 | F30: =TRUNC(E30*C30,0) -> 8492 | G30: =중기사용료목록!F28 -> 25758 | H30: =TRUNC(G30*C30,0) -> 25758 | I30: =중기사용료목록!G28 -> 12947 | J30: =TRUNC(I30*C30,0) -> 12947 | K30: =E30+G30+I30 -> 47197 | L30: =F30+H30+J30 -> 47197 | P30: 250 | R30: E0002110018
A31: 굴삭기(타이어) | B31: 0.6 M3 | C31: 1 | D31: HR | E31: =중기사용료목록!E29 -> 17591 | F31: =TRUNC(E31*C31,0) -> 17591 | G31: =중기사용료목록!F29 -> 25758 | H31: =TRUNC(G31*C31,0) -> 25758 | I31: =중기사용료목록!G29 -> 21622 | J31: =TRUNC(I31*C31,0) -> 21622 | K31: =E31+G31+I31 -> 64971 | L31: =F31+H31+J31 -> 64971 | P31: 260 | R31: E0002110060
A32: 굴삭기(타이어) | B32: 0.8 M3 | C32: 1 | D32: HR | E32: =중기사용료목록!E30 -> 24719 | F32: =TRUNC(E32*C32,0) -> 24719 | G32: =중기사용료목록!F30 -> 25758 | H32: =TRUNC(G32*C32,0) -> 25758 | I32: =중기사용료목록!G30 -> 25531 | J32: =TRUNC(I32*C32,0) -> 25531 | K32: =E32+G32+I32 -> 76008 | L32: =F32+H32+J32 -> 76008 | P32: 270 | R32: E0002110080
A33: 굴삭기(타이어) | B33: 1.0 M3 | C33: 1 | D33: HR | E33: =중기사용료목록!E31 -> 31088 | F33: =TRUNC(E33*C33,0) -> 31088 | G33: =중기사용료목록!F31 -> 25758 | H33: =TRUNC(G33*C33,0) -> 25758 | I33: =중기사용료목록!G31 -> 26935 | J33: =TRUNC(I33*C33,0) -> 26935 | K33: =E33+G33+I33 -> 83781 | L33: =F33+H33+J33 -> 83781 | P33: 280 | R33: E0002110100
A34: 습지 굴삭기 (유압식백호우) | B34: 0.4 M3 | C34: 1 | D34: HR | E34: =중기사용료목록!E32 -> 13361 | F34: =TRUNC(E34*C34,0) -> 13361 | G34: =중기사용료목록!F32 -> 25758 | H34: =TRUNC(G34*C34,0) -> 25758 | I34: =중기사용료목록!G32 -> 15031 | J34: =TRUNC(I34*C34,0) -> 15031 | K34: =E34+G34+I34 -> 54150 | L34: =F34+H34+J34 -> 54150 | P34: 290 | R34: E0002210040
A35: 습지 굴삭기 (유압식백호우) | B35: 0.7 M3 | C35: 1 | D35: HR | E35: =중기사용료목록!E33 -> 15470 | F35: =TRUNC(E35*C35,0) -> 15470 | G35: =중기사용료목록!F33 -> 25758 | H35: =TRUNC(G35*C35,0) -> 25758 | I35: =중기사용료목록!G33 -> 19682 | J35: =TRUNC(I35*C35,0) -> 19682 | K35: =E35+G35+I35 -> 60910 | L35: =F35+H35+J35 -> 60910 | P35: 300 | R35: E0002210070
A36: 대형 브레이카 | B36: 0.2 M3용 | C36: 1 | D36: HR | E36: =중기사용료목록!E34 -> 0 | F36: =TRUNC(E36*C36,0) -> 0 | G36: =중기사용료목록!F34 -> 0 | H36: =TRUNC(G36*C36,0) -> 0 | I36: =중기사용료목록!G34 -> 2155 | J36: =TRUNC(I36*C36,0) -> 2155 | K36: =E36+G36+I36 -> 2155 | L36: =F36+H36+J36 -> 2155 | P36: 310 | R36: E0002300002
A37: 대형 브레이카 | B37: 0.4 M3용 | C37: 1 | D37: HR | E37: =중기사용료목록!E35 -> 0 | F37: =TRUNC(E37*C37,0) -> 0 | G37: =중기사용료목록!F35 -> 0 | H37: =TRUNC(G37*C37,0) -> 0 | I37: =중기사용료목록!G35 -> 3952 | J37: =TRUNC(I37*C37,0) -> 3952 | K37: =E37+G37+I37 -> 3952 | L37: =F37+H37+J37 -> 3952 | P37: 320 | R37: E0002300004
A38: 대형 브레이카 | B38: 0.6 M3용 | C38: 1 | D38: HR | E38: =중기사용료목록!E36 -> 0 | F38: =TRUNC(E38*C38,0) -> 0 | G38: =중기사용료목록!F36 -> 0 | H38: =TRUNC(G38*C38,0) -> 0 | I38: =중기사용료목록!G36 -> 7225 | J38: =TRUNC(I38*C38,0) -> 7225 | K38: =E38+G38+I38 -> 7225 | L38: =F38+H38+J38 -> 7225 | P38: 330 | R38: E0002300006
A39: 대형 브레이카 | B39: 0.7 M3용 | C39: 1 | D39: HR | E39: =중기사용료목록!E37 -> 0 | F39: =TRUNC(E39*C39,0) -> 0 | G39: =중기사용료목록!F37 -> 0 | H39: =TRUNC(G39*C39,0) -> 0 | I39: =중기사용료목록!G37 -> 8982 | J39: =TRUNC(I39*C39,0) -> 8982 | K39: =E39+G39+I39 -> 8982 | L39: =F39+H39+J39 -> 8982 | P39: 340 | R39: E0002300007
A40: 대형 브레이카 | B40: 0.8 M3용 | C40: 1 | D40: HR | E40: =중기사용료목록!E38 -> 0 | F40: =TRUNC(E40*C40,0) -> 0 | G40: =중기사용료목록!F38 -> 0 | H40: =TRUNC(G40*C40,0) -> 0 | I40: =중기사용료목록!G38 -> 9799 | J40: =TRUNC(I40*C40,0) -> 9799 | K40: =E40+G40+I40 -> 9799 | L40: =F40+H40+J40 -> 9799 | P40: 350 | R40: E0002300008
A41: 대형 브레이카 | B41: 1 0 M3용 | C41: 1 | D41: HR | E41: =중기사용료목록!E39 -> 0 | F41: =TRUNC(E41*C41,0) -> 0 | G41: =중기사용료목록!F39 -> 0 | H41: =TRUNC(G41*C41,0) -> 0 | I41: =중기사용료목록!G39 -> 14372 | J41: =TRUNC(I41*C41,0) -> 14372 | K41: =E41+G41+I41 -> 14372 | L41: =F41+H41+J41 -> 14372 | M41: 2015년 신설 | P41: 360 | R41: E0002300010
A42: 대형브레이카용 치즐 | B42: 0.4 M3용 | C42: 1 | D42: HR | E42: =중기사용료목록!E40 -> 0 | F42: =TRUNC(E42*C42,0) -> 0 | G42: =중기사용료목록!F40 -> 0 | H42: =TRUNC(G42*C42,0) -> 0 | I42: =중기사용료목록!G40 -> 63 | J42: =TRUNC(I42*C42,0) -> 63 | K42: =E42+G42+I42 -> 63 | L42: =F42+H42+J42 -> 63 | P42: 370 | R42: E0002310004
A43: 대형브레이카용 치즐 | B43: 0.7 M3용 | C43: 1 | D43: HR | E43: =중기사용료목록!E41 -> 0 | F43: =TRUNC(E43*C43,0) -> 0 | G43: =중기사용료목록!F41 -> 0 | H43: =TRUNC(G43*C43,0) -> 0 | I43: =중기사용료목록!G41 -> 252 | J43: =TRUNC(I43*C43,0) -> 252 | K43: =E43+G43+I43 -> 252 | L43: =F43+H43+J43 -> 252 | P43: 380 | R43: E0002310007
A44: 유압식 진동 콤팩터(굴삭기부착용) | B44: 0.7 M3용 | C44: 1 | D44: HR | E44: =중기사용료목록!E42 -> 0 | F44: =TRUNC(E44*C44,0) -> 0 | G44: =중기사용료목록!F42 -> 0 | H44: =TRUNC(G44*C44,0) -> 0 | I44: =중기사용료목록!G42 -> 4297 | J44: =TRUNC(I44*C44,0) -> 4297 | K44: =E44+G44+I44 -> 4297 | L44: =F44+H44+J44 -> 4297 | P44: 390 | R44: E0002400007
A45: 압쇄기(펄버라이저) | B45: 0.8M3용 | C45: 1 | D45: HR | E45: =중기사용료목록!E43 -> 0 | F45: =TRUNC(E45*C45,0) -> 0 | G45: =중기사용료목록!F43 -> 0 | H45: =TRUNC(G45*C45,0) -> 0 | I45: =중기사용료목록!G43 -> 13066 | J45: =TRUNC(I45*C45,0) -> 13066 | K45: =E45+G45+I45 -> 13066 | L45: =F45+H45+J45 -> 13066 | P45: 400 | R45: E0002500080
A46: 압쇄기(펄버라이저) | B46: 1.0M3용 | C46: 1 | D46: HR | E46: =중기사용료목록!E44 -> 0 | F46: =TRUNC(E46*C46,0) -> 0 | G46: =중기사용료목록!F44 -> 0 | H46: =TRUNC(G46*C46,0) -> 0 | I46: =중기사용료목록!G44 -> 15025 | J46: =TRUNC(I46*C46,0) -> 15025 | K46: =E46+G46+I46 -> 15025 | L46: =F46+H46+J46 -> 15025 | P46: 410 | R46: E0002500100
A47: 트랜쳐 | B47: 3.55 TON | C47: 1 | D47: HR | E47: =중기사용료목록!E45 -> 10980 | F47: =TRUNC(E47*C47,0) -> 10980 | G47: =중기사용료목록!F45 -> 25758 | H47: =TRUNC(G47*C47,0) -> 25758 | I47: =중기사용료목록!G45 -> 145922 | J47: =TRUNC(I47*C47,0) -> 145922 | K47: =E47+G47+I47 -> 182660 | L47: =F47+H47+J47 -> 182660 | P47: 420 | R47: E0002600355
A48: 로더 (무한궤도) | B48: 0.57 M3 | C48: 1 | D48: HR | E48: =중기사용료목록!E46 -> 7103 | F48: =TRUNC(E48*C48,0) -> 7103 | G48: =중기사용료목록!F46 -> 25758 | H48: =TRUNC(G48*C48,0) -> 25758 | I48: =중기사용료목록!G46 -> 10870 | J48: =TRUNC(I48*C48,0) -> 10870 | K48: =E48+G48+I48 -> 43731 | L48: =F48+H48+J48 -> 43731 | P48: 430 | R48: E0003010057
A49: 로더 (무한궤도) | B49: 0.76 M3 | C49: 1 | D49: HR | E49: =중기사용료목록!E47 -> 9322 | F49: =TRUNC(E49*C49,0) -> 9322 | G49: =중기사용료목록!F47 -> 25758 | H49: =TRUNC(G49*C49,0) -> 25758 | I49: =중기사용료목록!G47 -> 14213 | J49: =TRUNC(I49*C49,0) -> 14213 | K49: =E49+G49+I49 -> 49293 | L49: =F49+H49+J49 -> 49293 | P49: 440 | R49: E0003010076
A50: 로더(무한궤도) | B50: 0.95 M3 | C50: 1 | D50: HR | E50: =중기사용료목록!E48 -> 10950 | F50: =TRUNC(E50*C50,0) -> 10950 | G50: =중기사용료목록!F48 -> 25758 | H50: =TRUNC(G50*C50,0) -> 25758 | I50: =중기사용료목록!G48 -> 17416 | J50: =TRUNC(I50*C50,0) -> 17416 | K50: =E50+G50+I50 -> 54124 | L50: =F50+H50+J50 -> 54124 | P50: 450 | R50: E0003010095
A51: 로더(무한궤도) | B51: 1.15 M3 | C51: 1 | D51: HR | E51: =중기사용료목록!E49 -> 14058 | F51: =TRUNC(E51*C51,0) -> 14058 | G51: =중기사용료목록!F49 -> 25758 | H51: =TRUNC(G51*C51,0) -> 25758 | I51: =중기사용료목록!G49 -> 20637 | J51: =TRUNC(I51*C51,0) -> 20637 | K51: =E51+G51+I51 -> 60453 | L51: =F51+H51+J51 -> 60453 | P51: 460 | R51: E0003010115
A52: 로더(무한궤도) | B52: 1.34 M3 | C52: 1 | D52: HR | E52: =중기사용료목록!E50 -> 16722 | F52: =TRUNC(E52*C52,0) -> 16722 | G52: =중기사용료목록!F50 -> 25758 | H52: =TRUNC(G52*C52,0) -> 25758 | I52: =중기사용료목록!G50 -> 23552 | J52: =TRUNC(I52*C52,0) -> 23552 | K52: =E52+G52+I52 -> 66032 | L52: =F52+H52+J52 -> 66032 | P52: 470 | R52: E0003010134
A53: 로더(무한궤도) | B53: 1.53 M3 | C53: 1 | D53: HR | E53: =중기사용료목록!E51 -> 19681 | F53: =TRUNC(E53*C53,0) -> 19681 | G53: =중기사용료목록!F51 -> 25758 | H53: =TRUNC(G53*C53,0) -> 25758 | I53: =중기사용료목록!G51 -> 26329 | J53: =TRUNC(I53*C53,0) -> 26329 | K53: =E53+G53+I53 -> 71768 | L53: =F53+H53+J53 -> 71768 | P53: 480 | R53: E0003010153
... A304: 콘크리트 펌프 | B304: 20-26 M3/HR (30 kw) | C304: 1 | D304: HR | E304: =중기사용료목록!E302 -> 0 | F304: =TRUNC(E304*C304,0) -> 0 | G304: =중기사용료목록!F302 -> 0 | H304: =TRUNC(G304*C304,0) -> 0 | I304: =중기사용료목록!G302 -> 20721 | J304: =TRUNC(I304*C304,0) -> 20721 | K304: =E304+G304+I304 -> 20721 | L304: =F304+H304+J304 -> 20721 | P304: 2990 | R304: E0045050026
A305: 초고압펌프 | B305: 200 KG/CM2 | C305: 1 | D305: HR | E305: =중기사용료목록!E303 -> 10781 | F305: =TRUNC(E305*C305,0) -> 10781 | G305: =중기사용료목록!F303 -> 0 | H305: =TRUNC(G305*C305,0) -> 0 | I305: =중기사용료목록!G303 -> 19059 | J305: =TRUNC(I305*C305,0) -> 19059 | K305: =E305+G305+I305 -> 29840 | L305: =F305+H305+J305 -> 29840 | M305: 2015년 신설 | P305: 3000 | R305: E0045060200
A306: 초고압펌프 | B306: 400 KG/CM2 | C306: 1 | D306: HR | E306: =중기사용료목록!E304 -> 30785 | F306: =TRUNC(E306*C306,0) -> 30785 | G306: =중기사용료목록!F304 -> 0 | H306: =TRUNC(G306*C306,0) -> 0 | I306: =중기사용료목록!G304 -> 80725 | J306: =TRUNC(I306*C306,0) -> 80725 | K306: =E306+G306+I306 -> 111510 | L306: =F306+H306+J306 -> 111510 | M306: 2015년 신설 | P306: 3010 | R306: E0045060400
A307: 콘크리트 진동기 | B307: 전기식플렉시블형Φ45(0.75KW) | C307: 1 | D307: HR | E307: =중기사용료목록!E305 -> 0 | F307: =TRUNC(E307*C307,0) -> 0 | G307: =중기사용료목록!F305 -> 0 | H307: =TRUNC(G307*C307,0) -> 0 | I307: =중기사용료목록!G305 -> 79 | J307: =TRUNC(I307*C307,0) -> 79 | K307: =E307+G307+I307 -> 79 | L307: =F307+H307+J307 -> 79 | P307: 3020 | R307: E0046110075
A308: 콘크리트 진동기 | B308: 엔진식플렉시블형Φ45(2.6KW) | C308: 1 | D308: HR | E308: =중기사용료목록!E306 -> 1538 | F308: =TRUNC(E308*C308,0) -> 1538 | G308: =중기사용료목록!F306 -> 0 | H308: =TRUNC(G308*C308,0) -> 0 | I308: =중기사용료목록!G306 -> 158 | J308: =TRUNC(I308*C308,0) -> 158 | K308: =E308+G308+I308 -> 1696 | L308: =F308+H308+J308 -> 1696 | P308: 3030 | R308: E0046110350
A309: 호안블럭 제작기 | B309: 20 KW | C309: 1 | D309: HR | E309: =중기사용료목록!E307 -> 0 | F309: =TRUNC(E309*C309,0) -> 0 | G309: =중기사용료목록!F307 -> 18412 | H309: =TRUNC(G309*C309,0) -> 18412 | I309: =중기사용료목록!G307 -> 2953 | J309: =TRUNC(I309*C309,0) -> 2953 | K309: =E309+G309+I309 -> 21365 | L309: =F309+H309+J309 -> 21365 | P309: 3040 | R309: E0047110020
A310: 크러셔(이동식) | B310: 50(93KW) TON/hr | C310: 1 | D310: HR | E310: =중기사용료목록!E308 -> 0 | F310: =TRUNC(E310*C310,0) -> 0 | G310: =중기사용료목록!F308 -> 25758 | H310: =TRUNC(G310*C310,0) -> 25758 | I310: =중기사용료목록!G308 -> 52067 | J310: =TRUNC(I310*C310,0) -> 52067 | K310: =E310+G310+I310 -> 77825 | L310: =F310+H310+J310 -> 77825 | P310: 3050 | R310: E0051050050
A311: 크러셔(이동식) | B311: 100(155KW) TON/hr | C311: 1 | D311: HR | E311: =중기사용료목록!E309 -> 0 | F311: =TRUNC(E311*C311,0) -> 0 | G311: =중기사용료목록!F309 -> 25758 | H311: =TRUNC(G311*C311,0) -> 25758 | I311: =중기사용료목록!G309 -> 72283 | J311: =TRUNC(I311*C311,0) -> 72283 | K311: =E311+G311+I311 -> 98041 | L311: =F311+H311+J311 -> 98041 | P311: 3060 | R311: E0051050100
A312: 크러셔(이동식) | B312: 150(260KW) TON/hr | C312: 1 | D312: HR | E312: =중기사용료목록!E310 -> 0 | F312: =TRUNC(E312*C312,0) -> 0 | G312: =중기사용료목록!F310 -> 25758 | H312: =TRUNC(G312*C312,0) -> 25758 | I312: =중기사용료목록!G310 -> 81319 | J312: =TRUNC(I312*C312,0) -> 81319 | K312: =E312+G312+I312 -> 107077 | L312: =F312+H312+J312 -> 107077 | P312: 3070 | R312: E0051050150
A313: 크러셔(이동식) | B313: 200(326KW) TON/hr | C313: 1 | D313: HR | E313: =중기사용료목록!E311 -> 0 | F313: =TRUNC(E313*C313,0) -> 0 | G313: =중기사용료목록!F311 -> 25758 | H313: =TRUNC(G313*C313,0) -> 25758 | I313: =중기사용료목록!G311 -> 88549 | J313: =TRUNC(I313*C313,0) -> 88549 | K313: =E313+G313+I313 -> 114307 | L313: =F313+H313+J313 -> 114307 | P313: 3080 | R313: E0051050200
A314: 벨트콘베이어 | B314: 40.64 CM X 15.24M (3.73KW) | C314: 1 | D314: HR | E314: =중기사용료목록!E312 -> 0 | F314: =TRUNC(E314*C314,0) -> 0 | G314: =중기사용료목록!F312 -> 0 | H314: =TRUNC(G314*C314,0) -> 0 | I314: =중기사용료목록!G312 -> 1211 | J314: =TRUNC(I314*C314,0) -> 1211 | K314: =E314+G314+I314 -> 1211 | L314: =F314+H314+J314 -> 1211 | P314: 3090 | R314: E0051110040
A315: 벨트콘베이어 | B315: 42.72 CM X 15.24M (5.60 KW) | C315: 1 | D315: HR | E315: =중기사용료목록!E313 -> 0 | F315: =TRUNC(E315*C315,0) -> 0 | G315: =중기사용료목록!F313 -> 0 | H315: =TRUNC(G315*C315,0) -> 0 | I315: =중기사용료목록!G313 -> 1270 | J315: =TRUNC(I315*C315,0) -> 1270 | K315: =E315+G315+I315 -> 1270 | L315: =F315+H315+J315 -> 1270 | P315: 3100 | R315: E0051110050
A316: 벨트콘베이어 | B316: 60.96 CM X 15.24M (7.46KW) | C316: 1 | D316: HR | E316: =중기사용료목록!E314 -> 0 | F316: =TRUNC(E316*C316,0) -> 0 | G316: =중기사용료목록!F314 -> 0 | H316: =TRUNC(G316*C316,0) -> 0 | I316: =중기사용료목록!G314 -> 1504 | J316: =TRUNC(I316*C316,0) -> 1504 | K316: =E316+G316+I316 -> 1504 | L316: =F316+H316+J316 -> 1504 | P316: 3110 | R316: E0051110060
A317: 벨트콘베이어 | B317: 76.20 CM X 15.24M (11.19KW) | C317: 1 | D317: HR | E317: =중기사용료목록!E315 -> 0 | F317: =TRUNC(E317*C317,0) -> 0 | G317: =중기사용료목록!F315 -> 0 | H317: =TRUNC(G317*C317,0) -> 0 | I317: =중기사용료목록!G315 -> 1722 | J317: =TRUNC(I317*C317,0) -> 1722 | K317: =E317+G317+I317 -> 1722 | L317: =F317+H317+J317 -> 1722 | P317: 3120 | R317: E0051110076
A318: 벨트콘베이어 | B318: 91.44 CM X 15.24M (14.92KW) | C318: 1 | D318: HR | E318: =중기사용료목록!E316 -> 0 | F318: =TRUNC(E318*C318,0) -> 0 | G318: =중기사용료목록!F316 -> 0 | H318: =TRUNC(G318*C318,0) -> 0 | I318: =중기사용료목록!G316 -> 2034 | J318: =TRUNC(I318*C318,0) -> 2034 | K318: =E318+G318+I318 -> 2034 | L318: =F318+H318+J318 -> 2034 | P318: 3130 | R318: E0051110091
... A411: 그라우팅믹서 | B411: 390L X 2 (5KW) | C411: 1 | D411: HR | E411: =중기사용료목록!E409 -> 0 | F411: =TRUNC(E411*C411,0) -> 0 | G411: =중기사용료목록!F409 -> 0 | H411: =TRUNC(G411*C411,0) -> 0 | I411: =중기사용료목록!G409 -> 1468 | J411: =TRUNC(I411*C411,0) -> 1468 | K411: =E411+G411+I411 -> 1468 | L411: =F411+H411+J411 -> 1468 | P411: 4060 | R411: E0061050390
A412: J.S.P용 믹서 | B412: 1 M3 | C412: 1 | D412: HR | E412: =중기사용료목록!E410 -> 0 | F412: =TRUNC(E412*C412,0) -> 0 | G412: =중기사용료목록!F410 -> 0 | H412: =TRUNC(G412*C412,0) -> 0 | I412: =중기사용료목록!G410 -> 0 | J412: =TRUNC(I412*C412,0) -> 0 | K412: =E412+G412+I412 -> 0 | L412: =F412+H412+J412 -> 0 | M412: 2015년 삭제 | P412: 4070 | R412: E0061060100
A413: 안정액믹서(벤토나이트믹서) | B413: 1.5KW | C413: 1 | D413: HR | E413: =중기사용료목록!E411 -> 0 | F413: =TRUNC(E413*C413,0) -> 0 | G413: =중기사용료목록!F411 -> 0 | H413: =TRUNC(G413*C413,0) -> 0 | I413: =중기사용료목록!G411 -> 7705 | J413: =TRUNC(I413*C413,0) -> 7705 | K413: =E413+G413+I413 -> 7705 | L413: =F413+H413+J413 -> 7705 | P413: 4080 | R413: E0061070015
A414: 그라우팅 펌프 | B414: 30-60 L/MIN(3.7kw) | C414: 1 | D414: HR | E414: =중기사용료목록!E412 -> 0 | F414: =TRUNC(E414*C414,0) -> 0 | G414: =중기사용료목록!F412 -> 0 | H414: =TRUNC(G414*C414,0) -> 0 | I414: =중기사용료목록!G412 -> 1595 | J414: =TRUNC(I414*C414,0) -> 1595 | K414: =E414+G414+I414 -> 1595 | L414: =F414+H414+J414 -> 1595 | P414: 4090 | R414: E0062020060
A415: 그라우팅 펌프 | B415: 40-125 L/MIN(7.5kw) | C415: 1 | D415: HR | E415: =중기사용료목록!E413 -> 0 | F415: =TRUNC(E415*C415,0) -> 0 | G415: =중기사용료목록!F413 -> 0 | H415: =TRUNC(G415*C415,0) -> 0 | I415: =중기사용료목록!G413 -> 2323 | J415: =TRUNC(I415*C415,0) -> 2323 | K415: =E415+G415+I415 -> 2323 | L415: =F415+H415+J415 -> 2323 | P415: 4100 | R415: E0062020125
A416: 그라우팅 펌프 | B416: 50-200 L/MIN(11kw) | C416: 1 | D416: HR | E416: =중기사용료목록!E414 -> 0 | F416: =TRUNC(E416*C416,0) -> 0 | G416: =중기사용료목록!F414 -> 0 | H416: =TRUNC(G416*C416,0) -> 0 | I416: =중기사용료목록!G414 -> 3354 | J416: =TRUNC(I416*C416,0) -> 3354 | K416: =E416+G416+I416 -> 3354 | L416: =F416+H416+J416 -> 3354 | P416: 4110 | R416: E0062020200
A417: 이수분리기 | B417: 56.7KW | C417: 1 | D417: HR | E417: =중기사용료목록!E415 -> 10823 | F417: =TRUNC(E417*C417,0) -> 10823 | G417: =중기사용료목록!F415 -> 25758 | H417: =TRUNC(G417*C417,0) -> 25758 | I417: =중기사용료목록!G415 -> 0 | J417: =TRUNC(I417*C417,0) -> 0 | K417: =E417+G417+I417 -> 36581 | L417: =F417+H417+J417 -> 36581 | P417: 4120 | R417: E0062030076
A418: 디이젤 파일햄머 | B418: 1.5 TON | C418: 1 | D418: HR | E418: =중기사용료목록!E416 -> 12141 | F418: =TRUNC(E418*C418,0) -> 12141 | G418: =중기사용료목록!F416 -> 25758 | H418: =TRUNC(G418*C418,0) -> 25758 | I418: =중기사용료목록!G416 -> 6620 | J418: =TRUNC(I418*C418,0) -> 6620 | K418: =E418+G418+I418 -> 44519 | L418: =F418+H418+J418 -> 44519 | P418: 4130 | R418: E0063300015
A419: 디이젤 파일햄머 | B419: 2.2 TON | C419: 1 | D419: HR | E419: =중기사용료목록!E417 -> 19626 | F419: =TRUNC(E419*C419,0) -> 19626 | G419: =중기사용료목록!F417 -> 25758 | H419: =TRUNC(G419*C419,0) -> 25758 | I419: =중기사용료목록!G417 -> 9994 | J419: =TRUNC(I419*C419,0) -> 9994 | K419: =E419+G419+I419 -> 55378 | L419: =F419+H419+J419 -> 55378 | P419: 4140 | R419: E0063300022
A420: 디이젤 파일햄머 | B420: 3.2 TON | C420: 1 | D420: HR | E420: =중기사용료목록!E418 -> 25780 | F420: =TRUNC(E420*C420,0) -> 25780 | G420: =중기사용료목록!F418 -> 25758 | H420: =TRUNC(G420*C420,0) -> 25758 | I420: =중기사용료목록!G418 -> 14990 | J420: =TRUNC(I420*C420,0) -> 14990 | K420: =E420+G420+I420 -> 66528 | L420: =F420+H420+J420 -> 66528 | P420: 4150 | R420: E0063300032
A421: 디이젤 파일햄머 | B421: 4.0 TON | C421: 1 | D421: HR | E421: =중기사용료목록!E419 -> 33265 | F421: =TRUNC(E421*C421,0) -> 33265 | G421: =중기사용료목록!F419 -> 25758 | H421: =TRUNC(G421*C421,0) -> 25758 | I421: =중기사용료목록!G419 -> 19291 | J421: =TRUNC(I421*C421,0) -> 19291 | K421: =E421+G421+I421 -> 78314 | L421: =F421+H421+J421 -> 78314 | P421: 4160 | R421: E0063300040
A422: 보오링기계 | B422: 40.5MM X 150M (7.46KW) | C422: 1 | D422: HR | E422: =중기사용료목록!E420 -> 0 | F422: =TRUNC(E422*C422,0) -> 0 | G422: =중기사용료목록!F420 -> 0 | H422: =TRUNC(G422*C422,0) -> 0 | I422: =중기사용료목록!G420 -> 1793 | J422: =TRUNC(I422*C422,0) -> 1793 | K422: =E422+G422+I422 -> 1793 | L422: =F422+H422+J422 -> 1793 | P422: 4170 | R422: E0064080015
A423: 보오링기계 | B423: 50MM X 200M (11.19KW) | C423: 1 | D423: HR | E423: =중기사용료목록!E421 -> 0 | F423: =TRUNC(E423*C423,0) -> 0 | G423: =중기사용료목록!F421 -> 0 | H423: =TRUNC(G423*C423,0) -> 0 | I423: =중기사용료목록!G421 -> 2015 | J423: =TRUNC(I423*C423,0) -> 2015 | K423: =E423+G423+I423 -> 2015 | L423: =F423+H423+J423 -> 2015 | P423: 4180 | R423: E0064080020
A424: 보오링기계 | B424: 50MM X 300M (11.19KW) | C424: 1 | D424: HR | E424: =중기사용료목록!E422 -> 0 | F424: =TRUNC(E424*C424,0) -> 0 | G424: =중기사용료목록!F422 -> 0 | H424: =TRUNC(G424*C424,0) -> 0 | I424: =중기사용료목록!G422 -> 2147 | J424: =TRUNC(I424*C424,0) -> 2147 | K424: =E424+G424+I424 -> 2147 | L424: =F424+H424+J424 -> 2147 | P424: 4190 | R424: E0064080030
... A428: 보오링기계 | B428: 60MM X 1000M (37.30KW) | C428: 1 | D428: HR | E428: =중기사용료목록!E426 -> 0 | F428: =TRUNC(E428*C428,0) -> 0 | G428: =중기사용료목록!F426 -> 0 | H428: =TRUNC(G428*C428,0) -> 0 | I428: =중기사용료목록!G426 -> 6181 | J428: =TRUNC(I428*C428,0) -> 6181 | K428: =E428+G428+I428 -> 6181 | L428: =F428+H428+J428 -> 6181 | P428: 4230 | R428: E0064080100
A429: 보링 기계 | B429: (JSP용) | C429: 1 | D429: HR | E429: =중기사용료목록!E427 -> 0 | F429: =TRUNC(E429*C429,0) -> 0 | G429: =중기사용료목록!F427 -> 0 | H429: =TRUNC(G429*C429,0) -> 0 | I429: =중기사용료목록!G427 -> 0 | J429: =TRUNC(I429*C429,0) -> 0 | K429: =E429+G429+I429 -> 0 | L429: =F429+H429+J429 -> 0 | M429: 2015년 삭제 | P429: 4240 | R429: E0064090001
A430: 보링 기계 | B430: 굴착용(4.2TON) | C430: 1 | D430: HR | E430: =중기사용료목록!E428 -> 0 | F430: =TRUNC(E430*C430,0) -> 0 | G430: =중기사용료목록!F428 -> 0 | H430: =TRUNC(G430*C430,0) -> 0 | I430: =중기사용료목록!G428 -> 0 | J430: =TRUNC(I430*C430,0) -> 0 | K430: =E430+G430+I430 -> 0 | L430: =F430+H430+J430 -> 0 | P430: 4250 | R430: E0064090002
A431: 오거 | B431: 59.68kW | C431: 1 | D431: HR | E431: =중기사용료목록!E429 -> 0 | F431: =TRUNC(E431*C431,0) -> 0 | G431: =중기사용료목록!F429 -> 0 | H431: =TRUNC(G431*C431,0) -> 0 | I431: =중기사용료목록!G429 -> 14503 | J431: =TRUNC(I431*C431,0) -> 14503 | K431: =E431+G431+I431 -> 14503 | L431: =F431+H431+J431 -> 14503 | P431: 4260 | R431: E0064100080
A432: 오거 | B432: 74.60kW | C432: 1 | D432: HR | E432: =중기사용료목록!E430 -> 0 | F432: =TRUNC(E432*C432,0) -> 0 | G432: =중기사용료목록!F430 -> 0 | H432: =TRUNC(G432*C432,0) -> 0 | I432: =중기사용료목록!G430 -> 18532 | J432: =TRUNC(I432*C432,0) -> 18532 | K432: =E432+G432+I432 -> 18532 | L432: =F432+H432+J432 -> 18532 | P432: 4270 | R432: E0064100100
A433: 오거 | B433: 89.52kW | C433: 1 | D433: HR | E433: =중기사용료목록!E431 -> 0 | F433: =TRUNC(E433*C433,0) -> 0 | G433: =중기사용료목록!F431 -> 0 | H433: =TRUNC(G433*C433,0) -> 0 | I433: =중기사용료목록!G431 -> 22561 | J433: =TRUNC(I433*C433,0) -> 22561 | K433: =E433+G433+I433 -> 22561 | L433: =F433+H433+J433 -> 22561 | P433: 4280 | R433: E0064100120
A434: 오거 | B434: 111.90kW | C434: 1 | D434: HR | E434: =중기사용료목록!E432 -> 0 | F434: =TRUNC(E434*C434,0) -> 0 | G434: =중기사용료목록!F432 -> 0 | H434: =TRUNC(G434*C434,0) -> 0 | I434: =중기사용료목록!G432 -> 45014 | J434: =TRUNC(I434*C434,0) -> 45014 | K434: =E434+G434+I434 -> 45014 | L434: =F434+H434+J434 -> 45014 | P434: 4290 | R434: E0064100150
A435: 오거 | B435: 149.20kW | C435: 1 | D435: HR | E435: =중기사용료목록!E433 -> 0 | F435: =TRUNC(E435*C435,0) -> 0 | G435: =중기사용료목록!F433 -> 0 | H435: =TRUNC(G435*C435,0) -> 0 | I435: =중기사용료목록!G433 -> 49956 | J435: =TRUNC(I435*C435,0) -> 49956 | K435: =E435+G435+I435 -> 49956 | L435: =F435+H435+J435 -> 49956 | P435: 4300 | R435: E0064100200
A436: 오실레이터,로테이터 | B436: 1,000mm | C436: 1 | D436: HR | E436: =중기사용료목록!E434 -> 0 | F436: =TRUNC(E436*C436,0) -> 0 | G436: =중기사용료목록!F434 -> 0 | H436: =TRUNC(G436*C436,0) -> 0 | I436: =중기사용료목록!G434 -> 56124 | J436: =TRUNC(I436*C436,0) -> 56124 | K436: =E436+G436+I436 -> 56124 | L436: =F436+H436+J436 -> 56124 | M436: 2015년 신설 | P436: 4310 | R436: E0065100100
A437: 오실레이터,로테이터 | B437: 1,500mm | C437: 1 | D437: HR | E437: =중기사용료목록!E435 -> 0 | F437: =TRUNC(E437*C437,0) -> 0 | G437: =중기사용료목록!F435 -> 0 | H437: =TRUNC(G437*C437,0) -> 0 | I437: =중기사용료목록!G435 -> 65236 | J437: =TRUNC(I437*C437,0) -> 65236 | K437: =E437+G437+I437 -> 65236 | L437: =F437+H437+J437 -> 65236 | M437: 2015년 신설 | P437: 4320 | R437: E0065100150
A438: 오실레이터,로테이터 | B438: 2,000mm | C438: 1 | D438: HR | E438: =중기사용료목록!E436 -> 0 | F438: =TRUNC(E438*C438,0) -> 0 | G438: =중기사용료목록!F436 -> 0 | H438: =TRUNC(G438*C438,0) -> 0 | I438: =중기사용료목록!G436 -> 74556 | J438: =TRUNC(I438*C438,0) -> 74556 | K438: =E438+G438+I438 -> 74556 | L438: =F438+H438+J438 -> 74556 | M438: 2015년 신설 | P438: 4330 | R438: E0065100200
A439: 오실레이터,로테이터 | B439: 2,500mm | C439: 1 | D439: HR | E439: =중기사용료목록!E437 -> 0 | F439: =TRUNC(E439*C439,0) -> 0 | G439: =중기사용료목록!F437 -> 0 | H439: =TRUNC(G439*C439,0) -> 0 | I439: =중기사용료목록!G437 -> 93195 | J439: =TRUNC(I439*C439,0) -> 93195 | K439: =E439+G439+I439 -> 93195 | L439: =F439+H439+J439 -> 93195 | M439: 2015년 신설 | P439: 4340 | R439: E0065100250
A440: 오실레이터,로테이터 | B440: 3,000mm | C440: 1 | D440: HR | E440: =중기사용료목록!E438 -> 0 | F440: =TRUNC(E440*C440,0) -> 0 | G440: =중기사용료목록!F438 -> 0 | H440: =TRUNC(G440*C440,0) -> 0 | I440: =중기사용료목록!G438 -> 124881 | J440: =TRUNC(I440*C440,0) -> 124881 | K440: =E440+G440+I440 -> 124881 | L440: =F440+H440+J440 -> 124881 | M440: 2015년 신설 | P440: 4350 | R440: E0065100300
A441: 유압파워팩 | B441: 67.14kW | C441: 1 | D441: HR | E441: =중기사용료목록!E439 -> 0 | F441: =TRUNC(E441*C441,0) -> 0 | G441: =중기사용료목록!F439 -> 0 | H441: =TRUNC(G441*C441,0) -> 0 | I441: =중기사용료목록!G439 -> 26731 | J441: =TRUNC(I441*C441,0) -> 26731 | K441: =E441+G441+I441 -> 26731 | L441: =F441+H441+J441 -> 26731 | P441: 4360 | R441: E0065150090
A442: 강연성인장기 | B442: 60 TON | C442: 1 | D442: HR | E442: =중기사용료목록!E440 -> 0 | F442: =TRUNC(E442*C442,0) -> 0 | G442: =중기사용료목록!F440 -> 0 | H442: =TRUNC(G442*C442,0) -> 0 | I442: =중기사용료목록!G440 -> 2527 | J442: =TRUNC(I442*C442,0) -> 2527 | K442: =E442+G442+I442 -> 2527 | L442: =F442+H442+J442 -> 2527 | P442: 4370 | R442: E0065160060
A443: 강연성인장기 | B443: 120 TON | C443: 1 | D443: HR | E443: =중기사용료목록!E441 -> 0 | F443: =TRUNC(E443*C443,0) -> 0 | G443: =중기사용료목록!F441 -> 0 | H443: =TRUNC(G443*C443,0) -> 0 | I443: =중기사용료목록!G441 -> 3065 | J443: =TRUNC(I443*C443,0) -> 3065 | K443: =E443+G443+I443 -> 3065 | L443: =F443+H443+J443 -> 3065 | P443: 4380 | R443: E0065160120
A444: 리버스서큘레이션드릴 | B444: 1,000mm | C444: 1 | D444: HR | E444: =중기사용료목록!E442 -> 0 | F444: =TRUNC(E444*C444,0) -> 0 | G444: =중기사용료목록!F442 -> 0 | H444: =TRUNC(G444*C444,0) -> 0 | I444: =중기사용료목록!G442 -> 86373 | J444: =TRUNC(I444*C444,0) -> 86373 | K444: =E444+G444+I444 -> 86373 | L444: =F444+H444+J444 -> 86373 | M444: 2015년 신설 | P444: 4390 | R444: E0065170100
A445: 리버스서큘레이션드릴 | B445: 1,500mm | C445: 1 | D445: HR | E445: =중기사용료목록!E443 -> 0 | F445: =TRUNC(E445*C445,0) -> 0 | G445: =중기사용료목록!F443 -> 0 | H445: =TRUNC(G445*C445,0) -> 0 | I445: =중기사용료목록!G443 -> 92904 | J445: =TRUNC(I445*C445,0) -> 92904 | K445: =E445+G445+I445 -> 92904 | L445: =F445+H445+J445 -> 92904 | M445: 2015년 신설 | P445: 4400 | R445: E0065170150
...

Sheet 일위대가목록
A1: 일위대가목록
K2: 태현개발주식회사. http://taehyeon.co.kr
A3: 공 종 명 | B3: 규 격 | C3: 수 량 | D3: 단 위 | E3: 재 료 비 | F3: 노 무 비 | G3: 경 비 | H3: 합 계 | I3: 비 고 | T3: 재료비 | U3: 노무비 | V3: 경 비 | W3: 합 계 | Y3: 비교검토

Sheet 일위대가_호표
A1: 일위대가_호표
K2: 태현개발주식회사. http://taehyeon.co.kr
A3: 공 종 명 | B3: 규 격 | C3: 수량 | D3: 단위 | E3: 재 료 비 | G3: 노 무 비 | I3: 경 비 | K3: 합 계 | M3: 비 고
E4: 단 가 | F4: 금 액 | G4: 단 가 | H4: 금 액 | I4: 단 가 | J4: 금 액 | K4: 단 가 | L4: 금 액 | S4: 할 증 | T4: 화폐변환 | U4: OP값 | V4: EQ | W4: LA | X4: MA | Y4: 금액계상

Sheet 일위대가_산근
A1: 일위대가_산근
K2: 태현개발주식회사. http://taehyeon.co.kr
A3: 산 출 근 거 | B3: 재 료 비 | C3: 노 무 비 | D3: 경 비 | E3: 합 계 | F3: 비 고

Sheet 중기사용료목록
A1: 중기사용료목록
A2: 태현개발주식회사. http://taehyeon.co.kr
A3: 공 종 명 | B3: 규 격 | C3: 수 량 | D3: 단 위 | E3: 재 료 비 | F3: 노 무 비 | G3: 경 비 | H3: 합 계 | I3: 비 고
A4: 불도저(무한궤도) | B4: 7 TON | C4: 1 | D4: HR | E4: =중기사용료!G11 -> 12768 | F4: =중기사용료!G13 -> 25758 | G4: =중기사용료!G8 -> 9958 | H4: =E4+F4+G4 -> 48484 | K4: E0001010007
A5: 불도저(무한궤도) | C5: 1 | D5: HR | E5: =중기사용료!G23 -> 17733 | F5: =중기사용료!G25 -> 25758 | G5: =중기사용료!G20 -> 21235 | H5: =E5+F5+G5 -> 64726 | K5: E0001010010
A6: 불도저(무한궤도) | B6: 12 TON | C6: 1 | D6: HR | E6: =중기사용료!G35 -> 20712 | F6: =중기사용료!G37 -> 25758 | G6: =중기사용료!G32 -> 25050 | H6: =E6+F6+G6 -> 71520 | K6: E0001010012
A7: 불도저(무한궤도) | B7: 19 TON | C7: 1 | D7: HR | E7: =중기사용료!G47 -> 35467 | F7: =중기사용료!G49 -> 25758 | G7: =중기사용료!G44 -> 25599 | H7: =E7+F7+G7 -> 86824 | K7: E0001010019
A8: 불도저(무한궤도) | B8: 32 TON | C8: 1 | D8: HR | E8: =중기사용료!G59 -> 59017 | F8: =중기사용료!G61 -> 25758 | G8: =중기사용료!G56 -> 33999 | H8: =E8+F8+G8 -> 118774 | K8: E0001010032
A9: 불도저(타이어) | B9: 15 TON | C9: 1 | D9: HR | E9: =중기사용료!G71 -> 35222 | F9: =중기사용료!G73 -> 25758 | G9: =중기사용료!G68 -> 20222 | H9: =E9+F9+G9 -> 81202 | K9: E0001020015
A10: 불도저(타이어) | B10: 28 TON | C10: 1 | D10: HR | E10: =중기사용료!G83 -> 66042 | F10: =중기사용료!G85 -> 25758 | G10: =중기사용료!G80 -> 37367 | H10: =E10+F10+G10 -> 129167 | K10: E0001020028
A11: 불도저(타이어) | B11: 33 TON | C11: 1 | D11: HR | E11: =중기사용료!G95 -> 77782 | F11: =중기사용료!G97 -> 25758 | G11: =중기사용료!G92 -> 47369 | H11: =E11+F11+G11 -> 150909 | K11: E0001020033
A12: 유압식 리퍼 | B12: 16 TON | C12: 1 | D12: HR | E12: 0 | F12: 0 | G12: =중기사용료!G104 -> 850 | H12: =E12+F12+G12 -> 850 | K12: E0001030016
A13: 유압식 리퍼 | B13: 19 TON | C13: 1 | D13: HR | E13: 0 | F13: 0 | G13: =중기사용료!G115 -> 1075 | H13: =E13+F13+G13 -> 1075 | K13: E0001030019
A14: 유압식 리퍼 | B14: 23 TON | C14: 1 | D14: HR | E14: 0 | F14: 0 | G14: =중기사용료!G126 -> 1191 | H14: =E14+F14+G14 -> 1191 | K14: E0001030023
A15: 유압식 리퍼 | B15: 27 TON | C15: 1 | D15: HR | E15: 0 | F15: 0 | G15: =중기사용료!G137 -> 1387 | H15: =E15+F15+G15 -> 1387 | K15: E0001030027
A16: 유압식 리퍼 | B16: 32 TON | C16: 1 | D16: HR | E16: 0 | F16: 0 | G16: =중기사용료!G148 -> 1685 | H16: =E16+F16+G16 -> 1685 | K16: E0001030032
A17: 습지 불도저 | B17: 4 TON | C17: 1 | D17: HR | E17: =중기사용료!G162 -> 8123 | F17: =중기사용료!G164 -> 25758 | G17: =중기사용료!G159 -> 5311 | H17: =E17+F17+G17 -> 39192 | K17: E0001210004
A18: 습지 불도저 | B18: 13 TON | C18: 1 | D18: HR | E18: =중기사용료!G174 -> 21962 | F18: =중기사용료!G176 -> 25758 | G18: =중기사용료!G171 -> 20559 | H18: =E18+F18+G18 -> 68279 | K18: E0001210013
A19: 굴삭기(무한궤도) | B19: 0.12 M3 | C19: 1 | D19: HR | E19: =중기사용료!G186 -> 4735 | F19: =중기사용료!G188 -> 25758 | G19: =중기사용료!G183 -> 7231 | H19: =E19+F19+G19 -> 37724 | K19: E0002010012
A20: 굴삭기(무한궤도) | B20: 0.2 M3 | C20: 1 | D20: HR | E20: =중기사용료!G198 -> 7399 | F20: =중기사용료!G200 -> 25758 | G20: =중기사용료!G195 -> 11251 | H20: =E20+F20+G20 -> 44408 | K20: E0002010020
A21: 굴삭기(무한궤도) | B21: 0.4 M3 | C21: 1 | D21: HR | E21: =중기사용료!G210 -> 14771 | F21: =중기사용료!G212 -> 25758 | G21: =중기사용료!G207 -> 12514 | H21: =E21+F21+G21 -> 53043 | K21: E0002010040
A22: 굴삭기(무한궤도) | B22: 0.6 M3 | C22: 1 | D22: HR | E22: =중기사용료!G222 -> 15219 | F22: =중기사용료!G224 -> 25758 | G22: =중기사용료!G219 -> 18070 | H22: =E22+F22+G22 -> 59047 | K22: E0002010060
A23: 굴삭기(무한궤도) | B23: 0.7 M3 | C23: 1 | D23: HR | E23: =중기사용료!G234 -> 17307 | F23: =중기사용료!G236 -> 25758 | G23: =중기사용료!G231 -> 19708 | H23: =E23+F23+G23 -> 62773 | K23: E0002010070
A24: 굴삭기(무한궤도) | B24: 0.8 M3 | C24: 1 | D24: HR | E24: =중기사용료!G246 -> 22828 | F24: =중기사용료!G248 -> 25758 | G24: =중기사용료!G243 -> 21117 | H24: =E24+F24+G24 -> 69703 | K24: E0002010080
A25: 굴삭기(무한궤도) | B25: 1.0 M3 | C25: 1 | D25: HR | E25: =중기사용료!G258 -> 29095 | F25: =중기사용료!G260 -> 25758 | G25: =중기사용료!G255 -> 23559 | H25: =E25+F25+G25 -> 78412 | K25: E0002010100
A26: 굴삭기(무한궤도) | B26: 1.2 M3 | C26: 1 | D26: HR | E26: =중기사용료!G270 -> 30139 | F26: =중기사용료!G272 -> 25758 | G26: =중기사용료!G267 -> 26935 | H26: =E26+F26+G26 -> 82832 | K26: E0002010120
A27: 굴삭기(무한궤도) | B27: 2.0 M3 | C27: 1 | D27: HR | E27: =중기사용료!G282 -> 48939 | F27: =중기사용료!G284 -> 25758 | G27: =중기사용료!G279 -> 48552 | H27: =E27+F27+G27 -> 123249 | K27: E0002010200
A28: 굴삭기(타이어) | B28: 0.18 M3 | C28: 1 | D28: HR | E28: =중기사용료!G294 -> 8492 | F28: =중기사용료!G296 -> 25758 | G28: =중기사용료!G291 -> 12947 | H28: =E28+F28+G28 -> 47197 | K28: E0002110018
A29: 굴삭기(타이어) | B29: 0.6 M3 | C29: 1 | D29: HR | E29: =중기사용료!G306 -> 17591 | F29: =중기사용료!G308 -> 25758 | G29: =중기사용료!G303 -> 21622 | H29: =E29+F29+G29 -> 64971 | K29: E0002110060
A30: 굴삭기(타이어) | B30: 0.8 M3 | C30: 1 | D30: HR | E30: =중기사용료!G318 -> 24719 | F30: =중기사용료!G320 -> 25758 | G30: =중기사용료!G315 -> 25531 | H30: =E30+F30+G30 -> 76008 | K30: E0002110080
A31: 굴삭기(타이어) | B31: 1.0 M3 | C31: 1 | D31: HR | E31: =중기사용료!G330 -> 31088 | F31: =중기사용료!G332 -> 25758 | G31: =중기사용료!G327 -> 26935 | H31: =E31+F31+G31 -> 83781 | K31: E0002110100
A32: 습지 굴삭기 (유압식백호우) | B32: 0.4 M3 | C32: 1 | D32: HR | E32: =중기사용료!G342 -> 13361 | F32: =중기사용료!G344 -> 25758 | G32: =중기사용료!G339 -> 15031 | H32: =E32+F32+G32 -> 54150 | K32: E0002210040
A33: 습지 굴삭기 (유압식백호우) | B33: 0.7 M3 | C33: 1 | D33: HR | E33: =중기사용료!G354 -> 15470 | F33: =중기사용료!G356 -> 25758 | G33: =중기사용료!G351 -> 19682 | H33: =E33+F33+G33 -> 60910 | K33: E0002210070
A34: 대형 브레이카 | B34: 0.2 M3용 | C34: 1 | D34: HR | E34: 0 | F34: 0 | G34: =중기사용료!G363 -> 2155 | H34: =E34+F34+G34 -> 2155 | K34: E0002300002
A35: 대형 브레이카 | B35: 0.4 M3용 | C35: 1 | D35: HR | E35: 0 | F35: 0 | G35: =중기사용료!G374 -> 3952 | H35: =E35+F35+G35 -> 3952 | K35: E0002300004
A36: 대형 브레이카 | B36: 0.6 M3용 | C36: 1 | D36: HR | E36: 0 | F36: 0 | G36: =중기사용료!G385 -> 7225 | H36: =E36+F36+G36 -> 7225 | K36: E0002300006
A37: 대형 브레이카 | B37: 0.7 M3용 | C37: 1 | D37: HR | E37: 0 | F37: 0 | G37: =중기사용료!G396 -> 8982 | H37: =E37+F37+G37 -> 8982 | K37: E0002300007
A38: 대형 브레이카 | B38: 0.8 M3용 | C38: 1 | D38: HR | E38: 0 | F38: 0 | G38: =중기사용료!G407 -> 9799 | H38: =E38+F38+G38 -> 9799 | K38: E0002300008
A39: 대형 브레이카 | B39: 1 0 M3용 | C39: 1 | D39: HR | E39: 0 | F39: 0 | G39: =중기사용료!G418 -> 14372 | H39: =E39+F39+G39 -> 14372 | I39: 2015년 신설 | K39: E0002300010
A40: 대형브레이카용 치즐 | B40: 0.4 M3용 | C40: 1 | D40: HR | E40: 0 | F40: 0 | G40: =중기사용료!G429 -> 63 | H40: =E40+F40+G40 -> 63 | K40: E0002310004
A41: 대형브레이카용 치즐 | B41: 0.7 M3용 | C41: 1 | D41: HR | E41: 0 | F41: 0 | G41: =중기사용료!G440 -> 252 | H41: =E41+F41+G41 -> 252 | K41: E0002310007
A42: 유압식 진동 콤팩터(굴삭기부착용) | B42: 0.7 M3용 | C42: 1 | D42: HR | E42: 0 | F42: 0 | G42: =중기사용료!G451 -> 4297 | H42: =E42+F42+G42 -> 4297 | K42: E0002400007
A43: 압쇄기(펄버라이저) | B43: 0.8M3용 | C43: 1 | D43: HR | E43: 0 | F43: 0 | G43: =중기사용료!G462 -> 13066 | H43: =E43+F43+G43 -> 13066 | K43: E0002500080
A44: 압쇄기(펄버라이저) | B44: 1.0M3용 | C44: 1 | D44: HR | E44: 0 | F44: 0 | G44: =중기사용료!G473 -> 15025 | H44: =E44+F44+G44 -> 15025 | K44: E0002500100
A45: 트랜쳐 | B45: 3.55 TON | C45: 1 | D45: HR | E45: =중기사용료!G487 -> 10980 | F45: =중기사용료!G489 -> 25758 | G45: =중기사용료!G484 -> 145922 | H45: =E45+F45+G45 -> 182660 | K45: E0002600355
A46: 로더 (무한궤도) | B46: 0.57 M3 | C46: 1 | D46: HR | E46: =중기사용료!G499 -> 7103 | F46: =중기사용료!G501 -> 25758 | G46: =중기사용료!G496 -> 10870 | H46: =E46+F46+G46 -> 43731 | K46: E0003010057
A47: 로더 (무한궤도) | B47: 0.76 M3 | C47: 1 | D47: HR | E47: =중기사용료!G511 -> 9322 | F47: =중기사용료!G513 -> 25758 | G47: =중기사용료!G508 -> 14213 | H47: =E47+F47+G47 -> 49293 | K47: E0003010076
A48: 로더(무한궤도) | B48: 0.95 M3 | C48: 1 | D48: HR | E48: =중기사용료!G523 -> 10950 | F48: =중기사용료!G525 -> 25758 | G48: =중기사용료!G520 -> 17416 | H48: =E48+F48+G48 -> 54124 | K48: E0003010095
A49: 로더(무한궤도) | B49: 1.15 M3 | C49: 1 | D49: HR | E49: =중기사용료!G535 -> 14058 | F49: =중기사용료!G537 -> 25758 | G49: =중기사용료!G532 -> 20637 | H49: =E49+F49+G49 -> 60453 | K49: E0003010115
A50: 로더(무한궤도) | B50: 1.34 M3 | C50: 1 | D50: HR | E50: =중기사용료!G547 -> 16722 | F50: =중기사용료!G549 -> 25758 | G50: =중기사용료!G544 -> 23552 | H50: =E50+F50+G50 -> 66032 | K50: E0003010134
A51: 로더(무한궤도) | B51: 1.53 M3 | C51: 1 | D51: HR | E51: =중기사용료!G559 -> 19681 | F51: =중기사용료!G561 -> 25758 | G51: =중기사용료!G556 -> 26329 | H51: =E51+F51+G51 -> 71768 | K51: E0003010153
A52: 로더(무한궤도) | B52: 1.72 M3 | C52: 1 | D52: HR | E52: =중기사용료!G571 -> 21605 | F52: =중기사용료!G573 -> 25758 | G52: =중기사용료!G568 -> 28878 | H52: =E52+F52+G52 -> 76241 | K52: E0003010172
A53: 로더(무한궤도) | B53: 2.87 M3 | C53: 1 | D53: HR | E53: =중기사용료!G583 -> 37439 | F53: =중기사용료!G585 -> 25758 | G53: =중기사용료!G580 -> 45729 | H53: =E53+F53+G53 -> 108926 | K53: E0003010287
A54: 로더 (타이어) | B54: 0.25 M3 | C54: 1 | D54: HR | E54: =중기사용료!G595 -> 5811 | F54: =중기사용료!G597 -> 25758 | G54: =중기사용료!G592 -> 4817 | H54: =E54+F54+G54 -> 36386 | K54: E0003020025
A55: 로더 (타이어) | B55: 0.57 M3 | C55: 1 | D55: HR | E55: =중기사용료!G607 -> 6163 | F55: =중기사용료!G609 -> 25758 | G55: =중기사용료!G604 -> 5767 | H55: =E55+F55+G55 -> 37688 | K55: E0003020057
A56: 로더(타이어) | B56: 0.95 M3 | C56: 1 | D56: HR | E56: =중기사용료!G619 -> 10918 | F56: =중기사용료!G621 -> 25758 | G56: =중기사용료!G616 -> 7731 | H56: =E56+F56+G56 -> 44407 | K56: E0003020095
A57: 로더(타이어) | B57: 1.34 M3 | C57: 1 | D57: HR | E57: =중기사용료!G631 -> 13560 | F57: =중기사용료!G633 -> 25758 | G57: =중기사용료!G628 -> 15219 | H57: =E57+F57+G57 -> 54537 | K57: E0003020134
A58: 로더(타이어) | B58: 1.72 M3 | C58: 1 | D58: HR | E58: =중기사용료!G643 -> 17258 | F58: =중기사용료!G645 -> 25758 | G58: =중기사용료!G640 -> 19407 | H58: =E58+F58+G58 -> 62423 | K58: E0003020172
A59: 로더(타이어) | B59: 2.29 M3 | C59: 1 | D59: HR | E59: =중기사용료!G655 -> 23422 | F59: =중기사용료!G657 -> 25758 | G59: =중기사용료!G652 -> 21487 | H59: =E59+F59+G59 -> 70667 | K59: E0003020229
A60: 로더(타이어) | B60: 2.87 M3 | C60: 1 | D60: HR | E60: =중기사용료!G667 -> 28882 | F60: =중기사용료!G669 -> 25758 | G60: =중기사용료!G664 -> 25243 | H60: =E60+F60+G60 -> 79883 | K60: E0003020287
A61: 로더(타이어) | B61: 3.5 M3 | C61: 1 | D61: HR | E61: =중기사용료!G679 -> 35046 | F61: =중기사용료!G681 -> 25758 | G61: =중기사용료!G676 -> 32181 | H61: =E61+F61+G61 -> 92985 | K61: E0003020350
A62: 로더(타이어) | B62: 5.0 M3 | C62: 1 | D62: HR | E62: =중기사용료!G691 -> 51776 | F62: =중기사용료!G693 -> 25758 | G62: =중기사용료!G688 -> 53496 | H62: =E62+F62+G62 -> 131030 | K62: E0003020500
A63: 스크레이퍼(자주식) | B63: 5.4 M3 | C63: 1 | D63: HR | E63: =중기사용료!G703 -> 29095 | F63: =중기사용료!G705 -> 25758 | G63: =중기사용료!G700 -> 17260 | H63: =E63+F63+G63 -> 72113 | K63: E0004060054
A64: 스크레이퍼(자주식) | B64: 11.5 M3 | C64: 1 | D64: HR | E64: =중기사용료!G715 -> 62069 | F64: =중기사용료!G717 -> 25758 | G64: =중기사용료!G712 -> 32108 | H64: =E64+F64+G64 -> 119935 | K64: E0004060115
A65: 스크레이퍼(자주식) | B65: 16.1 M3 | C65: 1 | D65: HR | E65: =중기사용료!G727 -> 79974 | F65: =중기사용료!G729 -> 25758 | G65: =중기사용료!G724 -> 42500 | H65: =E65+F65+G65 -> 148232 | K65: E0004060161
A66: 스크레이퍼(자주식) | B66: 20.6 M3 | C66: 1 | D66: HR | E66: =중기사용료!G739 -> 93999 | F66: =중기사용료!G741 -> 25758 | G66: =중기사용료!G736 -> 53776 | H66: =E66+F66+G66 -> 173533 | K66: E0004060206
A67: 스크레이퍼(피견인식) | B67: 5.4 M3 | C67: 1 | D67: HR | E67: 0 | F67: 0 | G67: =중기사용료!G748 -> 4363 | H67: =E67+F67+G67 -> 4363 | K67: E0004070054
A68: 스크레이퍼(피견인식) | B68: 9.2 M3 | C68: 1 | D68: HR | E68: 0 | F68: 0 | G68: =중기사용료!G759 -> 5679 | H68: =E68+F68+G68 -> 5679 | K68: E0004070092
A69: 스크레이퍼(피견인식) | B69: 10.7 M3 | C69: 1 | D69: HR | E69: 0 | F69: 0 | G69: =중기사용료!G770 -> 7606 | H69: =E69+F69+G69 -> 7606 | K69: E0004070107
A70: 스크레이퍼(피견인식) | B70: 16.1 M3 | C70: 1 | D70: HR | E70: 0 | F70: 0 | G70: =중기사용료!G781 -> 10568 | H70: =E70+F70+G70 -> 10568 | K70: E0004070161
A71: 스크레이퍼(피견인식) | B71: 20.6 M3 | C71: 1 | D71: HR | E71: 0 | F71: 0 | G71: =중기사용료!G792 -> 15013 | H71: =E71+F71+G71 -> 15013 | K71: E0004070206
A72: 모터그레이더 | B72: 3.6 M (일반용) | C72: 1 | D72: HR | E72: =중기사용료!G806 -> 27539 | F72: =중기사용료!G808 -> 25758 | G72: =중기사용료!G803 -> 33896 | H72: =E72+F72+G72 -> 87193 | K72: E0005020036
A73: 모터그레이더 | B73: 3.6 M (사리도) | C73: 1 | D73: HR | E73: =중기사용료!G818 -> 42200 | F73: =중기사용료!G820 -> 25758 | G73: =중기사용료!G815 -> 21435 | H73: =E73+F73+G73 -> 89393 | K73: E0005030036
A74: 덤프트럭 | B74: 2.5 톤 | C74: 1 | D74: HR | E74: =중기사용료!G830 -> 4894 | F74: =중기사용료!G832 -> 24115 | G74: =중기사용료!G827 -> 5567 | H74: =E74+F74+G74 -> 34576 | K74: E0006020025
A75: 덤프트럭 | B75: 4.5 톤 | C75: 1 | D75: HR | E75: =중기사용료!G842 -> 8438 | F75: =중기사용료!G844 -> 24115 | G75: =중기사용료!G839 -> 6499 | H75: =E75+F75+G75 -> 39052 | K75: E0006020045
A76: 덤프트럭 | B76: 6 TON | C76: 1 | D76: HR | E76: =중기사용료!G854 -> 13501 | F76: =중기사용료!G856 -> 24115 | G76: =중기사용료!G851 -> 7102 | H76: =E76+F76+G76 -> 44718 | K76: E0006020060
A77: 덤프트럭 | B77: 8 TON | C77: 1 | D77: HR | E77: =중기사용료!G866 -> 15695 | F77: =중기사용료!G868 -> 24115 | G77: =중기사용료!G863 -> 8990 | H77: =E77+F77+G77 -> 48800 | K77: E0006020080
A78: 덤프트럭 | B78: 10.5 TON | C78: 1 | D78: HR | E78: =중기사용료!G878 -> 23797 | F78: =중기사용료!G880 -> 24115 | G78: =중기사용료!G875 -> 10207 | H78: =E78+F78+G78 -> 58119 | K78: E0006020105
A79: 덤프트럭 | B79: 15 TON | C79: 1 | D79: HR | E79: =중기사용료!G890 -> 26835 | F79: =중기사용료!G892 -> 25758 | G79: =중기사용료!G887 -> 17283 | H79: =E79+F79+G79 -> 69876 | K79: E0006020150
A80: 덤프트럭 | B80: 20 TON | C80: 1 | D80: HR | E80: =중기사용료!G902 -> 33754 | F80: =중기사용료!G904 -> 25758 | G80: =중기사용료!G899 -> 24047 | H80: =E80+F80+G80 -> 83559 | K80: E0006020200
A81: 덤프트럭 | B81: 24 TON | C81: 1 | D81: HR | E81: =중기사용료!G914 -> 38818 | F81: =중기사용료!G916 -> 25758 | G81: =중기사용료!G911 -> 28321 | H81: =E81+F81+G81 -> 92897 | K81: E0006020240
A82: 덤프트럭 | B82: 32 TON | C82: 1 | D82: HR | E82: =중기사용료!G926 -> 49113 | F82: =중기사용료!G928 -> 25758 | G82: =중기사용료!G923 -> 39858 | H82: =E82+F82+G82 -> 114729 | K82: E0006020320
A83: 덤프트럭 자동덮개시설 | B83: 15톤용 | C83: 1 | D83: HR | E83: 0 | F83: 0 | G83: =중기사용료!G935 -> 329 | H83: =E83+F83+G83 -> 329 | K83: E0006100150
A84: 덤프트럭 자동덮개시설 | B84: 20톤용 | C84: 1 | D84: HR | E84: 0 | F84: 0 | G84: =중기사용료!G946 -> 355 | H84: =E84+F84+G84 -> 355 | K84: E0006100200
A85: 덤프트럭 자동덮개시설 | B85: 24톤용 | C85: 1 | D85: HR | E85: 0 | F85: 0 | G85: =중기사용료!G957 -> 382 | H85: =E85+F85+G85 -> 382 | K85: E0006100240
A86: 매캐덤 롤러(자주식) | B86: 8-10 TON | C86: 1 | D86: HR | E86: =중기사용료!G971 -> 10967 | F86: =중기사용료!G973 -> 25758 | G86: =중기사용료!G968 -> 8338 | H86: =E86+F86+G86 -> 45063 | K86: E0011060010
A87: 매캐덤 롤러(자주식) | B87: 10-12 TON | C87: 1 | D87: HR | E87: =중기사용료!G983 -> 13421 | F87: =중기사용료!G985 -> 25758 | G87: =중기사용료!G980 -> 10410 | H87: =E87+F87+G87 -> 49589 | K87: E0011060012
A88: 매캐덤 롤러(자주식) | B88: 12 - 15 TON | C88: 1 | D88: HR | E88: =중기사용료!G995 -> 15730 | F88: =중기사용료!G997 -> 25758 | G88: =중기사용료!G992 -> 11676 | H88: =E88+F88+G88 -> 53164 | K88: E0011060015
A89: 탠덤롤러(자주식) | B89: 5 - 8 TON | C89: 1 | D89: HR | E89: =중기사용료!G1007 -> 7215 | F89: =중기사용료!G1009 -> 25758 | G89: =중기사용료!G1004 -> 7030 | H89: =E89+F89+G89 -> 40003 | K89: E0012060008
A90: 탠덤롤러(자주식) | B90: 8 - 10 TON | C90: 1 | D90: HR | E90: =중기사용료!G1019 -> 9813 | F90: =중기사용료!G1021 -> 25758 | G90: =중기사용료!G1016 -> 8481 | H90: =E90+F90+G90 -> 44052 | K90: E0012060010
A91: 탠덤롤러(자주식) | B91: 10-14 TON | C91: 1 | D91: HR | E91: =중기사용료!G1031 -> 12122 | F91: =중기사용료!G1033 -> 25758 | G91: =중기사용료!G1028 -> 9781 | H91: =E91+F91+G91 -> 47661 | K91: E0012060014
A92: 탠덤롤러(진동자주식) | B92: 1 TON | C92: 1 | D92: HR | E92: =중기사용료!G1043 -> 3302 | F92: =중기사용료!G1045 -> 25758 | G92: =중기사용료!G1040 -> 1947 | H92: =E92+F92+G92 -> 31007 | K92: E0012090001
A93: 탠덤롤러(진동자주식) | B93: 2 TON | C93: 1 | D93: HR | E93: =중기사용료!G1055 -> 5415 | F93: =중기사용료!G1057 -> 25758 | G93: =중기사용료!G1052 -> 3514 | H93: =E93+F93+G93 -> 34687 | K93: E0012090002
A94: 탠덤롤러(진동자주식) | B94: 4 TON | C94: 1 | D94: HR | E94: =중기사용료!G1067 -> 10830 | F94: =중기사용료!G1069 -> 25758 | G94: =중기사용료!G1064 -> 7508 | H94: =E94+F94+G94 -> 44096 | K94: E0012090004
A95: 탠덤롤러(진동자주식) | B95: 6 TON | C95: 1 | D95: HR | E95: =중기사용료!G1079 -> 13472 | F95: =중기사용료!G1081 -> 25758 | G95: =중기사용료!G1076 -> 12040 | H95: =E95+F95+G95 -> 51270 | K95: E0012090006
A96: 탠덤롤러(진동자주식) | B96: 7 TON | C96: 1 | D96: HR | E96: =중기사용료!G1091 -> 14793 | F96: =중기사용료!G1093 -> 25758 | G96: =중기사용료!G1088 -> 14178 | H96: =E96+F96+G96 -> 54729 | K96: E0012090007
A97: 탠덤롤러(진동자주식) | B97: 8 TON | C97: 1 | D97: HR | E97: =중기사용료!G1103 -> 14793 | F97: =중기사용료!G1105 -> 25758 | G97: =중기사용료!G1100 -> 15018 | H97: =E97+F97+G97 -> 55569 | K97: E0012090008
A98: 탠덤롤러(진동자주식) | B98: 13 TON | C98: 1 | D98: HR | E98: =중기사용료!G1115 -> 22190 | F98: =중기사용료!G1117 -> 25758 | G98: =중기사용료!G1112 -> 25085 | H98: =E98+F98+G98 -> 73033 | K98: E0012090013
A99: 진동 롤러 (핸드가이드식) | B99: 0.7 톤 | C99: 1 | D99: HR | E99: =중기사용료!G1127 -> 3040 | F99: =중기사용료!G1129 -> 25758 | G99: =중기사용료!G1124 -> 1563 | H99: =E99+F99+G99 -> 30361 | K99: E0013050007
A100: 진동롤러(자주식) | B100: 2.5 TON | C100: 1 | D100: HR | E100: =중기사용료!G1139 -> 3178 | F100: =중기사용료!G1141 -> 25758 | G100: =중기사용료!G1136 -> 4062 | H100: =E100+F100+G100 -> 32998 | K100: E0013060025
...

Sheet 중기사용료
A1: 중기사용료
K2: 태현개발주식회사. http://taehyeon.co.kr
A4: 중 기 명 | B4: 불도저(무한궤도) 7 TON | J4: E0001010007
A5: 중기가격
A6: 명 칭 | C6: 규 격 | D6: 수 량 | E6: 단 위 | F6: 단 가 | G6: 금 액 | H6: 비 고
A7: 경 비 | B7: 불도저(무한궤도) | C7: 7 TON | D7: =(750 + 583 + 430)*10^-4 -> 0.1763 | E7: $ | F7: =중기기초자료!F9 -> 56484 | G7: =TRUNC(F7*D7, 1) -> 9958.1 | K7: 10 | M7: G01010007 | N7: .sang=750, jung=583, kwan=430_x000D_ _x000D_
B8: 소 계 | G8: =TRUNC(G7, 0) -> 9958
A9: 재 료 비 | B9: 경 유 | D9: 9 | E9: L | F9: =중기기초자료!D731 -> 1223 | G9: =TRUNC(F9*D9, 1) -> 11007 | K9: 50 | M9: M9366005
B10: 잡 품 | D10: 16 | E10: % | F10: 0 | G10: =TRUNC((G9) * D10/100, 1) -> 1761.1 | K10: 60 | M10: F/M1
B11: 소 계 | G11: =TRUNC(G9+G10, 0) -> 12768
A12: 노 무 비 | B12: 건설기계운전사 | C12: 구)건설기계운전기사 | D12: 1 | E12: 인 | F12: =TRUNC(중기기초자료!E721 * 중기전역변수!C19, 1) -> 25758.7 | G12: =TRUNC(F12*D12, 1) -> 25758.7 | I12: 56900017002 | K12: 20 | M12: L086
B13: 소 계 | G13: =TRUNC(G12, 0) -> 25758
B14: 총 계 | G14: =TRUNC(G8+G11+G13, 0) -> 48484
A16: 중 기 명 | B16: 불도저(무한궤도) 10 TON | J16: E0001010010
A17: 중기가격 | B17: 109,599 $
A18: 명 칭 | C18: 규 격 | D18: 수 량 | E18: 단 위 | F18: 단 가 | G18: 금 액 | H18: 비 고
A19: 경 비 | B19: 불도저(무한궤도) | C19: 10 TON | D19: =(750 + 583 + 430)*10^-4 -> 0.1763 | E19: $ | F19: =TRUNC(중기기초자료!F10 * 중기전역변수!C5/1000,0) -> 120449 | G19: =TRUNC(F19*D19, 1) -> 21235.1 | K19: 10 | M19: G01010010 | N19: .sang=750, jung=583, kwan=430
B20: 소 계 | G20: =TRUNC(G19, 0) -> 21235
A21: 재 료 비 | B21: 경 유 | D21: 12.5 | E21: L | F21: =중기기초자료!D731 -> 1223 | G21: =TRUNC(F21*D21, 1) -> 15287.5 | K21: 40 | M21: M9366005
B22: 잡 품 | D22: 16 | E22: % | F22: 0 | G22: =TRUNC((G21) * D22/100, 1) -> 2446 | K22: 50 | M22: F/M1
B23: 소 계 | G23: =TRUNC(G21+G22, 0) -> 17733
A24: 노 무 비 | B24: 건설기계운전사 | C24: 구)건설기계운전기사 | D24: 1 | E24: 인 | F24: =TRUNC(중기기초자료!E721 * 중기전역변수!C19, 1) -> 25758.7 | G24: =TRUNC(F24*D24, 1) -> 25758.7 | K24: 15 | M24: L086
B25: 소 계 | G25: =TRUNC(G24, 0) -> 25758
B26: 총 계 | G26: =TRUNC(G20+G23+G25, 0) -> 64726
A28: 중 기 명 | B28: 불도저(무한궤도) 12 TON | J28: E0001010012
A29: 중기가격 | B29: 129,289 $
A30: 명 칭 | C30: 규 격 | D30: 수 량 | E30: 단 위 | F30: 단 가 | G30: 금 액 | H30: 비 고
A31: 경 비 | B31: 불도저(무한궤도) | C31: 12 TON | D31: =(750 + 583 + 430)*10^-4 -> 0.1763 | E31: $ | F31: =TRUNC(중기기초자료!F11 * 중기전역변수!C5/1000,0) -> 142088 | G31: =TRUNC(F31*D31, 1) -> 25050.1 | K31: 10 | M31: G01010012 | N31: .sang=750, jung=583, kwan=430_x000D_
B32: 소 계 | G32: =TRUNC(G31, 0) -> 25050
A33: 재 료 비 | B33: 경 유 | D33: 14.6 | E33: L | F33: =중기기초자료!D731 -> 1223 | G33: =TRUNC(F33*D33, 1) -> 17855.8 | K33: 40 | M33: M9366005
B34: 잡 품 | D34: 16 | E34: % | F34: 0 | G34: =TRUNC((G33) * D34/100, 1) -> 2856.9 | K34: 50 | M34: F/M1
B35: 소 계 | G35: =TRUNC(G33+G34, 0) -> 20712
A36: 노 무 비 | B36: 건설기계운전사 | C36: 구)건설기계운전기사 | D36: 1 | E36: 인 | F36: =TRUNC(중기기초자료!E721 * 중기전역변수!C19, 1) -> 25758.7 | G36: =TRUNC(F36*D36, 1) -> 25758.7 | K36: 15 | M36: L086
B37: 소 계 | G37: =TRUNC(G36, 0) -> 25758
B38: 총 계 | G38: =TRUNC(G32+G35+G37, 0) -> 71520
A40: 중 기 명 | B40: 불도저(무한궤도) 19 TON | J40: E0001010019
A41: 중기가격 | B41: 145,207 천원
A42: 명 칭 | C42: 규 격 | D42: 수 량 | E42: 단 위 | F42: 단 가 | G42: 금 액 | H42: 비 고
A43: 경 비 | B43: 불도저(무한궤도) | C43: 19 TON | D43: =(750 + 583 + 430)*10^-4 -> 0.1763 | E43: 천원 | F43: =중기기초자료!F12 -> 145207 | G43: =TRUNC(F43*D43, 1) -> 25599.9 | K43: 10 | M43: G01010019 | N43: .sang=750, jung=583, kwan=430_x000D_
B44: 소 계 | G44: =TRUNC(G43, 0) -> 25599
A45: 재 료 비 | B45: 경 유 | D45: 25 | E45: L | F45: =중기기초자료!D731 -> 1223 | G45: =TRUNC(F45*D45, 1) -> 30575 | K45: 40 | M45: M9366005
B46: 잡 품 | D46: 16 | E46: % | F46: 0 | G46: =TRUNC((G45) * D46/100, 1) -> 4892 | K46: 50 | M46: F/M1
B47: 소 계 | G47: =TRUNC(G45+G46, 0) -> 35467
A48: 노 무 비 | B48: 건설기계운전사 | C48: 구)건설기계운전기사 | D48: 1 | E48: 인 | F48: =TRUNC(중기기초자료!E721 * 중기전역변수!C19, 1) -> 25758.7 | G48: =TRUNC(F48*D48, 1) -> 25758.7 | K48: 15 | M48: L086
B49: 소 계 | G49: =TRUNC(G48, 0) -> 25758
B50: 총 계 | G50: =TRUNC(G44+G47+G49, 0) -> 86824
A52: 중 기 명 | B52: 불도저(무한궤도) 32 TON | J52: E0001010032
A53: 중기가격 | B53: 192,853 천원
A54: 명 칭 | C54: 규 격 | D54: 수 량 | E54: 단 위 | F54: 단 가 | G54: 금 액 | H54: 비 고
A55: 경 비 | B55: 불도저(무한궤도) | C55: 32 TON | D55: =(750 + 583 + 430)*10^-4 -> 0.1763 | E55: 천원 | F55: =중기기초자료!F13 -> 192853 | G55: =TRUNC(F55*D55, 1) -> 33999.9 | K55: 10 | M55: G01010032 | N55: .sang=750, jung=583, kwan=430_x000D_
B56: 소 계 | G56: =TRUNC(G55, 0) -> 33999
A57: 재 료 비 | B57: 경 유 | D57: 41.6 | E57: L | F57: =중기기초자료!D731 -> 1223 | G57: =TRUNC(F57*D57, 1) -> 50876.8 | K57: 40 | M57: M9366005
B58: 잡 품 | D58: 16 | E58: % | F58: 0 | G58: =TRUNC((G57) * D58/100, 1) -> 8140.2 | K58: 50 | M58: F/M1
B59: 소 계 | G59: =TRUNC(G57+G58, 0) -> 59017
A60: 노 무 비 | B60: 건설기계운전사 | C60: 구)건설기계운전기사 | D60: 1 | E60: 인 | F60: =TRUNC(중기기초자료!E721 * 중기전역변수!C19, 1) -> 25758.7 | G60: =TRUNC(F60*D60, 1) -> 25758.7 | K60: 15 | M60: L086
B61: 소 계 | G61: =TRUNC(G60, 0) -> 25758
B62: 총 계 | G62: =TRUNC(G56+G59+G61, 0) -> 118774
A64: 중 기 명 | B64: 불도저(타이어) 15 TON | J64: E0001020015
A65: 중기가격 | B65: 109,531 $
A66: 명 칭 | C66: 규 격 | D66: 수 량 | E66: 단 위 | F66: 단 가 | G66: 금 액 | H66: 비 고
A67: 경 비 | B67: 불도저(타이어) | C67: 15 TON | D67: =(750 + 500 + 430)*10^-4 -> 0.168 | E67: $ | F67: =TRUNC(중기기초자료!F14 * 중기전역변수!C5/1000,0) -> 120374 | G67: =TRUNC(F67*D67, 1) -> 20222.8 | K67: 10 | M67: G01020015 | N67: .sang=750, jung=500, kwan=430_x000D_
B68: 소 계 | G68: =TRUNC(G67, 0) -> 20222
A69: 재 료 비 | B69: 경 유 | D69: 19.2 | E69: L | F69: =중기기초자료!D731 -> 1223 | G69: =TRUNC(F69*D69, 1) -> 23481.6 | K69: 40 | M69: M9366005
B70: 잡 품 | D70: 50 | E70: % | F70: 0 | G70: =TRUNC((G69) * D70/100, 1) -> 11740.8 | K70: 50 | M70: F/M1
B71: 소 계 | G71: =TRUNC(G69+G70, 0) -> 35222
A72: 노 무 비 | B72: 건설기계운전사 | C72: 구)건설기계운전기사 | D72: 1 | E72: 인 | F72: =TRUNC(중기기초자료!E721 * 중기전역변수!C19, 1) -> 25758.7 | G72: =TRUNC(F72*D72, 1) -> 25758.7 | K72: 15 | M72: L086
B73: 소 계 | G73: =TRUNC(G72, 0) -> 25758
B74: 총 계 | G74: =TRUNC(G68+G71+G73, 0) -> 81202
A76: 중 기 명 | B76: 불도저(타이어) 28 TON | J76: E0001020028
A77: 중기가격 | B77: 202,390 $
A78: 명 칭 | C78: 규 격 | D78: 수 량 | E78: 단 위 | F78: 단 가 | G78: 금 액 | H78: 비 고
A79: 경 비 | B79: 불도저(타이어) | C79: 28 TON | D79: =(750 + 500 + 430)*10^-4 -> 0.168 | E79: $ | F79: =TRUNC(중기기초자료!F15 * 중기전역변수!C5/1000,0) -> 222426 | G79: =TRUNC(F79*D79, 1) -> 37367.5 | K79: 10 | M79: G01020028 | N79: .sang=750, jung=500, kwan=430_x000D_
B80: 소 계 | G80: =TRUNC(G79, 0) -> 37367
A81: 재 료 비 | B81: 경 유 | D81: 36 | E81: L | F81: =중기기초자료!D731 -> 1223 | G81: =TRUNC(F81*D81, 1) -> 44028 | K81: 40 | M81: M9366005
B82: 잡 품 | D82: 50 | E82: % | F82: 0 | G82: =TRUNC((G81) * D82/100, 1) -> 22014 | K82: 50 | M82: F/M1
B83: 소 계 | G83: =TRUNC(G81+G82, 0) -> 66042
A84: 노 무 비 | B84: 건설기계운전사 | C84: 구)건설기계운전기사 | D84: 1 | E84: 인 | F84: =TRUNC(중기기초자료!E721 * 중기전역변수!C19, 1) -> 25758.7 | G84: =TRUNC(F84*D84, 1) -> 25758.7 | K84: 15 | M84: L086
B85: 소 계 | G85: =TRUNC(G84, 0) -> 25758
B86: 총 계 | G86: =TRUNC(G80+G83+G85, 0) -> 129167
A88: 중 기 명 | B88: 불도저(타이어) 33 TON | J88: E0001020033
A89: 중기가격 | B89: 256,562 $
A90: 명 칭 | C90: 규 격 | D90: 수 량 | E90: 단 위 | F90: 단 가 | G90: 금 액 | H90: 비 고
A91: 경 비 | B91: 불도저(타이어) | C91: 33 TON | D91: =(750 + 500 + 430)*10^-4 -> 0.168 | E91: $ | F91: =TRUNC(중기기초자료!F16 * 중기전역변수!C5/1000,0) -> 281961 | G91: =TRUNC(F91*D91, 1) -> 47369.4 | K91: 10 | M91: G01020033 | N91: .sang=750, jung=500, kwan=430_x000D_
B92: 소 계 | G92: =TRUNC(G91, 0) -> 47369
A93: 재 료 비 | B93: 경 유 | D93: 42.4 | E93: L | F93: =중기기초자료!D731 -> 1223 | G93: =TRUNC(F93*D93, 1) -> 51855.2 | K93: 40 | M93: M9366005
B94: 잡 품 | D94: 50 | E94: % | F94: 0 | G94: =TRUNC((G93) * D94/100, 1) -> 25927.6 | K94: 50 | M94: F/M1
B95: 소 계 | G95: =TRUNC(G93+G94, 0) -> 77782
A96: 노 무 비 | B96: 건설기계운전사 | C96: 구)건설기계운전기사 | D96: 1 | E96: 인 | F96: =TRUNC(중기기초자료!E721 * 중기전역변수!C19, 1) -> 25758.7 | G96: =TRUNC(F96*D96, 1) -> 25758.7 | K96: 15 | M96: L086
B97: 소 계 | G97: =TRUNC(G96, 0) -> 25758
B98: 총 계 | G98: =TRUNC(G92+G95+G97, 0) -> 150909
A100: 중 기 명 | B100: 유압식 리퍼 16 TON | J100: E0001030016
A101: 중기가격 | B101: 9,737 $
A102: 명 칭 | C102: 규 격 | D102: 수 량 | E102: 단 위 | F102: 단 가 | G102: 금 액 | H102: 비 고
A103: 경 비 | B103: 유압식 리퍼 | C103: 16 TON | D103: =(795 + 0 + 0)*10^-4 -> 0.0795 | E103: $ | F103: =TRUNC(중기기초자료!F17 * 중기전역변수!C5/1000,0) -> 10700 | G103: =TRUNC(F103*D103, 1) -> 850.6 | K103: 10 | M103: G01030016 | N103: .sang=795, jung=0, kwan=0
B104: 소 계 | G104: =TRUNC(G103, 0) -> 850
A105: 재 료 비
B106: 소 계
A107: 노 무 비
B108: 소 계
B109: 총 계 | G109: =TRUNC(G104+G106+G108, 0) -> 850
...

Sheet 중기기초자료
A1: 중기기초자료
G2: 태현개발주식회사. http://taehyeon.co.kr
A3: 명 칭 | B3: 규 격 | C3: 단 위 | D3: 재 료 비 | E3: 노 무 비 | F3: 경 비 | G3: 합 계 | H3: 비 고
A4: 레일천공기 | B4: 1.49 KW | C4: 천원 | D4: 0 | E4: 0 | F4: 2500 | G4: 2500 | J4: G0079500149
A5: 파워렌치 | C5: 천원 | D5: 0 | E5: 0 | F5: 6000 | G5: 6000 | J5: G0079510066
A6: 침목천공기 | B6: 2.46 KW | C6: 천원 | D6: 0 | E6: 0 | F6: 797 | G6: 797 | J6: G0079520246
A7: 타이탬퍼 | B7: 3400(진동수/min) | C7: 천원 | D7: 0 | E7: 0 | F7: 15000 | G7: 15000 | J7: G0079533400
A8: 양로기 | B8: 11.19kW | C8: 천원 | D8: 0 | E8: 0 | F8: 26400 | G8: 26400 | J8: G0079541119
A9: 불도저(무한궤도) | B9: 7 TON | C9: 천원 | D9: 0 | E9: 0 | F9: 56484 | G9: 56484 | J9: G01010007
A10: 불도저(무한궤도) | B10: 10 TON | C10: $ | D10: 0 | E10: 0 | F10: 109599 | G10: 109599 | J10: G01010010
A11: 불도저(무한궤도) | B11: 12 TON | C11: $ | D11: 0 | E11: 0 | F11: 129289 | G11: 129289 | J11: G01010012
A12: 불도저(무한궤도) | B12: 19 TON | C12: 천원 | D12: 0 | E12: 0 | F12: 145207 | G12: 145207 | J12: G01010019
A13: 불도저(무한궤도) | B13: 32 TON | C13: 천원 | D13: 0 | E13: 0 | F13: 192853 | G13: 192853 | J13: G01010032
A14: 불도저(타이어) | B14: 15 TON | C14: $ | D14: 0 | E14: 0 | F14: 109531 | G14: 109531 | J14: G01020015
A15: 불도저(타이어) | B15: 28 TON | C15: $ | D15: 0 | E15: 0 | F15: 202390 | G15: 202390 | J15: G01020028
A16: 불도저(타이어) | B16: 33 TON | C16: $ | D16: 0 | E16: 0 | F16: 256562 | G16: 256562 | J16: G01020033
A17: 유압식 리퍼 | B17: 16 TON | C17: $ | D17: 0 | E17: 0 | F17: 9737 | G17: 9737 | J17: G01030016
... A404: 노면파쇄기 | B404: 2 M | C404: $ | D404: 0 | E404: 0 | F404: 360000 | G404: 360000 | J404: G57010020
A405: 터널전단면굴착기(TBM) | B405: 3.0m | D405: 0 | E405: 0 | F405: 0 | G405: 0 | J405: G58010030
A406: 터널전단면굴착기 | B406: 3.5m | D406: 0 | E406: 0 | F406: 0 | G406: 0 | J406: G58010035
A407: 터널전단면굴착기 | B407: 4.5m | D407: 0 | E407: 0 | F407: 0 | G407: 0 | J407: G58010045
A408: 터널전단면굴착기 | B408: 7.0m | D408: 0 | E408: 0 | F408: 0 | G408: 0 | J408: G58010070
A409: 점보드릴 | B409: 2붐 | C409: 천원 | D409: 0 | E409: 0 | F409: 444039 | G409: 444039 | J409: G58050002
A410: 점보드릴 | B410: 3붐 | C410: 천원 | D410: 0 | E410: 0 | F410: 883964 | G410: 883964 | J410: G58050003
A411: 코어드릴 | B411: 15.24cm | C411: 천원 | D411: 0 | E411: 0 | F411: 713 | G411: 713 | J411: G59010006
A412: 코어드릴 | B412: 25.40cm | C412: 천원 | D412: 0 | E412: 0 | F412: 1007 | G412: 1007 | J412: G59010010
A413: 코어드릴 | B413: 40.64cm | C413: 천원 | D413: 0 | E413: 0 | F413: 1800 | G413: 1800 | J413: G59010016
A414: 그라우팅믹서 | B414: 190L X 2 (2KW) | C414: $ | D414: 0 | E414: 0 | F414: 1498 | G414: 1498 | J414: G61050190
A415: 그라우팅믹서 | B415: 390L X 2 (5KW) | C415: $ | D415: 0 | E415: 0 | F415: 3117 | G415: 3117 | J415: G61050390
A416: 안정액믹서(밴토나이트믹서) | B416: 1.5KW | C416: 천원 | D416: 0 | E416: 0 | F416: 26800 | G416: 26800 | J416: G61070015
A417: 그라우팅 펌프 | B417: 30-60 L/MIN(3.7kw) | C417: $ | D417: 0 | E417: 0 | F417: 3386 | G417: 3386 | J417: G62020060
A418: 그라우팅 펌프 | B418: 40-125 L/MIN(7.5kw) | C418: $ | D418: 0 | E418: 0 | F418: 4930 | G418: 4930 | J418: G62020125
A419: 그라우팅 펌프 | B419: 50-200 L/MIN(11kw) | C419: $ | D419: 0 | E419: 0 | F419: 7119 | G419: 7119 | J419: G62020200
A420: 이수분리기 | B420: 56.7KW | D420: 0 | E420: 0 | F420: 0 | G420: 0 | J420: G62030076
A421: 디이젤 파일햄머 | B421: 1.5 TON | C421: $ | D421: 0 | E421: 0 | F421: 23047 | G421: 23047 | J421: G63300015
A422: 디이젤 파일햄머 | B422: 2.2 TON | C422: $ | D422: 0 | E422: 0 | F422: 34790 | G422: 34790 | J422: G63300022
A423: 디이젤 파일햄머 | B423: 3.2 TON | C423: $ | D423: 0 | E423: 0 | F423: 52182 | G423: 52182 | J423: G63300032
A424: 디이젤 파일햄머 | B424: 4.0 TON | C424: $ | D424: 0 | E424: 0 | F424: 67153 | G424: 67153 | J424: G63300040
A425: 보오링기계 | B425: 40.5MM X 150M (7.46KW) | C425: $ | D425: 0 | E425: 0 | F425: 5063 | G425: 5063 | J425: G64080015
A426: 보오링기계 | B426: 50MM X 200M (11.19KW) | C426: $ | D426: 0 | E426: 0 | F426: 5690 | G426: 5690 | J426: G64080020
A427: 보오링기계 | B427: 50MM X 300M (11.19KW) | C427: $ | D427: 0 | E427: 0 | F427: 6063 | G427: 6063 | J427: G64080030
A428: 보오링기계 | B428: 42MM X 400M (11.19KW) | C428: $ | D428: 0 | E428: 0 | F428: 10086 | G428: 10086 | J428: G64080040
A429: 보오링기계 | B429: 66.7MM X 500M (14.92KW) | C429: $ | D429: 0 | E429: 0 | F429: 12406 | G429: 12406 | J429: G64080050
A430: 보오링기계 | B430: 66.7MM X 850M (29.84KW) | C430: $ | D430: 0 | E430: 0 | F430: 15512 | G430: 15512 | J430: G64080085
A431: 보오링기계 | B431: 60MM X 1000M (37.30KW) | C431: $ | D431: 0 | E431: 0 | F431: 17451 | G431: 17451 | J431: G64080100
A432: 오거 | B432: 59.68kW | C432: 천원 | D432: 0 | E432: 0 | F432: 45000 | G432: 45000 | J432: G64100800
... A564: 디이젤엔진 | B564: 149.20 KW | C564: 천원 | D564: 0 | E564: 0 | F564: 11000 | G564: 11000 | J564: G78120200
A565: 엔진식 도장기 | C565: 천원 | D565: 0 | E565: 0 | F565: 26800 | G565: 26800 | J565: G78200047
A566: 우레탄폼 분사용기구 | B566: 8.1 kg/min | C566: 천원 | D566: 0 | E566: 0 | F566: 22725 | G566: 22725 | J566: G78300081
A567: 모 터 | B567: 0.75 KW | C567: 천원 | D567: 0 | E567: 0 | F567: 134 | G567: 134 | J567: G79300001
A568: 모 터 | B568: 1.49 KW | C568: 천원 | D568: 0 | E568: 0 | F568: 157 | G568: 157 | J568: G79300002
A569: 모 터 | B569: 2.24 KW | C569: 천원 | D569: 0 | E569: 0 | F569: 188 | G569: 188 | J569: G79300003
A570: 모 터 | B570: 3.73 KW | C570: 천원 | D570: 0 | E570: 0 | F570: 239 | G570: 239 | J570: G79300005
A571: 모 터 | B571: 5.60 KW | C571: 천원 | D571: 0 | E571: 0 | F571: 304 | G571: 304 | J571: G79300007
A572: 모 터 | B572: 7.46 KW | C572: 천원 | D572: 0 | E572: 0 | F572: 402 | G572: 402 | J572: G79300010
A573: 모 터 | B573: 11.19 KW | C573: 천원 | D573: 0 | E573: 0 | F573: 491 | G573: 491 | J573: G79300015
A574: 모 터 | B574: 14.92 KW | C574: 천원 | D574: 0 | E574: 0 | F574: 706 | G574: 706 | J574: G79300020
A575: 모 터 | B575: 18.65 KW | C575: 천원 | D575: 0 | E575: 0 | F575: 926 | G575: 926 | J575: G79300025
A576: 모 터 | B576: 22.38 KW | C576: 천원 | D576: 0 | E576: 0 | F576: 1272 | G576: 1272 | J576: G79300030
A577: 모 터 | B577: 29.84 KW | C577: 천원 | D577: 0 | E577: 0 | F577: 1546 | G577: 1546 | J577: G79300040
... A720: 하천골재채취선 | B720: 1194kW | C720: 천원 | D720: 0 | E720: 0 | F720: 1062496 | G720: 1062496 | J720: G91000016
A721: 건설기계운전사 | B721: 일반공사 직종 | C721: 인 | D721: 0 | E721: 123642 | F721: 0 | G721: 123642 | I721: 56900017002 | J721: L086
A722: 화물차운전사 | B722: 일반공사 직종 | C722: 인 | D722: 0 | E722: 115755 | F722: 0 | G722: 115755 | I722: 56900017059 | J722: L087
A723: 일반기계운전사 | B723: 일반공사 직종 | C723: 인 | D723: 0 | E723: 88379 | F723: 0 | G723: 88379 | I723: 56900017058 | J723: L088
A724: 선원 | B724: 일반공사 직종 | C724: 인 | D724: 0 | E724: 107255 | F724: 0 | G724: 107255 | I724: 56900017008 | J724: L090
A725: 준설선선장 | B725: 일반공사 직종 | C725: 인 | D725: 0 | E725: 123810 | F725: 0 | G725: 123810 | I725: 56900017088 | J725: L093
A726: 준설선기관사 | B726: 일반공사 직종 | C726: 인 | D726: 0 | E726: 117463 | F726: 0 | G726: 117463 | I726: 56900017086 | J726: L095
A727: 준설선운전사 | B727: 일반공사 직종 | C727: 인 | D727: 0 | E727: 104482 | F727: 0 | G727: 104482 | I727: 56900017089 | J727: L096
A728: 건설기계조장 | B728: 일반공사 직종 | C728: 인 | D728: 0 | E728: 106921 | F728: 0 | G728: 106921 | I728: 56900017004 | J728: L134
A729: 전 력 비(별도계상) | B729: KW | C729: 원 | D729: 0 | E729: 0 | F729: 0 | G729: 0 | J729: M0010045
A730: 휘 발 유 | C730: L | D730: 1399 | E730: 0 | F730: 0 | G730: 1399 | J730: M9360003
A731: 경 유 | C731: L | D731: 1223 | E731: 0 | F731: 0 | G731: 1223 | J731: M9366005
A732: 중 유 | B732: 저유황 | C732: L | D732: 744 | E732: 0 | F732: 0 | G732: 744 | J732: M9372005
A733: 크레인부수물 : 쇼벨티스 | B733: 0.29 0.38 M3 | C733: 대 | D733: 22000 | E733: 0 | F733: 0 | G733: 22000 | J733: MJ012001
A734: 크레인부수물 : 쇼벨티스 | B734: 0.57 0.76 M3 | C734: 대 | D734: 51000 | E734: 0 | F734: 0 | G734: 51000 | J734: MJ012002
A735: 크레인부수물 : 쇼벨티스 | B735: 1.15 1.53 M3 | C735: 대 | D735: 61500 | E735: 0 | F735: 0 | G735: 61500 | J735: MJ012003
A736: 크레인부수물 : 쇼벨티스 | B736: 1.91 2.29 2.68 M3 | C736: 대 | D736: 144000 | E736: 0 | F736: 0 | G736: 144000 | J736: MJ012004
A737: 크레인부수물 : 백호우티스 | B737: 0.29 0.38 M3 | C737: 대 | D737: 22000 | E737: 0 | F737: 0 | G737: 22000 | J737: MJ013001
A738: 크레인부수물 : 백호우티스 | B738: 0.57 0.76 M3 | C738: 대 | D738: 51000 | E738: 0 | F738: 0 | G738: 51000 | J738: MJ013002
A739: 크레인부수물 : 백호우티스 | B739: 1.15 1.53 M3 | C739: 대 | D739: 61500 | E739: 0 | F739: 0 | G739: 61500 | J739: MJ013003
A740: 크레인부수물 : 백호우티스 | B740: 1.91 2.29 2.68 M3 | C740: 대 | D740: 144000 | E740: 0 | F740: 0 | G740: 144000 | J740: MJ013004
A741: 크레인부수물 : 드레그라인티스 | B741: 0.29 0.38 M3 | C741: 대 | D741: 22000 | E741: 0 | F741: 0 | G741: 22000 | J741: MJ014001
A742: 크레인부수물 : 드레그라인티스 | B742: 0.57 0.76 M3 | C742: 대 | D742: 51000 | E742: 0 | F742: 0 | G742: 51000 | J742: MJ014002
A743: 크레인부수물 : 드레그라인티스 | B743: 1.15 1.53 M3 | C743: 대 | D743: 61500 | E743: 0 | F743: 0 | G743: 61500 | J743: MJ014003
... A748: 크레인부수물 : 크람셀티스 | B748: 1.91 2.29 2.68 M3 | C748: 대 | D748: 144000 | E748: 0 | F748: 0 | G748: 144000 | J748: MJ015004

Sheet 중기전역변수
A1: 중기전역변수
C2: 태현개발주식회사. http://taehyeon.co.kr | K2: 태현개발주식회사. http://taehyeon.co.kr
A3: 변 수 명 | B3: 형 식 | C3: 값 | D3: 비 고
A4: QCODE | B4: 문자 | C4: 100000000001
A5: QUS2WON | C5: 1099 | D5: 환율(장비가격10만불이하)
A6: QUS2WON1 | B6: 숫자 | C6: 1099 | D6: 환율(장비가격10만불이상)
A7: QYEN2WON | B7: 숫자 | C7: 0 | D7: 환율(엔화)
A8: QDM2WON | B8: 숫자 | C8: 0 | D8: 환율(마르크화)
A9: QSDR2WON | B9: 숫자 | C9: 0 | D9: 환율(IMF특별인출권)
A10: QECU2WON | B10: 숫자 | C10: 0 | D10: 환율(유로화)
A11: QEQTY1 | B11: 문자 | C11: (SANG + JUNG + KWAN)*10^-4 | D11: 중기주간경비산출계수
A12: QEQTY2 | B12: 문자 | C12: (SANG + JUNG + KWAN)*10^-4 | D12: 중기야간경비산출계수
A13: QEQTY3 | B13: 문자 | C13: (SANG + JUNG + int(KWAN/3))*10^-4 | D13: 중기주야간경비산출계수
A14: QEINC2 | B14: 숫자 | C14: 1.25 | D14: 중기야간할증계수
A15: QEINC3 | B15: 숫자 | C15: 1.071 | D15: 중기주야간할증계수
A16: QDECPEQ | B16: 문자 | C16: 0 | D16: 경비단가소숫점
A17: QDECCEQ | B17: 문자 | C17: 1 | D17: 경비금액소숫점
A18: QDECEQ | B18: 문자 | C18: 0 | D18: 경비계금액소숫점
A19: QH1 | B19: 문자 | C19: =25/20 * 16/12 * 1/8 -> 0.20833333 | D19: 시간당노임산출계수(일반구간)
A20: QH2 | B20: 문자 | C20: =25/20 * 16/12 * 1/8 -> 0.20833333 | D20: 시간당노임산출계수(터널구간)
A21: QH21 | B21: 문자 | C21: =25/20 * 16/12 * 1/8 -> 0.20833333 | D21: 시간당노임산출계수(장대터널)
A22: QH31 | B22: 문자 | C22: =25/20 * 16/12 * 1/8 -> 0.20833333 | D22: 시간당노임산출계수(해상장비:펌프준설선)
A23: QH32 | B23: 문자 | C23: =25/20 * 16/12 * 1/8 -> 0.20833333 | D23: 시간당노임산출계수(해상장비:GRAB준설선)
A24: QH33 | B24: 문자 | C24: =25/20 * 16/12 * 1/8 -> 0.20833333 | D24: 시간당노임산출계수(해상장비:버켓준설선)
A25: QLINC1 | B25: 숫자 | C25: 1 | D25: 노임할증계수(일반구간:주간)
A26: QLINC2 | B26: 숫자 | C26: 1.5 | D26: 노임할증계수(일반구간:야간)
A27: QLINC3 | B27: 숫자 | C27: 1.16 | D27: 노임할증계수(일반구간:주야간)
A28: QLINCA | B28: 숫자 | C28: 1.6 | D28: 노임할증계수(터널구간:주간)
A29: QLINCB | B29: 숫자 | C29: 1.6 | D29: 노임할증계수(터널구간:야간)
A30: QLINCC | B30: 숫자 | C30: 1.6 | D30: 노임할증계수(터널구간:주야간)
A31: QLINCD | B31: 숫자 | C31: 1.94 | D31: 노임할증계수(장대터널:주간)
A32: QLINCE | B32: 숫자 | C32: 1.94 | D32: 노임할증계수(장대터널:야간)
A33: QLINCF | B33: 숫자 | C33: 1.94 | D33: 노임할증계수(장대터널:주야간)
A34: QLINCX | B34: 숫자 | C34: 1 | D34: 노임할증계수(해상장비:주간)
A35: QLINCY | B35: 숫자 | C35: 1 | D35: 노임할증계수(해상장비:야간)
A36: QLINCZ | B36: 숫자 | C36: 1 | D36: 노임할증계수(해상장비:주야간)
A37: QDECPLA | B37: 문자 | C37: 1 | D37: 노임단가소숫점
A38: QDECCLA | B38: 문자 | C38: 1 | D38: 노임금액소숫점
A39: QDECLA | B39: 문자 | C39: 0 | D39: 노임계금액소숫점
A40: QMINC2 | B40: 숫자 | C40: 1.11 | D40: 재료비할증계수(야간)
A41: QMINC3 | B41: 숫자 | C41: 1.12 | D41: 재료비할증계수(주야간)
A42: QDECPMA | B42: 문자 | C42: 2 | D42: 재료비단가소숫점
A43: QDECCMA | B43: 문자 | C43: 1 | D43: 재료비금액소숫점
A44: QDECMA | B44: 문자 | C44: 0 | D44: 재료비계금액소숫점
A45: QVER | B45: 문자 | C45: 0
A46: QSABUN | B46: 문자
A47: QDATE | B47: 문자

Sheet 자재
A1: 자재
K2: 태현개발주식회사. http://taehyeon.co.kr
A3: 명 칭 | B3: 규 격 | C3: 단 위 | D3: 단 가 | E3: 비 고

Sheet 노임
A1: 노임
K2: 태현개발주식회사. http://taehyeon.co.kr
A3: 명 칭 | B3: 규 격 | C3: 단 위 | D3: 단 가 | E3: 비 고

Sheet 경비
A1: 경비
K2: 태현개발주식회사. http://taehyeon.co.kr
A3: 명 칭 | B3: 규 격 | C3: 단 위 | D3: 재 료 비 | E3: 노 무 비 | F3: 경 비 | G3: 합 계 | H3: 비 고

Sheet 전역변수
A1: 전역변수
K2: 태현개발주식회사. http://taehyeon.co.kr
A3: 변 수 명 | B3: 형 식 | C3: 값 | D3: 비 고 | E3: 적용단위
